BEGIN:VCALENDAR
VERSION:2.0
PRODID:-//MiamiCars.com - ECPv6.0.1.1//NONSGML v1.0//EN
CALSCALE:GREGORIAN
METHOD:PUBLISH
X-WR-CALNAME:MiamiCars.com
X-ORIGINAL-URL:https://www.miamicars.com
X-WR-CALDESC:Events for MiamiCars.com
REFRESH-INTERVAL;VALUE=DURATION:PT1H
X-Robots-Tag:noindex
X-PUBLISHED-TTL:PT1H
BEGIN:VTIMEZONE
TZID:America/New_York
BEGIN:DAYLIGHT
TZOFFSETFROM:-0500
TZOFFSETTO:-0400
TZNAME:EDT
DTSTART:20180311T070000
END:DAYLIGHT
BEGIN:STANDARD
TZOFFSETFROM:-0400
TZOFFSETTO:-0500
TZNAME:EST
DTSTART:20181104T060000
END:STANDARD
BEGIN:DAYLIGHT
TZOFFSETFROM:-0500
TZOFFSETTO:-0400
TZNAME:EDT
DTSTART:20190310T070000
END:DAYLIGHT
BEGIN:STANDARD
TZOFFSETFROM:-0400
TZOFFSETTO:-0500
TZNAME:EST
DTSTART:20191103T060000
END:STANDARD
END:VTIMEZONE
BEGIN:VEVENT
DTSTART;TZID=America/New_York:20190227T150000
DTEND;TZID=America/New_York:20190227T170000
DTSTAMP:20260422T115733
CREATED:20190123T023450Z
LAST-MODIFIED:20190123T023450Z
UID:3349-1551279600-1551286800@www.miamicars.com
SUMMARY:LIME MOPAR MEET
DESCRIPTION:Every month on the fourth Wednesday.  Hosted by the South Miami MOPAR Connection Car Club.  All members and guests can enjoy 20% off the entire menu plus awesome parking.  SMMC is always recruiting new members who have a passion for MOPARs.
URL:https://www.miamicars.com/event/lime-mopar-meet/
LOCATION:LIME MEXICAN GRILL KENDALL\, 12516 SW 88 STREET\, MIAMI\, FL\, 33186\, United States
CATEGORIES:Auto Show,Car Show,Cars and Coffee
ATTACH;FMTTYPE=image/jpeg:https://www.miamicars.com/wp-content/uploads/2019/01/Lime-Mopar.jpg
GEO:25.6855168;-80.3985912
X-APPLE-STRUCTURED-LOCATION;VALUE=URI;X-ADDRESS=LIME MEXICAN GRILL KENDALL 12516 SW 88 STREET MIAMI FL 33186 United States;X-APPLE-RADIUS=500;X-TITLE=12516 SW 88 STREET:geo:-80.3985912,25.6855168
END:VEVENT
BEGIN:VEVENT
DTSTART;TZID=America/New_York:20190127T030000
DTEND;TZID=America/New_York:20190127T130000
DTSTAMP:20260422T115733
CREATED:20190123T022403Z
LAST-MODIFIED:20190123T022403Z
UID:3345-1548558000-1548594000@www.miamicars.com
SUMMARY:Autocross Cars - Coffee - Racing
DESCRIPTION:Street Racing Made Safe has officially partnered with the AMR Motorplex for our Autocrossing Program incorporating multiple event dates and programs for drivers and spectators alike. Located just minutes from Miami\, Florida AMR Motorplex is South Florida’s premier karting facility. The event gives the public a Cars & Coffee type environment with the racing factor added to the mix. Food Trucks\, Vendors\, Discounted Go-Kart Rentals\, Auto Crossing all day and much more! Join us November 11th for a truly fun\, exciting experience!!! \nThis event we will run the track in reverse! \nRemember to register for racing!!!! \nwww.shop.streetracingmadesafe.com/ \nFor vendor information : Mario@streetracingmadesafe.com
URL:https://www.miamicars.com/event/autocross-cars-coffee-racing/
LOCATION:AMR Complex\, 1835 SE 38 AVE\, HOMESTEAD\, FL\, United States
CATEGORIES:Auto Show,Car Show,Cars and Coffee
ATTACH;FMTTYPE=image/jpeg:https://www.miamicars.com/wp-content/uploads/2019/01/autocross.jpg
GEO:25.4532489;-80.4197472
X-APPLE-STRUCTURED-LOCATION;VALUE=URI;X-ADDRESS=AMR Complex 1835 SE 38 AVE HOMESTEAD FL United States;X-APPLE-RADIUS=500;X-TITLE=1835 SE 38 AVE:geo:-80.4197472,25.4532489
END:VEVENT
BEGIN:VEVENT
DTSTART;TZID=America/New_York:20190127T020000
DTEND;TZID=America/New_York:20190127T060000
DTSTAMP:20260422T115733
CREATED:20190123T021110Z
LAST-MODIFIED:20190123T021110Z
UID:3339-1548554400-1548568800@www.miamicars.com
SUMMARY:Supercar Hotrods and Bikes
DESCRIPTION:
URL:https://www.miamicars.com/event/supercar-hotrods-and-bikes/
LOCATION:Supercar Hotrods and Bike Cafe\, 175 NW 20th Street\, Wynwood\, FL\, United States
CATEGORIES:Auto Show,Car Show,Cars and Coffee
ATTACH;FMTTYPE=image/jpeg:https://www.miamicars.com/wp-content/uploads/2019/01/supercar2.jpg
GEO:25.7955491;-80.198338
X-APPLE-STRUCTURED-LOCATION;VALUE=URI;X-ADDRESS=Supercar Hotrods and Bike Cafe 175 NW 20th Street Wynwood FL United States;X-APPLE-RADIUS=500;X-TITLE=175 NW 20th Street:geo:-80.198338,25.7955491
END:VEVENT
BEGIN:VEVENT
DTSTART;TZID=America/New_York:20190126T120000
DTEND;TZID=America/New_York:20190126T163000
DTSTAMP:20260422T115733
CREATED:20190123T020206Z
LAST-MODIFIED:20190123T020206Z
UID:3334-1548504000-1548520200@www.miamicars.com
SUMMARY:Kustom Wheels Car Show
DESCRIPTION:Car show and monthly cruise night and the home of the real Mach 5 and the real Eleanor.\n(Miami’s best and oldest running Car show event since 1985) fourth Saturday of every month at 12310 SW 8st Miami Florida 33184 featuring vendors and live music.
URL:https://www.miamicars.com/event/kustom-wheels-car-show/
LOCATION:K-Mart SW 8 & 123rd\, 12310 SW 8 Street\, Miami\, FL\, United States
CATEGORIES:Auto Show,Car Show,Cars and Coffee
ATTACH;FMTTYPE=image/jpeg:https://www.miamicars.com/wp-content/uploads/2019/01/Kustom-wheels-car-show.jpg
GEO:25.7604928;-80.3953953
X-APPLE-STRUCTURED-LOCATION;VALUE=URI;X-ADDRESS=K-Mart SW 8 & 123rd 12310 SW 8 Street Miami FL United States;X-APPLE-RADIUS=500;X-TITLE=12310 SW 8 Street:geo:-80.3953953,25.7604928
END:VEVENT
BEGIN:VEVENT
DTSTART;VALUE=DATE:20190111
DTEND;VALUE=DATE:20190113
DTSTAMP:20260422T115733
CREATED:20181204T184642Z
LAST-MODIFIED:20181204T184642Z
UID:2982-1547233200-1547319599@www.miamicars.com
SUMMARY:So Flo Throw Down 19 at Palm Beach International Raceway
DESCRIPTION:  \n\n\n\n\n\n\n\n\n\n\nView this post on Instagram\n\n\n\n\n\n\n\n\n\n\n\n\n\n\n\n\n\n\n  \nYes! It’s going down once again! @street_warriorz & @clean_culture are teaming up with @haonly__ and @vmsracing to bring you the #SoFloThrowdown19 featuring a Honda & Acura 40 Roll Shootout with a $1000 Prize + a sick trophy + a set of VMS Drag Wheels 🏁🏁 Who is ready for another banger 🔥🔥 . 📆: January 12\, 2019 📍: @racepbir 🕖: 5PM – 11PM 💰: $25 to watch | $30 to race | $25 Buy in for Honda Acura Shootout . ➖Racing | Car show | Burnout Contest | Dance Party | 2-Step Competition ➖ . #StreetWarriorz #CleanCulture #HAOnly #VMSRacing #wethrowbangers #honda #acura #hondatuning #hondalifestyle #hondalove #hondalife #hondalove #vtec #vtectunjng #vtecnation #vteclub \nA post shared by  Miami Car Meets (@miamicarmeets) on Dec 3\, 2018 at 4:52pm PST
URL:https://www.miamicars.com/event/so-flo-throw-down-19-at-palm-beach-international-raceway/
LOCATION:Palm Beach International Raceway\, 17047 Bee Line Highway\, Jupiter\, FL\, 33478\, United States
CATEGORIES:Auto Show,Racing
ATTACH;FMTTYPE=image/jpeg:https://www.miamicars.com/wp-content/uploads/2018/12/46889246_264082220948312_2605109691253462566_n.jpg
GEO:26.9172166;-80.3054455
X-APPLE-STRUCTURED-LOCATION;VALUE=URI;X-ADDRESS=Palm Beach International Raceway 17047 Bee Line Highway Jupiter FL 33478 United States;X-APPLE-RADIUS=500;X-TITLE=17047 Bee Line Highway:geo:-80.3054455,26.9172166
END:VEVENT
BEGIN:VEVENT
DTSTART;TZID=America/New_York:20181111T060000
DTEND;TZID=America/New_York:20181111T090000
DTSTAMP:20260422T115733
CREATED:20181109T203828Z
LAST-MODIFIED:20181109T203828Z
UID:2533-1541916000-1541926800@www.miamicars.com
SUMMARY:Exotics on Las Olas
DESCRIPTION:  \n\n\n\n\n\n\n\n\n\n\nView this post on Instagram\n\n\n\n\n\n\n\n\n\n\n\n\n\n\n\n\n\n\n  \n#Repost @exoticsonlasolas 📷 Made by @pixel_leap 🔥🔥🔥🔥🔥🔥🔥🔥🔥🔥🔥🔥🔥🔥🔥🔥🔥🔥🔥🔥 · · · · ✌️more day😳🔝 See you tomorrow @supercarsaturdaysflorida 10am-1pm @lamborghinibroward #funrun #crew #supercarweekend @exoticsonlasolas Veterans Day 11/11/18\, 11am-2pm @lasolasblvd @woundveteransrelieffund @visitlauderdale #carshow #streettakeover \nA post shared by  FastLifeRally 😎🔥🏁🚘🌎 (@fastliferally) on Nov 9\, 2018 at 5:18am PST
URL:https://www.miamicars.com/event/exotics-on-las-olas/
LOCATION:FL
CATEGORIES:Auto Show,Cars and Coffee
ATTACH;FMTTYPE=image/jpeg:https://www.miamicars.com/wp-content/uploads/2018/11/44820232_266712150714476_7849721161598936742_n.jpg
END:VEVENT
BEGIN:VEVENT
DTSTART;TZID=America/New_York:20181005T130000
DTEND;TZID=America/New_York:20181013T190000
DTSTAMP:20260422T115733
CREATED:20180925T185946Z
LAST-MODIFIED:20180925T185946Z
UID:799-1538744400-1539457200@www.miamicars.com
SUMMARY:Miami International Auto Show
DESCRIPTION:After decades of continuous runs of the Miami International Auto Show\, last year’s show was canceled due to Hurricane Irma.  It’s now been close to two years since the last auto show\, but the Miami International Auto Show is coming back and promises to be better than ever. \nThe Auto Show returns October 5 – 13th at the Miami Beach Convention Center. \nBuy tickets online at:  https://secure.interactiveticketing.com/1.23/fc3ed6/#/select?utm_campaign=AutoShow&utm_medium=EXFB&utm_source=WPLM
URL:https://www.miamicars.com/event/miami-international-auto-show/
LOCATION:Miami Beach Convention Center\, 1901 Convention Center Dr\, Miami Beach\, FL 33139\, Miami Beach\, FL\, 33139\, United States
CATEGORIES:Auto Show
ATTACH;FMTTYPE=image/jpeg:https://www.miamicars.com/wp-content/uploads/2018/09/11229819_10153127782651317_7033530018472358582_n.jpg
GEO:25.7947559;-80.1337864
X-APPLE-STRUCTURED-LOCATION;VALUE=URI;X-ADDRESS=Miami Beach Convention Center 1901 Convention Center Dr Miami Beach FL 33139 Miami Beach FL 33139 United States;X-APPLE-RADIUS=500;X-TITLE=1901 Convention Center Dr\, Miami Beach\, FL 33139:geo:-80.1337864,25.7947559
END:VEVENT
END:VCALENDAR