BEGIN:VCALENDAR
VERSION:2.0
PRODID:-//MiamiCars.com - ECPv6.0.1.1//NONSGML v1.0//EN
CALSCALE:GREGORIAN
METHOD:PUBLISH
X-WR-CALNAME:MiamiCars.com
X-ORIGINAL-URL:https://www.miamicars.com
X-WR-CALDESC:Events for MiamiCars.com
REFRESH-INTERVAL;VALUE=DURATION:PT1H
X-Robots-Tag:noindex
X-PUBLISHED-TTL:PT1H
BEGIN:VTIMEZONE
TZID:America/New_York
BEGIN:DAYLIGHT
TZOFFSETFROM:-0500
TZOFFSETTO:-0400
TZNAME:EDT
DTSTART:20220313T070000
END:DAYLIGHT
BEGIN:STANDARD
TZOFFSETFROM:-0400
TZOFFSETTO:-0500
TZNAME:EST
DTSTART:20221106T060000
END:STANDARD
BEGIN:DAYLIGHT
TZOFFSETFROM:-0500
TZOFFSETTO:-0400
TZNAME:EDT
DTSTART:20230312T070000
END:DAYLIGHT
BEGIN:STANDARD
TZOFFSETFROM:-0400
TZOFFSETTO:-0500
TZNAME:EST
DTSTART:20231105T060000
END:STANDARD
END:VTIMEZONE
BEGIN:VEVENT
DTSTART;TZID=America/New_York:20231027T140000
DTEND;TZID=America/New_York:20231027T180000
DTSTAMP:20260419T123604
CREATED:20230315T165541Z
LAST-MODIFIED:20230315T165541Z
UID:22393-1698415200-1698429600@www.miamicars.com
SUMMARY:3rd Annual Fort Lauderdale Concours
DESCRIPTION:Friday\, 27 October 2023\n6pm to 10pm\nSuper Yacht Village\n2150 SE 17th Street\nFort Lauderdale\, Florida 33316 \nSuperyacht Village is an exclusive marina featuring some of the largest and most luxurious vessels in the world. Located at Pier Sixty-Six Hotel & Marina’s new “Pier South” property\, adjacent to the southeast corner of the 17th Street Causeway bridge.
URL:https://www.miamicars.com/event/3rd-annual-fort-lauderdale-concours/
LOCATION:Super Yacht Village\, 2150 SE 17th Street\, Fort Lauderdale\, Miami\, FL\, 33316\, United States
CATEGORIES:Concours Event
ATTACH;FMTTYPE=image/jpeg:https://www.miamicars.com/wp-content/uploads/2023/03/FT.jpg
GEO:26.1002987;-80.1166102
X-APPLE-STRUCTURED-LOCATION;VALUE=URI;X-ADDRESS=Super Yacht Village 2150 SE 17th Street Fort Lauderdale Miami FL 33316 United States;X-APPLE-RADIUS=500;X-TITLE=2150 SE 17th Street\, Fort Lauderdale:geo:-80.1166102,26.1002987
END:VEVENT
BEGIN:VEVENT
DTSTART;TZID=America/New_York:20230617T040000
DTEND;TZID=America/New_York:20230617T130000
DTSTAMP:20260419T123604
CREATED:20230526T231451Z
LAST-MODIFIED:20230526T231451Z
UID:32284-1686974400-1687006800@www.miamicars.com
SUMMARY:2nd Annual Delray Beach Concours d’Elegance
DESCRIPTION:A garden party of automotive excellence celebrating Father’s Day  Celebrating automotive history with 125 of the finest vehicles in the world\, $70 million worth\, on display for the public community of all ages to experience.  Spectators are free to attend. \nThis event will benefit: \n\n\nAchievement Center for Children & Families\nDelray Citizens for Delray Police\nDelray Fire Benevolent\nCommunity Classroom Kitchen\nMiracle League of Palm Beach County
URL:https://www.miamicars.com/event/2nd-annual-delray-beach-concours-delegance/
LOCATION:Old School Square\, 180 NE 1st Street\, Miami\, FL\, 33444\, United States
CATEGORIES:Concours Event
ATTACH;FMTTYPE=image/jpeg:https://www.miamicars.com/wp-content/uploads/2023/05/NEw.jpg
GEO:25.7750352;-80.190567
X-APPLE-STRUCTURED-LOCATION;VALUE=URI;X-ADDRESS=Old School Square 180 NE 1st Street Miami FL 33444 United States;X-APPLE-RADIUS=500;X-TITLE=180 NE 1st Street:geo:-80.190567,25.7750352
END:VEVENT
BEGIN:VEVENT
DTSTART;TZID=America/New_York:20230324T153000
DTEND;TZID=America/New_York:20230324T183000
DTSTAMP:20260419T123604
CREATED:20230315T165152Z
LAST-MODIFIED:20230315T165152Z
UID:22389-1679671800-1679682600@www.miamicars.com
SUMMARY:New York City Concours at Palm Beach
DESCRIPTION:The New York City Concours at Palm Beach presented by Lotus — an exuberant party celebrating classic and exotic cars in collaboration with the Palm Beach International Boat Show. \nJoin us as the hip\, vibrant New York City scene intersects with the serene vibe of Palm Beach creating an electric party unlike any other classic car event. \nTaking place on the Friday evening of the Palm Beach Boat Show\, come see the beauty of rarely seen classic cars uniquely displayed at Downtown West Palm Beach waterfront’s Centennial Square with VIP hospitality at The Boat Show’s Windward Club. \nIt’s a unique\, dynamic destination offering an authentic urban experience with a tropical twist! \n•    A dozen classic and exotic cars\n•    A close-up look at the amazing Emira from Lotus\n•    A gallery curated by artist Vincent Peters\n•    A live performance by the Valerie Tyson Band\n•    An open bar with delicious canapés\n•    Amongst beautiful yachts \nEvent Details:\nDate: Friday\, 24 March\nTime: 7:30pm – 10:30pm\nLocation: Enter the event at Centennial Square 150 N. Clematis Street\nWest Palm Beach \nPlenty of nearby public parking and easily walkable from West Palm Beach Brightline Train Station \nTo attend The Concours evening party click here for tickets \nTo attend the Boat Show by day and The Concours by night\, the Boat Show is offering a combo VIP Windward Club/Concours ticket click here for tickets\nThere are a limited number of tickets available\, act fast!
URL:https://www.miamicars.com/event/new-york-city-concours-at-palm-beach/
LOCATION:Centennial Square\, 150 N. Clematis Street West Palm Beach\, Miami\, FL\, United States
CATEGORIES:Concours Event
ATTACH;FMTTYPE=image/jpeg:https://www.miamicars.com/wp-content/uploads/2023/03/rnr.jpg
GEO:26.7136697;-80.0501052
X-APPLE-STRUCTURED-LOCATION;VALUE=URI;X-ADDRESS=Centennial Square 150 N. Clematis Street West Palm Beach Miami FL United States;X-APPLE-RADIUS=500;X-TITLE=150 N. Clematis Street West Palm Beach:geo:-80.0501052,26.7136697
END:VEVENT
BEGIN:VEVENT
DTSTART;TZID=America/New_York:20230224T050000
DTEND;TZID=America/New_York:20230226T110000
DTSTAMP:20260419T123604
CREATED:20230224T231909Z
LAST-MODIFIED:20230224T232449Z
UID:21877-1677214800-1677409200@www.miamicars.com
SUMMARY:Boca Raton Concours d’Elegance
DESCRIPTION:Come and be part of the celebration for the 16th Annual Boca Raton Concours d’Elegance\, which will take place over three days from February 24 to 26\, 2023. This event is the largest charity-organized Concours in the world and has been growing rapidly. The Concours starts with a Private VIP Reception on Friday night\, followed by a Gala Dinner & Show on Saturday that will be extraordinary and set a new standard for future gala events. The main event happens on Sunday when a team of experts judge a selection of the most exceptional cars and motorcycles ever built. Since our first Concours\, The Boca Raton has proudly hosted this prestigious event to benefit the Boys & Girls Clubs of Broward County.
URL:https://www.miamicars.com/event/boca-raton-concours-delegance/
LOCATION:Boca Raton Luxury Resort\, 501 E Camino Real\, Miami\, FL\, 33432\, United States
CATEGORIES:Car Show,Concours Event
ATTACH;FMTTYPE=image/jpeg:https://www.miamicars.com/wp-content/uploads/2023/02/EventDetailsImage11-1.jpg
GEO:26.3426656;-80.0781121
X-APPLE-STRUCTURED-LOCATION;VALUE=URI;X-ADDRESS=Boca Raton Luxury Resort 501 E Camino Real Miami FL 33432 United States;X-APPLE-RADIUS=500;X-TITLE=501 E Camino Real:geo:-80.0781121,26.3426656
END:VEVENT
BEGIN:VEVENT
DTSTART;TZID=America/New_York:20221028T140000
DTEND;TZID=America/New_York:20221028T180000
DTSTAMP:20260419T123604
CREATED:20221026T230902Z
LAST-MODIFIED:20221026T232533Z
UID:19883-1666965600-1666980000@www.miamicars.com
SUMMARY:2nd Annual Fort Lauderdale Concours
DESCRIPTION:Where cars & culture intersect.  Super cars\, super yachts and super people are coming together for the 2nd Annual Fort Lauderdale Concours (FTLC). \nFTLC is a luxury lifestyle event featuring 30 rarely-see\, classic and exotic cars mixed with pop culture and art curations\, live Music from the Valerie Tyson Band and DJ Anna de Ferran (ADF) and Zaddy fashion – all enjoyed while dining on unlimited canapes and cocktails. \nThe mission of the Concours is to not only reinvigorate the passion of established car collectors and enthusiasts\, but to create a cosmopolitan and distinctive culture that attracts a new generation of enthusiasts. This year the FTLC will take place at the Superyacht Village\, an exclusive marina featuring some of the largest and most luxurious vessels in the world. \nAdvanced tickets are $125.00 and $150.00 starting 17 October. Additionally\, in collaboration with the renowned Fort Lauderdale International Boat Show (FLIBS)\, a discounted combination ticket can be purchased for the FLTC and FLIBS Winward VIP Experience (Friday only) for $420.00 — offering a unique confluence of the automotive and recreational marine enthusiast in an ambiance of grandeur not previously presented. \nFTLC is a proud supporter of the Fort Lauderdale International Film Festival (FLIFF). \nRain or shine
URL:https://www.miamicars.com/event/2nd-annual-fort-lauderdale-concours/
LOCATION:Superyacht Village\, 2150 SE 17th St\, Fort Lauderdale\, FL\, 33316\, United States
CATEGORIES:Car Show,Concours Event
ATTACH;FMTTYPE=image/jpeg:https://www.miamicars.com/wp-content/uploads/2022/10/FTLC-Jag.jpeg
GEO:26.1002987;-80.1166102
X-APPLE-STRUCTURED-LOCATION;VALUE=URI;X-ADDRESS=Superyacht Village 2150 SE 17th St Fort Lauderdale FL 33316 United States;X-APPLE-RADIUS=500;X-TITLE=2150 SE 17th St:geo:-80.1166102,26.1002987
END:VEVENT
BEGIN:VEVENT
DTSTART;TZID=America/New_York:20220220T050000
DTEND;TZID=America/New_York:20220220T050000
DTSTAMP:20260419T123604
CREATED:20220218T080813Z
LAST-MODIFIED:20220218T080813Z
UID:14163-1645333200-1645333200@www.miamicars.com
SUMMARY:EXOTICS & ESPRESSO
DESCRIPTION:SAVE THE DATE: Exotics & Espressos is back this Sunday\, February 20th for the @MiamiConcours! Starting at 10AM on the top floor of the Museum Garage in the @MiamiDesignDistrict\, Lamborghini Miami is hosting Exotics & Espressos for all supercar owners. Spots are limited so RSVP your supercar parking by contacting marketing@prestigeimports.com today.
URL:https://www.miamicars.com/event/exotics-espresso/
LOCATION:NE 2ND AVENUE & 41ST STREET\, NE 2ND AVENUE & 41ST STREET\, Miami\, FL\, 33137\, United States
CATEGORIES:Auto Show,Car Show,Cars and Coffee,Concours Event,Exotic Car Gathering
ATTACH;FMTTYPE=image/jpeg:https://www.miamicars.com/wp-content/uploads/2022/02/Screen-Shot-2022-02-17-at-10.05.12-PM.jpg
GEO:25.8142542;-80.1914298
X-APPLE-STRUCTURED-LOCATION;VALUE=URI;X-ADDRESS=NE 2ND AVENUE & 41ST STREET NE 2ND AVENUE & 41ST STREET Miami FL 33137 United States;X-APPLE-RADIUS=500;X-TITLE=NE 2ND AVENUE & 41ST STREET:geo:-80.1914298,25.8142542
END:VEVENT
BEGIN:VEVENT
DTSTART;TZID=America/New_York:20220218T060000
DTEND;TZID=America/New_York:20220220T120000
DTSTAMP:20260419T123604
CREATED:20220218T074703Z
LAST-MODIFIED:20220218T074703Z
UID:14159-1645164000-1645358400@www.miamicars.com
SUMMARY:Miami Concours - Miami Design District
DESCRIPTION:THE FIFTH ANNUAL MIAMI DESIGN DISTRICT CONCOURS FEATURING THE MOST SIGNIFICANT POST WAR AUTOMOBILES EVER PRODUCED. \nThe 2022 Miami Concours will honor legendary collector\, Motorsport innovator\, and automotive manufacturer James Glickenhaus\, featuring a selection of historic cars from his personal collection\, two new Glickenhaus production cars\, and the Miami unveiling of an important racing car. \nIn addition to the iconic American hypercars\, the Miami Concours will feature 60 hand-picked entries of the most sought-after exotic post-war automobiles entered by some of the country’s most significant collectors. Uniquely\, all cars will be presented on a spectacular red carpet which will run throughout the Design District. \nVisitors can also attend multiple events throughout the Miami Concours\, including a Craig Robins Art Tour\, Miami Design District Automotive Tour with John Temerian Jr. Pagani of Miami\, the unveiling of the first Huayra BC Tempestas and the newly completed Huayra Tempesta for the public to see. \nOn February 20th\, the Concours will close with an awards ceremony presented by Pininfarina that features a renowned panel of judges\, including Mark Moskowitz MD\, Board of Directors of Carolina Motorsports Park and Vice Chairman of the Board of Directors of The Motorsports Hall of Fame of America\, and guest judge\, racing legend and television broadcaster Tommy Kendall. \nFRIDAY 18TH & SATURDAY 19TH: 11AM – 8PM \nCONCOURS PREVIEW\nSATURDAY 19TH & SUNDAY 20TH: 11AM – 5PM \nPADDOCK AT THE JUNGLE PLAZA – AUTOMOBILE SPOTLIGHT & LOUNGE\nSUNDAY 20TH: 11AM – 5PM \nMAIN RED CARPET EVENT\nCONCOURS & AWARD CEREMONY \n​ \n\nFRIDAY & SATURDAY: 11AM – 8PM. \nCONCOURS PREVIEW – SELECTION OF CARS ON DISPLAY \nTHROUGHOUT THE DISTRICT. \nSUNDAY 20TH: 11AM – 5PM \nMAIN RED CARPET EVENT \nCONCOURS & AWARD CEREMONY
URL:https://www.miamicars.com/event/miami-concours-miami-design-district/
LOCATION:Miami Design District\, 3801 NE 1st Avenue\, Miami\, FL\, 33137\, United States
CATEGORIES:Auto Show,Car Show,Classic Car Show,Concours Event,Exotic Car Gathering
ATTACH;FMTTYPE=image/jpeg:https://www.miamicars.com/wp-content/uploads/2022/02/miami-concours.jpeg
GEO:25.812045;-80.1931233
X-APPLE-STRUCTURED-LOCATION;VALUE=URI;X-ADDRESS=Miami Design District 3801 NE 1st Avenue Miami FL 33137 United States;X-APPLE-RADIUS=500;X-TITLE=3801 NE 1st Avenue:geo:-80.1931233,25.812045
END:VEVENT
END:VCALENDAR