BEGIN:VCALENDAR
VERSION:2.0
PRODID:-//MiamiCars.com - ECPv6.0.1.1//NONSGML v1.0//EN
CALSCALE:GREGORIAN
METHOD:PUBLISH
X-ORIGINAL-URL:https://www.miamicars.com
X-WR-CALDESC:Events for MiamiCars.com
REFRESH-INTERVAL;VALUE=DURATION:PT1H
X-Robots-Tag:noindex
X-PUBLISHED-TTL:PT1H
BEGIN:VTIMEZONE
TZID:America/New_York
BEGIN:DAYLIGHT
TZOFFSETFROM:-0500
TZOFFSETTO:-0400
TZNAME:EDT
DTSTART:20230312T070000
END:DAYLIGHT
BEGIN:STANDARD
TZOFFSETFROM:-0400
TZOFFSETTO:-0500
TZNAME:EST
DTSTART:20231105T060000
END:STANDARD
END:VTIMEZONE
BEGIN:VEVENT
DTSTART;TZID=America/New_York:20230506T163000
DTEND;TZID=America/New_York:20230507T163000
DTSTAMP:20260425T231133
CREATED:20230428T004252Z
LAST-MODIFIED:20230428T004252Z
UID:29549-1683390600-1683477000@www.miamicars.com
SUMMARY:2023 Miami Race Weekend
DESCRIPTION:2023 MIAMI RACE WEEKEND\nLIGHTS OUT\nDIPLO – CLAPTONE – KERRI CHANDLER – PLASTIK FUNK – UNKOMMON\nMAY 6\, 2023\n1-877-629-4602\n\n*21 and Over Event\n\n\n\n\n\n\n\n\n\n  \nThe 2022 Miami Race Weekend Party established itself as the #1 VIP party held during the inaugural year of the race in Miami. Drawing world-class entertainment together with celebrities\, industry leaders and luxury brands over a 3-night weekend\, this party became an iconic event for the worldwide jet-setter clientele. \n  \nIn 2023\, co-producers unKommon events and Hurry Up Slowly present – LIGHTS OUT – The 2023 Miami Race Weekend with Diplo\, Claptone\, Kerri Chandler\, Plastik Funk\, unKommon and more. Held at The Toejam Backlot in the Wynwood Art District\, this incredible venue creates the perfect Miami vibe for this year’s VIP Event. Join the party and elevate your Miami race weekend experience. \n  \n  \n\nA-List Performances from Today’s Hottest Talent\nCelebrities\, Models\, Influencers\nA VIP Miami Race Weekend Event\n\n  \n  \n\n\n\n\n\nHighlights from the 2022 Miami Race Weekend \n  \n  \n  \n  \n  \nHeadlining Performance\n\n\n\n\n\n\n\n\n\n\n\n\n\n\n\n\n  \nAmerican DJ and Producer Diplo with his versatile style has created collaborations with the biggest names in entertainment including Britney Spears\, Madonna\, Justin Bieber\, Chris Brown\, Shakira\, No Doubt and Snoop Dogg to name a few. His achievements are rooted in a passion for rap\, hip-hop\, house and Miami bass. These sounds continue to play a key role in his ever-evolving style garnishing world-wide acclaim. \n  \n  \n  \n\n\nHeadlining Performance\n\n\n\n\n\n\n\n\n\n\n\n\n\n\n\n\n\nThe man with the golden mask\, Enigmatic DJ and producer Claptone\, brings The Masquerade\, his spellbinding event concept\, to Miami during F1 Miami Grand Prix weekend. The Masquerade has quickly become a highly coveted party series\, promising magic\, mystery and intrigue\, within a supercharged environment of wonder alongside a specially curated selection of house artists. An experience that can’t be missed. \n  \n  \n  \n\n\nPerformance\n\n\n\n\n\n\n\n\n\n\n\n\n\n\n\n\n  \nKerri Chandler is an iconic DJ and Producer\, injecting soul into music since the early 90s. Kerri is a house legend\, inspiration\, key figure\, and a true house music purveyor. An ambassador of the natural and instinctive 4/4 beat\, Kerri’s influences can be traced back to New Jersey growing up in a family of jazz musicians. His father\, a respected deejay\, provided Kerri with a rich background in the origins of soul\, disco and the New York Underground Sound (known also as “Garage” music). \n  \n  \n  \n  \n  \nPerformance\n\n\n\n\n\n\n\n\n\n\n\n\n\n\n\n\n\nFor over two decades Plastik Funk (Rafael Ximenez) has worked his way up the DJ Community and electronic music industry ladder. His collaboration ‘Who’ with Tujamo which became a worldwide hit; has been played by the likes of Tiesto\, Steve Angello\, Nicky Romero\, and Afrojack. Since its success\, Plastik Funk has consistently gained peak positions on the international dance and Beatport charts. His most popular release “Dr.Who!” cracked the top 20 on the overall UK singles chart. \n  \n  \n  \n\n\n\n\n\nThe Venue\n\n\nToejam Backlot\n\n\nOne of the Most Unique Venues You Will Ever Encounter.\n\n\nAn Experience Within Itself!\n\n\n\n\n\n\n\n\n\n\n\n\n\n\n:: TICKETS ::\n\n\n\nGENERAL ADMISSION TICKET\n\n\n$99\n\n\n\nACCESS TO GENERAL ADMISSION AREAS\nOPEN BAR (SPONSORED ALCOHOL ONLY)\nACCESS TO BRAND ACTIVATIONS\n\n  \n  \n\nVIP TICKET\n\n\n$250\n\n\n\nACCESS TO GENERAL ADMISSION AREAS\nACCESS TO VIP AREAS\nACCESS TO FRONT STAGE PIT\nOPEN BAR (SPONSORED ALCOHOL ONLY)\nACCESS TO BRAND ACTIVATIONS\n\n  \n  \n\nDRIVER’S BACKSTAGE LOUNGE TICKET\n\n\n$500\n\n\n\n\nACCESS TO GENERAL ADMISSION AREAS\nACCESS TO VIP AREAS\nACCESS TO FRONT STAGE PIT\nACCESS TO THE BACKSTAGE LOUNGE AND GREEN ROOM AREAS\nOPEN BAR (SPONSORED ALCOHOL ONLY)\nACCESS TO BRAND ACTIVATIONS\n\n\n\n\n\n\n:: VIP TABLE PACKAGES ::\n\n\n  \n  \n\n  \n\n\n\n\n\n\n\n\n\nSet Times\n\n8:30 pm – 10:00 pm: Plastik Funk\n10:00 pm to 11:00 pm: Kerri Chandler\n11:00 pm to 1:00 am: Claptone\n1:00 am to 3:00 am: Diplo\n3:00 am to Close: unKommon\n  \n  \n  \nCall 1-877-629-4602 For Tickets\, VIP Tables\, Custom Packages\, and Questions\n\n\nWe will help you select the best possible VIP Table location with real-time availability. Want something more? We can customize a VIP Table for your group. You will always receive the lowest available rate. Our VIP Hosts are available to answer all your questions and assist you with your planning. \n\n\n\n\n  \nSECURE YOUR RESERVATION BY PURCHASING TICKETS AND VIP TABLES NOW AT THE LOWEST AVAILABLE RATE . \n  \n  \nVIP Exclusives is your Official VIP Host for the 2023 Miami Race Weekend Party Experience. We wish to provide you with the highest level of personal service. Our goal is to make sure that your 2023 Miami Race Weekend Experience exceeds your expectations. \n  \n  \nOur VIP Team looks forward to providing you with exceptional service. If you have any questions\, please feel free to contact us at 1-877-629-4602 and speak with an Official VIP Host. Whether you just need one ticket or a VIP Table package\, it will be our pleasure to arrange a first-class evening for you and your guests. We look forward to speaking with you! \n  \n  \nThe VIP Exclusives Difference\n\n\nOfficial VIP Host for the 2023 Miami Race Weekend Experience.\n\n\nThis is the #1 VIP Party of Miami Race Weekend.\n\n\nOfficial Tickets\, Tables and VIP Services at the lowest available price.\n\n\nCall us for REAL-TIME VIP Table Selection and Location.\n\n\nSpecializing in individual\, group and corporate hosting. We know how important the details are. Our expert staff will answer all of your questions and assist you with purchasing one ticket or an incredible VIP Table experience for you and your guests.\n\n\nOur VIP Hosts are onsite at the party and available to you before\, during and after the event\, Call us today at 1-877-629-4602 and we will be happy to assist you.\n\n\nVisit our website for details and media for all upcoming VIP Experiences. See what the VIP Experience is all about!\n\n  \n  \n  \n\n\n\n\n\nMiami Race Weekend Highlights
URL:https://www.miamicars.com/event/2023-miami-race-weekend/
LOCATION:Toejam Backlot\, 50 Northwest 21st Street\, Miami\, FL\, 33127\, United States
CATEGORIES:Miami Grand Prix
ATTACH;FMTTYPE=image/jpeg:https://www.miamicars.com/wp-content/uploads/2023/04/mgp1-1.jpg
GEO:25.796592;-80.196072
X-APPLE-STRUCTURED-LOCATION;VALUE=URI;X-ADDRESS=Toejam Backlot 50 Northwest 21st Street Miami FL 33127 United States;X-APPLE-RADIUS=500;X-TITLE=50 Northwest 21st Street:geo:-80.196072,25.796592
END:VEVENT
BEGIN:VEVENT
DTSTART;TZID=America/New_York:20230506T090000
DTEND;TZID=America/New_York:20230506T103000
DTSTAMP:20260425T231133
CREATED:20230428T003744Z
LAST-MODIFIED:20230428T003744Z
UID:29545-1683363600-1683369000@www.miamicars.com
SUMMARY:Racing Fan Fest
DESCRIPTION:ESPN is turning up the music by taking over the Racing Fan Fest Live stage in Miami for the first Formula 1 (F1) Grand Prix race in the United States this year with new creative\, live music performances\, curated playlists\, and more. \nOn Saturday\, May 6\, Gryffin will perform ‘Oceans’ in front of an expected 20\,000-plus fans during an exclusive early-access set at Wynwood Marketplace on 2250 NW Second Avenue. The song will be performed for the first time following its May 3 release. The set will be available live on ESPN and Gryffin’s YouTube channels so those who cannot attend can still soak in the music. To commemorate the moment\, fans will have the opportunity to receive F1 Rockstars of Racing t-shirts on-site. \nIn addition to the race telecast\, ESPN platforms also will air all three practice sessions from Miami as well as F1 qualifying. Racing Fan Fest\, produced by SWARM\, is the largest off-track fan festival and experiential special event experience. \nFor more information visit www.racingfanfest.com and follow us at @racingfanfest.com \n  \n\n\n\n\n\n\n\n\n\n\n\n\n\n\n\n\n\n\n\n\n\n\n\n\n\n\n\n\n\n\n\n\n\nRSVP + FREE DRINK
URL:https://www.miamicars.com/event/racing-fan-fest/
LOCATION:The Wynwood Marketplace\, 2250 NW 2nd Ave\, Miami\, FL\, 33127\, United States
CATEGORIES:Miami Grand Prix
ATTACH;FMTTYPE=image/jpeg:https://www.miamicars.com/wp-content/uploads/2023/04/https___cdn.evbuc_.com_images_500541899_184586633563_1_original.jpg
GEO:25.7986531;-80.1999289
X-APPLE-STRUCTURED-LOCATION;VALUE=URI;X-ADDRESS=The Wynwood Marketplace 2250 NW 2nd Ave Miami FL 33127 United States;X-APPLE-RADIUS=500;X-TITLE=2250 NW 2nd Ave:geo:-80.1999289,25.7986531
END:VEVENT
BEGIN:VEVENT
DTSTART;VALUE=DATE:20230504
DTEND;VALUE=DATE:20230508
DTSTAMP:20260425T231133
CREATED:20230425T004542Z
LAST-MODIFIED:20230425T004542Z
UID:29268-1683230400-1683489599@www.miamicars.com
SUMMARY:Miami Grand Prix 2023
DESCRIPTION:Get up to speed with everything you need to know about the 2023 Miami Grand Prix\, which takes place at the Miami International Autodrome in Florida\, USA\, on Sunday\, May 7.
URL:https://www.miamicars.com/event/miami-grand-prix-2023/
LOCATION:Miami International Autodrome at Hard Rock Statdium\, 347 Don Shula Drive\, Miami\, FL\, 33056\, United States
CATEGORIES:Miami Grand Prix,Racing
ATTACH;FMTTYPE=image/jpeg:https://www.miamicars.com/wp-content/uploads/2023/04/mgp-1.jpg
GEO:25.9582985;-80.239646
X-APPLE-STRUCTURED-LOCATION;VALUE=URI;X-ADDRESS=Miami International Autodrome at Hard Rock Statdium 347 Don Shula Drive Miami FL 33056 United States;X-APPLE-RADIUS=500;X-TITLE=347 Don Shula Drive:geo:-80.239646,25.9582985
END:VEVENT
BEGIN:VEVENT
DTSTART;TZID=America/New_York:20230407T110000
DTEND;TZID=America/New_York:20230407T133000
DTSTAMP:20260425T231133
CREATED:20230428T004519Z
LAST-MODIFIED:20230428T004519Z
UID:29554-1680865200-1680874200@www.miamicars.com
SUMMARY:Miami Grand Prix at The Yard
DESCRIPTION:Miami Grand Prix Watch Party 🏎 🏁\nSpend time with family watching the race on our Backyard or Hub big screens. Take photos with life-size driver cutouts and a few other surprises.\nEnjoy our featured drink specials. You can choose your favorite driver\, we mean\, drink (or try both):\nTHE MAX or THE CHECO 🍹\nPowered by Red Bull\nAdmission is free but an RSVP does not guarantee a table reservation. Please visit our reservations page to reserve a table. 
URL:https://www.miamicars.com/event/miami-grand-prix-at-the-yard/
LOCATION:The Doral Yard\, 8455 Northwest 53rd Street #Suite 106\, Doral\, FL\, 33166\, United States
CATEGORIES:Miami Grand Prix
ATTACH;FMTTYPE=image/jpeg:https://www.miamicars.com/wp-content/uploads/2023/04/mgp2-1.jpg
GEO:25.8200606;-80.3356338
X-APPLE-STRUCTURED-LOCATION;VALUE=URI;X-ADDRESS=The Doral Yard 8455 Northwest 53rd Street #Suite 106 Doral FL 33166 United States;X-APPLE-RADIUS=500;X-TITLE=8455 Northwest 53rd Street #Suite 106:geo:-80.3356338,25.8200606
END:VEVENT
END:VCALENDAR