BEGIN:VCALENDAR
VERSION:2.0
PRODID:-//MiamiCars.com - ECPv6.0.1.1//NONSGML v1.0//EN
CALSCALE:GREGORIAN
METHOD:PUBLISH
X-WR-CALNAME:MiamiCars.com
X-ORIGINAL-URL:https://www.miamicars.com
X-WR-CALDESC:Events for MiamiCars.com
REFRESH-INTERVAL;VALUE=DURATION:PT1H
X-Robots-Tag:noindex
X-PUBLISHED-TTL:PT1H
BEGIN:VTIMEZONE
TZID:America/New_York
BEGIN:DAYLIGHT
TZOFFSETFROM:-0500
TZOFFSETTO:-0400
TZNAME:EDT
DTSTART:20180311T070000
END:DAYLIGHT
BEGIN:STANDARD
TZOFFSETFROM:-0400
TZOFFSETTO:-0500
TZNAME:EST
DTSTART:20181104T060000
END:STANDARD
END:VTIMEZONE
BEGIN:VEVENT
DTSTART;TZID=America/New_York:20181013T040000
DTEND;TZID=America/New_York:20181013T070000
DTSTAMP:20260419T161123
CREATED:20181010T000227Z
LAST-MODIFIED:20181010T000227Z
UID:1834-1539403200-1539414000@www.miamicars.com
SUMMARY:Casavana Cars and Coffee
DESCRIPTION:Event Details\n\nStart: October 13\, 2018 8:00 am\nEnd: October 13\, 2018 11:00 am\nVenue: Casavana Cuban Cuisine\nAddress: 8202 Mills Drive\, Miami\, Florida\nCategories: Cars And Coffee\, recurring\, Saturday\, Southeast Florida\nRegistration Fee: Free\nPhone: (757) 775-7117\nEmail: 305illest@gmail.com\nWebsite: http://carsandcoffeemiami.weebly.com/\nFacebook Page: https://www.facebook.com/groups/carsandcoffeemiami/\n\n\n\n\n\nEvery month on the second Saturday.  Hosted by Nico Mart\, open to all makes and models
URL:https://www.miamicars.com/event/casavana-cars-and-coffee/
LOCATION:Casavana Cuban Cuisine\, 8202 Mills Drive\, Miami\, FL\, United States
CATEGORIES:Cars and Coffee
ATTACH;FMTTYPE=image/png:https://www.miamicars.com/wp-content/uploads/2018/10/screenshot-20161209-121959-2_orig.png
GEO:25.6913356;-80.3861981
X-APPLE-STRUCTURED-LOCATION;VALUE=URI;X-ADDRESS=Casavana Cuban Cuisine 8202 Mills Drive Miami FL United States;X-APPLE-RADIUS=500;X-TITLE=8202 Mills Drive:geo:-80.3861981,25.6913356
END:VEVENT
BEGIN:VEVENT
DTSTART;TZID=America/New_York:20181005T130000
DTEND;TZID=America/New_York:20181013T190000
DTSTAMP:20260419T161123
CREATED:20180925T185946Z
LAST-MODIFIED:20180925T185946Z
UID:799-1538744400-1539457200@www.miamicars.com
SUMMARY:Miami International Auto Show
DESCRIPTION:After decades of continuous runs of the Miami International Auto Show\, last year’s show was canceled due to Hurricane Irma.  It’s now been close to two years since the last auto show\, but the Miami International Auto Show is coming back and promises to be better than ever. \nThe Auto Show returns October 5 – 13th at the Miami Beach Convention Center. \nBuy tickets online at:  https://secure.interactiveticketing.com/1.23/fc3ed6/#/select?utm_campaign=AutoShow&utm_medium=EXFB&utm_source=WPLM
URL:https://www.miamicars.com/event/miami-international-auto-show/
LOCATION:Miami Beach Convention Center\, 1901 Convention Center Dr\, Miami Beach\, FL 33139\, Miami Beach\, FL\, 33139\, United States
CATEGORIES:Auto Show
ATTACH;FMTTYPE=image/jpeg:https://www.miamicars.com/wp-content/uploads/2018/09/11229819_10153127782651317_7033530018472358582_n.jpg
GEO:25.7947559;-80.1337864
X-APPLE-STRUCTURED-LOCATION;VALUE=URI;X-ADDRESS=Miami Beach Convention Center 1901 Convention Center Dr Miami Beach FL 33139 Miami Beach FL 33139 United States;X-APPLE-RADIUS=500;X-TITLE=1901 Convention Center Dr\, Miami Beach\, FL 33139:geo:-80.1337864,25.7947559
END:VEVENT
END:VCALENDAR