BEGIN:VCALENDAR
VERSION:2.0
PRODID:-//MiamiCars.com - ECPv6.0.1.1//NONSGML v1.0//EN
CALSCALE:GREGORIAN
METHOD:PUBLISH
X-ORIGINAL-URL:https://www.miamicars.com
X-WR-CALDESC:Events for MiamiCars.com
REFRESH-INTERVAL;VALUE=DURATION:PT1H
X-Robots-Tag:noindex
X-PUBLISHED-TTL:PT1H
BEGIN:VTIMEZONE
TZID:America/New_York
BEGIN:DAYLIGHT
TZOFFSETFROM:-0500
TZOFFSETTO:-0400
TZNAME:EDT
DTSTART:20220313T070000
END:DAYLIGHT
BEGIN:STANDARD
TZOFFSETFROM:-0400
TZOFFSETTO:-0500
TZNAME:EST
DTSTART:20221106T060000
END:STANDARD
END:VTIMEZONE
BEGIN:VEVENT
DTSTART;TZID=America/New_York:20220424T090000
DTEND;TZID=America/New_York:20220424T120000
DTSTAMP:20260425T074905
CREATED:20220421T211458Z
LAST-MODIFIED:20220421T211458Z
UID:15321-1650790800-1650801600@www.miamicars.com
SUMMARY:Miami Jeep Pull Up
DESCRIPTION:The flyest Jeep event in South Florida meets The cool kids from @socialxchangemiami in the City of NMB for an epic and exotic show. Vibe with us starting at @Prestigeimports and try the best food trucks in South Florida. Then flex with us as we get escorted through the city of NMB in our Jeeps. !BRING THE FAMILY! #MIAMIJEEPPULLUP / SATURDAY 4/23 1-4p/ PULL UP ‼️ | ⭕️IIIIIII⭕️ \nPowered by @abstractapparel305 x @socialxchangemiami x @northmiamibeachcra x @Prestigeimports \nDrinks & Vibes on-site \n•Food trucks \n•Music \n•Giveaways \n•Raffle \n\n  \nAlso check out other Food & Drink Events in North Miami Beach\, Kids Events & Activities in North Miami Beach.
URL:https://www.miamicars.com/event/miami-jeep-pull-up-2/
LOCATION:14800 Biscayne Blvd\, 14800 Biscayne Boulevard\, Miami\, FL\, 33181\, United States
CATEGORIES:Car Meet,Car Show
ATTACH;FMTTYPE=image/jpeg:https://www.miamicars.com/wp-content/uploads/2022/04/jeep-pull-up-1.jpg
GEO:25.9133148;-80.1576419
X-APPLE-STRUCTURED-LOCATION;VALUE=URI;X-ADDRESS=14800 Biscayne Blvd 14800 Biscayne Boulevard Miami FL 33181 United States;X-APPLE-RADIUS=500;X-TITLE=14800 Biscayne Boulevard:geo:-80.1576419,25.9133148
END:VEVENT
END:VCALENDAR