BEGIN:VCALENDAR
VERSION:2.0
PRODID:-//MiamiCars.com - ECPv6.0.1.1//NONSGML v1.0//EN
CALSCALE:GREGORIAN
METHOD:PUBLISH
X-ORIGINAL-URL:https://www.miamicars.com
X-WR-CALDESC:Events for MiamiCars.com
REFRESH-INTERVAL;VALUE=DURATION:PT1H
X-Robots-Tag:noindex
X-PUBLISHED-TTL:PT1H
BEGIN:VTIMEZONE
TZID:America/New_York
BEGIN:DAYLIGHT
TZOFFSETFROM:-0500
TZOFFSETTO:-0400
TZNAME:EDT
DTSTART:20230312T070000
END:DAYLIGHT
BEGIN:STANDARD
TZOFFSETFROM:-0400
TZOFFSETTO:-0500
TZNAME:EST
DTSTART:20231105T060000
END:STANDARD
END:VTIMEZONE
BEGIN:VEVENT
DTSTART;TZID=America/New_York:20230913T080000
DTEND;TZID=America/New_York:20230913T170000
DTSTAMP:20260420T052436
CREATED:20230913T121130Z
LAST-MODIFIED:20230913T121130Z
UID:92328-1694592000-1694624400@www.miamicars.com
SUMMARY:Exotics at Dania Pointe Car Show
DESCRIPTION:Let the countdown begin to @exoticsatthepointe 7 on November 12th 2023 @dania.pointe\nThank You to all of our Sponsors and vendors🙏✌️\nWe will be at 350 cars this year. If you have not registered your SHOW car you can still register; \n \nhttps://exoticsatthepointe.com
URL:https://www.miamicars.com/event/exotics-at-dania-pointe-car-show/
LOCATION:150N Pointe Drive\, Dania Beach\, Miami\, FL\, 33004\, United States
CATEGORIES:Car Show
ATTACH;FMTTYPE=image/jpeg:https://www.miamicars.com/wp-content/uploads/2023/09/375913820_18234255472236526_2939766379960063002_n.jpg
GEO:26.0517448;-80.1372757
X-APPLE-STRUCTURED-LOCATION;VALUE=URI;X-ADDRESS=150N Pointe Drive Dania Beach Miami FL 33004 United States;X-APPLE-RADIUS=500;X-TITLE=Dania Beach:geo:-80.1372757,26.0517448
END:VEVENT
END:VCALENDAR