BEGIN:VCALENDAR
VERSION:2.0
PRODID:-//MiamiCars.com - ECPv6.0.1.1//NONSGML v1.0//EN
CALSCALE:GREGORIAN
METHOD:PUBLISH
X-WR-CALNAME:MiamiCars.com
X-ORIGINAL-URL:https://www.miamicars.com
X-WR-CALDESC:Events for MiamiCars.com
REFRESH-INTERVAL;VALUE=DURATION:PT1H
X-Robots-Tag:noindex
X-PUBLISHED-TTL:PT1H
BEGIN:VTIMEZONE
TZID:America/New_York
BEGIN:DAYLIGHT
TZOFFSETFROM:-0500
TZOFFSETTO:-0400
TZNAME:EDT
DTSTART:20220313T070000
END:DAYLIGHT
BEGIN:STANDARD
TZOFFSETFROM:-0400
TZOFFSETTO:-0500
TZNAME:EST
DTSTART:20221106T060000
END:STANDARD
BEGIN:DAYLIGHT
TZOFFSETFROM:-0500
TZOFFSETTO:-0400
TZNAME:EDT
DTSTART:20230312T070000
END:DAYLIGHT
BEGIN:STANDARD
TZOFFSETFROM:-0400
TZOFFSETTO:-0500
TZNAME:EST
DTSTART:20231105T060000
END:STANDARD
END:VTIMEZONE
BEGIN:VEVENT
DTSTART;TZID=America/New_York:20220226T040000
DTEND;TZID=America/New_York:20220226T070000
DTSTAMP:20260419T212239
CREATED:20220204T060837Z
LAST-MODIFIED:20220204T060837Z
UID:13894-1645848000-1645858800@www.miamicars.com
SUMMARY:Caffeine and Chrome - Coral Springs
DESCRIPTION:Cruise into Gateway Classic Cars with your collectible car or daily driver to share with the car community. All makes and models are welcomed! Indulge in coffee and pastries\, while supplies last. Gather around the car community on the last Saturday of every month for an experience of a lifetime. Free Admission from 9am to 12pm. Not to mention\, we have a museum full of classic\, exotic\, and muscle cars. This is a family and pet friendly event!!
URL:https://www.miamicars.com/event/caffeine-and-chrome-coral-springs/2022-02-26/
LOCATION:4020 NW 126th Ave\, 4020 NW 126th Avenue\, Coral Springs\, FL\, United States
CATEGORIES:Cars and Coffee
ATTACH;FMTTYPE=image/jpeg:https://www.miamicars.com/wp-content/uploads/2022/02/https___cdn.evbuc_.com_images_199306379_302111528136_1_original.jpeg
GEO:26.2823365;-80.2950195
X-APPLE-STRUCTURED-LOCATION;VALUE=URI;X-ADDRESS=4020 NW 126th Ave 4020 NW 126th Avenue Coral Springs FL United States;X-APPLE-RADIUS=500;X-TITLE=4020 NW 126th Avenue:geo:-80.2950195,26.2823365
END:VEVENT
BEGIN:VEVENT
DTSTART;TZID=America/New_York:20230527T050000
DTEND;TZID=America/New_York:20230527T080000
DTSTAMP:20260419T212239
CREATED:20220414T225416Z
LAST-MODIFIED:20230512T225129Z
UID:15044-1685163600-1685174400@www.miamicars.com
SUMMARY:Caffeine and Chrome-Gateway Classic Cars of Fort Lauderdale
DESCRIPTION:Cruise into Gateway Classic Cars with your collectible car or daily driver to share with the car community. All makes and models are welcomed! Indulge in coffee and pastries\, while supplies last. Gather around the car community on the last Saturday of every month for an experience of a lifetime. Free Admission from 9am to 12pm. Not to mention\, we have a museum full of classic\, exotic\, and muscle cars. This is a family and pet friendly event!!
URL:https://www.miamicars.com/event/caffeine-and-chrome-gateway-classic-cars-of-fort-lauderdale-2/2023-05-27/
LOCATION:4020 NW 126th Ave\, 4020 NW 126th Avenue\, Coral Springs\, FL\, United States
CATEGORIES:Car Show,Cars and Coffee,Classic Car Show
ATTACH;FMTTYPE=image/jpeg:https://www.miamicars.com/wp-content/uploads/2022/04/CO.jpg
GEO:26.2823365;-80.2950195
X-APPLE-STRUCTURED-LOCATION;VALUE=URI;X-ADDRESS=4020 NW 126th Ave 4020 NW 126th Avenue Coral Springs FL United States;X-APPLE-RADIUS=500;X-TITLE=4020 NW 126th Avenue:geo:-80.2950195,26.2823365
END:VEVENT
END:VCALENDAR