BEGIN:VCALENDAR
VERSION:2.0
PRODID:-//MiamiCars.com - ECPv6.0.1.1//NONSGML v1.0//EN
CALSCALE:GREGORIAN
METHOD:PUBLISH
X-WR-CALNAME:MiamiCars.com
X-ORIGINAL-URL:https://www.miamicars.com
X-WR-CALDESC:Events for MiamiCars.com
REFRESH-INTERVAL;VALUE=DURATION:PT1H
X-Robots-Tag:noindex
X-PUBLISHED-TTL:PT1H
BEGIN:VTIMEZONE
TZID:America/New_York
BEGIN:DAYLIGHT
TZOFFSETFROM:-0500
TZOFFSETTO:-0400
TZNAME:EDT
DTSTART:20230312T070000
END:DAYLIGHT
BEGIN:STANDARD
TZOFFSETFROM:-0400
TZOFFSETTO:-0500
TZNAME:EST
DTSTART:20231105T060000
END:STANDARD
END:VTIMEZONE
BEGIN:VEVENT
DTSTART;TZID=America/New_York:20230610T170000
DTEND;TZID=America/New_York:20230610T210000
DTSTAMP:20260425T134445
CREATED:20230608T220221Z
LAST-MODIFIED:20231201T191600Z
UID:34259-1686416400-1686430800@www.miamicars.com
SUMMARY:Boardroom’s Cruise In
DESCRIPTION:Every Saturday.  Hosted by Russ G Events.  Vintage cars\, trucks and motorcycles\, and food provided by Smoke BBQ and the Bohemian Latin Grill
URL:https://www.miamicars.com/event/boardrooms-cruise-in/2023-06-10/
LOCATION:4:30 Boardroom Bar\, 3343 NE 32nd Street\, Fort Lauderdale\, FL\, United States
CATEGORIES:Cruise-In
ATTACH;FMTTYPE=image/jpeg:https://www.miamicars.com/wp-content/uploads/2023/06/332419799_535038742047390_7790250883579690428_n.jpg
GEO:26.1686421;-80.1010014
X-APPLE-STRUCTURED-LOCATION;VALUE=URI;X-ADDRESS=4:30 Boardroom Bar 3343 NE 32nd Street Fort Lauderdale FL United States;X-APPLE-RADIUS=500;X-TITLE=3343 NE 32nd Street:geo:-80.1010014,26.1686421
END:VEVENT
END:VCALENDAR