BEGIN:VCALENDAR
VERSION:2.0
PRODID:-//MiamiCars.com - ECPv6.0.1.1//NONSGML v1.0//EN
CALSCALE:GREGORIAN
METHOD:PUBLISH
X-WR-CALNAME:MiamiCars.com
X-ORIGINAL-URL:https://www.miamicars.com
X-WR-CALDESC:Events for MiamiCars.com
REFRESH-INTERVAL;VALUE=DURATION:PT1H
X-Robots-Tag:noindex
X-PUBLISHED-TTL:PT1H
BEGIN:VTIMEZONE
TZID:America/New_York
BEGIN:DAYLIGHT
TZOFFSETFROM:-0500
TZOFFSETTO:-0400
TZNAME:EDT
DTSTART:20190310T070000
END:DAYLIGHT
BEGIN:STANDARD
TZOFFSETFROM:-0400
TZOFFSETTO:-0500
TZNAME:EST
DTSTART:20191103T060000
END:STANDARD
END:VTIMEZONE
BEGIN:VEVENT
DTSTART;TZID=America/New_York:20190725T140000
DTEND;TZID=America/New_York:20190725T193000
DTSTAMP:20260419T200130
CREATED:20190723T171800Z
LAST-MODIFIED:20190723T171800Z
UID:3787-1564063200-1564083000@www.miamicars.com
SUMMARY:Blanc de Blancs
DESCRIPTION:Live painting on a Supercar. \nThis Thursday….701 E Broward Blvd\, Fort Lauderdale\, FL 33301
URL:https://www.miamicars.com/event/blanc-de-blancs/
LOCATION:701 E Broward Blvd\, Fort Lauderdale\, FL 33301\, 701 E Broward Blvd\, Fort Lauderdale\, FL\, 33301\, United States
CATEGORIES:Exotic Car Gathering
ATTACH;FMTTYPE=image/jpeg:https://www.miamicars.com/wp-content/uploads/2019/07/Screen-Shot-2019-07-23-at-9.14.28-AM.jpg
GEO:26.1228038;-80.1359959
X-APPLE-STRUCTURED-LOCATION;VALUE=URI;X-ADDRESS=701 E Broward Blvd Fort Lauderdale FL 33301 701 E Broward Blvd Fort Lauderdale FL 33301 United States;X-APPLE-RADIUS=500;X-TITLE=701 E Broward Blvd:geo:-80.1359959,26.1228038
END:VEVENT
END:VCALENDAR