BEGIN:VCALENDAR
VERSION:2.0
PRODID:-//MiamiCars.com - ECPv6.0.1.1//NONSGML v1.0//EN
CALSCALE:GREGORIAN
METHOD:PUBLISH
X-ORIGINAL-URL:https://www.miamicars.com
X-WR-CALDESC:Events for MiamiCars.com
REFRESH-INTERVAL;VALUE=DURATION:PT1H
X-Robots-Tag:noindex
X-PUBLISHED-TTL:PT1H
BEGIN:VTIMEZONE
TZID:America/New_York
BEGIN:DAYLIGHT
TZOFFSETFROM:-0500
TZOFFSETTO:-0400
TZNAME:EDT
DTSTART:20230312T070000
END:DAYLIGHT
BEGIN:STANDARD
TZOFFSETFROM:-0400
TZOFFSETTO:-0500
TZNAME:EST
DTSTART:20231105T060000
END:STANDARD
END:VTIMEZONE
BEGIN:VEVENT
DTSTART;TZID=America/New_York:20230107T050000
DTEND;TZID=America/New_York:20230107T090000
DTSTAMP:20260420T032803
CREATED:20221216T001918Z
LAST-MODIFIED:20221216T002017Z
UID:20348-1673067600-1673082000@www.miamicars.com
SUMMARY:Dee’s Advance Auto Parts Show
DESCRIPTION:Hosted by Dee’s Road Rascals. Open to all years\, makes\, and models.
URL:https://www.miamicars.com/event/dees-advance-auto-parts-show/
LOCATION:Advance Auto Parts – Lake Worth\, 5940A State Rd 7\, Lake Worth\, FL\, 33449\, United States
CATEGORIES:Car Show
ATTACH;FMTTYPE=image/jpeg:https://www.miamicars.com/wp-content/uploads/2022/12/an.jpg
GEO:26.6171688;-80.2046784
X-APPLE-STRUCTURED-LOCATION;VALUE=URI;X-ADDRESS=Advance Auto Parts – Lake Worth 5940A State Rd 7 Lake Worth FL 33449 United States;X-APPLE-RADIUS=500;X-TITLE=5940A State Rd 7:geo:-80.2046784,26.6171688
END:VEVENT
END:VCALENDAR