BEGIN:VCALENDAR
VERSION:2.0
PRODID:-//MiamiCars.com - ECPv6.0.1.1//NONSGML v1.0//EN
CALSCALE:GREGORIAN
METHOD:PUBLISH
X-ORIGINAL-URL:https://www.miamicars.com
X-WR-CALDESC:Events for MiamiCars.com
REFRESH-INTERVAL;VALUE=DURATION:PT1H
X-Robots-Tag:noindex
X-PUBLISHED-TTL:PT1H
BEGIN:VTIMEZONE
TZID:America/New_York
BEGIN:DAYLIGHT
TZOFFSETFROM:-0500
TZOFFSETTO:-0400
TZNAME:EDT
DTSTART:20190310T070000
END:DAYLIGHT
BEGIN:STANDARD
TZOFFSETFROM:-0400
TZOFFSETTO:-0500
TZNAME:EST
DTSTART:20191103T060000
END:STANDARD
END:VTIMEZONE
BEGIN:VEVENT
DTSTART;TZID=America/New_York:20190817T070000
DTEND;TZID=America/New_York:20190817T110000
DTSTAMP:20260420T032845
CREATED:20190723T170702Z
LAST-MODIFIED:20190723T170702Z
UID:3782-1566025200-1566039600@www.miamicars.com
SUMMARY:Audi Back to School Event
DESCRIPTION:Mark your calendars! Enter a chance to win an Audi Driving Experience at Circuit of the Americas! Bring a backpack with school supplies to enter the raffle\, and enjoy music\, BBQ\, massages all courtesy of @audinorthmiami ❗️ \n \n 
URL:https://www.miamicars.com/event/audi-back-to-school-event/
LOCATION:Audi of North Miami\, 1995 NE 142 Street\, North Miami\, FL\, 33181\, United States
CATEGORIES:Driving Experience
ATTACH;FMTTYPE=image/jpeg:https://www.miamicars.com/wp-content/uploads/2019/07/Screen-Shot-2019-07-23-at-9.03.35-AM.jpg
GEO:25.9069881;-80.1604108
X-APPLE-STRUCTURED-LOCATION;VALUE=URI;X-ADDRESS=Audi of North Miami 1995 NE 142 Street North Miami FL 33181 United States;X-APPLE-RADIUS=500;X-TITLE=1995 NE 142 Street:geo:-80.1604108,25.9069881
END:VEVENT
END:VCALENDAR