BEGIN:VCALENDAR
VERSION:2.0
PRODID:-//MiamiCars.com - ECPv6.0.1.1//NONSGML v1.0//EN
CALSCALE:GREGORIAN
METHOD:PUBLISH
X-WR-CALNAME:MiamiCars.com
X-ORIGINAL-URL:https://www.miamicars.com
X-WR-CALDESC:Events for MiamiCars.com
REFRESH-INTERVAL;VALUE=DURATION:PT1H
X-Robots-Tag:noindex
X-PUBLISHED-TTL:PT1H
BEGIN:VTIMEZONE
TZID:America/New_York
BEGIN:DAYLIGHT
TZOFFSETFROM:-0500
TZOFFSETTO:-0400
TZNAME:EDT
DTSTART:20190310T070000
END:DAYLIGHT
BEGIN:STANDARD
TZOFFSETFROM:-0400
TZOFFSETTO:-0500
TZNAME:EST
DTSTART:20191103T060000
END:STANDARD
END:VTIMEZONE
BEGIN:VEVENT
DTSTART;TZID=America/New_York:20190321T150000
DTEND;TZID=America/New_York:20190321T170000
DTSTAMP:20260421T224015
CREATED:20190312T180536Z
LAST-MODIFIED:20190312T180536Z
UID:3526-1553180400-1553187600@www.miamicars.com
SUMMARY:Crypto and Exotic Cars
DESCRIPTION:Enjoy The Night In The Heart Of Miami.\nJoin us this March 21 to learn\, share\, and connect with other prominent individuals in the blockchain industry at Baru Latin Bar in Brickell. All levels of expertise from beginners to advanced are welcomed. Happy hour and free drinks. Don’t miss out on this opportunity! \nExotic Cars. Cocktails and Crypto.\nBlokTech originally started with five guys who simply wanted to talk about Bitcoin and Blockchain over a few beers. After nearly one year\, BlokTech is the largest community builders in the blockchain space with branches in Miami\, Atlanta\, Durham\, Los Angeles\, and even globally in Venezuela and Chile. Become apart of the fastest growing cryptocurrency community in South Florida. \n \nFAQs\nAre there ID or minimum age requirements to enter the event? \nYou must be 21+ years old with valid ID to be allowed entry into the venue. \nWhat are my transportation/parking options for getting to and from the event? \nThere are parking garages nearby for $5 to $20. \nHow can I contact the organizer with any questions? \nAny questions regarding Crypto and Cars\, refer to miami@bloktech.network with the subject line “Crypto and Cars”. For any other inquiries\, contact www.t.me/BlokTech or www.instagram.comBlokTechNetwork \nWhat’s the refund policy? \nAll sales are final. No refunds. Not transferable. \nTicket Info:  https://www.eventbrite.com/e/crypto-and-exotic-cars-miami-car-club-tickets-58441531193?aff=ebdssbdestsearch
URL:https://www.miamicars.com/event/crypto-and-exotic-cars/
LOCATION:Baru Latin Bar\, 901 S Brickell Plaza Suite 101\, Miami\, FL\, 33130\, United States
CATEGORIES:Car Show
ATTACH;FMTTYPE=image/jpeg:https://www.miamicars.com/wp-content/uploads/2019/03/cryptoexotic.jpg
GEO:25.765305;-80.1925193
X-APPLE-STRUCTURED-LOCATION;VALUE=URI;X-ADDRESS=Baru Latin Bar 901 S Brickell Plaza Suite 101 Miami FL 33130 United States;X-APPLE-RADIUS=500;X-TITLE=901 S Brickell Plaza Suite 101:geo:-80.1925193,25.765305
END:VEVENT
END:VCALENDAR