BEGIN:VCALENDAR
VERSION:2.0
PRODID:-//MiamiCars.com - ECPv6.0.1.1//NONSGML v1.0//EN
CALSCALE:GREGORIAN
METHOD:PUBLISH
X-ORIGINAL-URL:https://www.miamicars.com
X-WR-CALDESC:Events for MiamiCars.com
REFRESH-INTERVAL;VALUE=DURATION:PT1H
X-Robots-Tag:noindex
X-PUBLISHED-TTL:PT1H
BEGIN:VTIMEZONE
TZID:America/New_York
BEGIN:DAYLIGHT
TZOFFSETFROM:-0500
TZOFFSETTO:-0400
TZNAME:EDT
DTSTART:20220313T070000
END:DAYLIGHT
BEGIN:STANDARD
TZOFFSETFROM:-0400
TZOFFSETTO:-0500
TZNAME:EST
DTSTART:20221106T060000
END:STANDARD
BEGIN:DAYLIGHT
TZOFFSETFROM:-0500
TZOFFSETTO:-0400
TZNAME:EDT
DTSTART:20230312T070000
END:DAYLIGHT
BEGIN:STANDARD
TZOFFSETFROM:-0400
TZOFFSETTO:-0500
TZNAME:EST
DTSTART:20231105T060000
END:STANDARD
END:VTIMEZONE
BEGIN:VEVENT
DTSTART;TZID=America/New_York:20220714T150000
DTEND;TZID=America/New_York:20220714T150000
DTSTAMP:20260419T195613
CREATED:20220616T214732Z
LAST-MODIFIED:20220616T214756Z
UID:17406-1657810800-1657810800@www.miamicars.com
SUMMARY:Porsche Car Meet
DESCRIPTION:Beer\, food\, and Porsches\, what else can you ask for? The meetup starts at 7 PM! \nEvery 2nd Thursday Of The Month
URL:https://www.miamicars.com/event/porsche-car-meet/2022-07-14/
LOCATION:Beat Culture Brewing Company\, 7250 Northwest 11th Street\, Miami\, FL\, 33126\, United States
CATEGORIES:Car Meet
ATTACH;FMTTYPE=image/jpeg:https://www.miamicars.com/wp-content/uploads/2022/06/POR.jpg
GEO:25.7806843;-80.313694
X-APPLE-STRUCTURED-LOCATION;VALUE=URI;X-ADDRESS=Beat Culture Brewing Company 7250 Northwest 11th Street Miami FL 33126 United States;X-APPLE-RADIUS=500;X-TITLE=7250 Northwest 11th Street:geo:-80.313694,25.7806843
END:VEVENT
BEGIN:VEVENT
DTSTART;TZID=America/New_York:20230615T190000
DTEND;TZID=America/New_York:20230615T190000
DTSTAMP:20260419T195613
CREATED:20220527T214555Z
LAST-MODIFIED:20230811T222428Z
UID:16849-1686855600-1686855600@www.miamicars.com
SUMMARY:BMW Car Meet
DESCRIPTION:Beer\, food\, and BMW\, what else can you ask for? Car Meet starts at 7 PM
URL:https://www.miamicars.com/event/bmw-car-meet/2023-06-15/
LOCATION:Beat Culture Brewing Company\, 7250 Northwest 11th Street\, Miami\, FL\, 33126\, United States
CATEGORIES:Car Meet
ATTACH;FMTTYPE=image/jpeg:https://www.miamicars.com/wp-content/uploads/2022/05/bmw.jpg
GEO:25.7806843;-80.313694
X-APPLE-STRUCTURED-LOCATION;VALUE=URI;X-ADDRESS=Beat Culture Brewing Company 7250 Northwest 11th Street Miami FL 33126 United States;X-APPLE-RADIUS=500;X-TITLE=7250 Northwest 11th Street:geo:-80.313694,25.7806843
END:VEVENT
BEGIN:VEVENT
DTSTART;TZID=America/New_York:20230907T150000
DTEND;TZID=America/New_York:20230907T150000
DTSTAMP:20260419T195613
CREATED:20220527T213535Z
LAST-MODIFIED:20230922T135149Z
UID:16840-1694098800-1694098800@www.miamicars.com
SUMMARY:Volkswagen Car Meet
DESCRIPTION:Volkswagen Car Meet- Every 1st Thursday of the Month! \nBeer\, food\, and VW\, what else can you ask for? Starts at 7 PM
URL:https://www.miamicars.com/event/volkswagen-car-meet/2023-09-07/
LOCATION:Beat Culture Brewing Company\, 7250 Northwest 11th Street\, Miami\, FL\, 33126\, United States
ATTACH;FMTTYPE=image/jpeg:https://www.miamicars.com/wp-content/uploads/2022/05/vw-Carmeet-1.jpg
GEO:25.7806843;-80.313694
X-APPLE-STRUCTURED-LOCATION;VALUE=URI;X-ADDRESS=Beat Culture Brewing Company 7250 Northwest 11th Street Miami FL 33126 United States;X-APPLE-RADIUS=500;X-TITLE=7250 Northwest 11th Street:geo:-80.313694,25.7806843
END:VEVENT
END:VCALENDAR