BEGIN:VCALENDAR
VERSION:2.0
PRODID:-//MiamiCars.com - ECPv6.0.1.1//NONSGML v1.0//EN
CALSCALE:GREGORIAN
METHOD:PUBLISH
X-ORIGINAL-URL:https://www.miamicars.com
X-WR-CALDESC:Events for MiamiCars.com
REFRESH-INTERVAL;VALUE=DURATION:PT1H
X-Robots-Tag:noindex
X-PUBLISHED-TTL:PT1H
BEGIN:VTIMEZONE
TZID:America/New_York
BEGIN:DAYLIGHT
TZOFFSETFROM:-0500
TZOFFSETTO:-0400
TZNAME:EDT
DTSTART:20230312T070000
END:DAYLIGHT
BEGIN:STANDARD
TZOFFSETFROM:-0400
TZOFFSETTO:-0500
TZNAME:EST
DTSTART:20231105T060000
END:STANDARD
END:VTIMEZONE
BEGIN:VEVENT
DTSTART;TZID=America/New_York:20231014T100000
DTEND;TZID=America/New_York:20231014T140000
DTSTAMP:20260421T224146
CREATED:20231013T125454Z
LAST-MODIFIED:20231013T125454Z
UID:110547-1697277600-1697292000@www.miamicars.com
SUMMARY:Move for Hunger Car Show
DESCRIPTION:Hosted by In1Toy Car Club.  All donated non-perishable food goes to Move For Hunger.  All years\, makes\, and models welcome.
URL:https://www.miamicars.com/event/move-for-hunger-car-show/
LOCATION:Beltmann Moving and Storage\, 3039 N Andrews Ave Ext\, Pompano Beach\, Miami\, FL\, United States
CATEGORIES:Car Show,Charity Event
ATTACH;FMTTYPE=image/jpeg:https://www.miamicars.com/wp-content/uploads/2023/10/IMG_2269-794x1024-1.jpeg
GEO:26.2684319;-80.1398926
X-APPLE-STRUCTURED-LOCATION;VALUE=URI;X-ADDRESS=Beltmann Moving and Storage 3039 N Andrews Ave Ext Pompano Beach Miami FL United States;X-APPLE-RADIUS=500;X-TITLE=3039 N Andrews Ave Ext\, Pompano Beach:geo:-80.1398926,26.2684319
END:VEVENT
END:VCALENDAR