BEGIN:VCALENDAR
VERSION:2.0
PRODID:-//MiamiCars.com - ECPv6.0.1.1//NONSGML v1.0//EN
CALSCALE:GREGORIAN
METHOD:PUBLISH
X-ORIGINAL-URL:https://www.miamicars.com
X-WR-CALDESC:Events for MiamiCars.com
REFRESH-INTERVAL;VALUE=DURATION:PT1H
X-Robots-Tag:noindex
X-PUBLISHED-TTL:PT1H
BEGIN:VTIMEZONE
TZID:America/New_York
BEGIN:DAYLIGHT
TZOFFSETFROM:-0500
TZOFFSETTO:-0400
TZNAME:EDT
DTSTART:20220313T070000
END:DAYLIGHT
BEGIN:STANDARD
TZOFFSETFROM:-0400
TZOFFSETTO:-0500
TZNAME:EST
DTSTART:20221106T060000
END:STANDARD
END:VTIMEZONE
BEGIN:VEVENT
DTSTART;TZID=America/New_York:20220416T120000
DTEND;TZID=America/New_York:20220416T180000
DTSTAMP:20260419T161526
CREATED:20220414T224845Z
LAST-MODIFIED:20220414T224845Z
UID:15020-1650110400-1650132000@www.miamicars.com
SUMMARY:POP UP MEET - Pre Jeep Beach
DESCRIPTION:Let’s meet before Jeep Beach! We’ll have Sound Car Exhibition\, Jeep Exhibits\, 4×4 expo\, Car-Dio Class with Rebolaxé\, JRan Dembo Artist\, Food Truck\, Shaduu Cocktails… It will be an amazing experience! \n \n  \n  \n 
URL:https://www.miamicars.com/event/pop-up-meet-pre-jeep-beach/
LOCATION:Blue Line Containers\, 4950 Northwest 72nd Avenue\, Miami\, FL\, 33166\, United States
CATEGORIES:Car Meet
ATTACH;FMTTYPE=image/jpeg:https://www.miamicars.com/wp-content/uploads/2022/04/cover.jpg
GEO:25.8184233;-80.3138813
X-APPLE-STRUCTURED-LOCATION;VALUE=URI;X-ADDRESS=Blue Line Containers 4950 Northwest 72nd Avenue Miami FL 33166 United States;X-APPLE-RADIUS=500;X-TITLE=4950 Northwest 72nd Avenue:geo:-80.3138813,25.8184233
END:VEVENT
END:VCALENDAR