BEGIN:VCALENDAR
VERSION:2.0
PRODID:-//MiamiCars.com - ECPv6.0.1.1//NONSGML v1.0//EN
CALSCALE:GREGORIAN
METHOD:PUBLISH
X-WR-CALNAME:MiamiCars.com
X-ORIGINAL-URL:https://www.miamicars.com
X-WR-CALDESC:Events for MiamiCars.com
REFRESH-INTERVAL;VALUE=DURATION:PT1H
X-Robots-Tag:noindex
X-PUBLISHED-TTL:PT1H
BEGIN:VTIMEZONE
TZID:America/New_York
BEGIN:DAYLIGHT
TZOFFSETFROM:-0500
TZOFFSETTO:-0400
TZNAME:EDT
DTSTART:20180311T070000
END:DAYLIGHT
BEGIN:STANDARD
TZOFFSETFROM:-0400
TZOFFSETTO:-0500
TZNAME:EST
DTSTART:20181104T060000
END:STANDARD
END:VTIMEZONE
BEGIN:VEVENT
DTSTART;TZID=America/New_York:20181115T090000
DTEND;TZID=America/New_York:20181115T110000
DTSTAMP:20260420T184445
CREATED:20181114T185754Z
LAST-MODIFIED:20181114T190608Z
UID:2595-1542272400-1542279600@www.miamicars.com
SUMMARY:Meet Daniel Suarez at BrandsMart USA Dania
DESCRIPTION:NASCAR Cup Series driver @Daniel_SuarezG is coming to BrandsMart USA’s Dania Pointe location! Stop by this Thursday for a chance to meet Daniel and his show car! \n\n\n  \n\n\n\n\n\n\n\n\n\n\nView this post on Instagram\n\n\n\n\n\n\n\n\n\n\n\n\n\n\n\n\n\n\n  \nNASCAR Cup Series driver @Daniel_SuarezG is coming to BrandsMart USA’s Dania Pointe location! Stop by this Thursday for a chance to meet Daniel and his show car! 🏁 \nA post shared by  BrandsMart USA (@brandsmart_usa) on Nov 13\, 2018 at 12:00pm PST
URL:https://www.miamicars.com/event/meet-daniel-suarez-at-brandsmart-usa-dania/
LOCATION:BrandsMart USA Dania Pointe\, 10 South Compass Way\, Dania Beach\, FL\, United States
CATEGORIES:Racing Experience
ATTACH;FMTTYPE=image/jpeg:https://www.miamicars.com/wp-content/uploads/2018/11/44785384_189836021955234_7751288470797021598_n.jpg
GEO:26.0501839;-80.1579718
X-APPLE-STRUCTURED-LOCATION;VALUE=URI;X-ADDRESS=BrandsMart USA Dania Pointe 10 South Compass Way Dania Beach FL United States;X-APPLE-RADIUS=500;X-TITLE=10 South Compass Way:geo:-80.1579718,26.0501839
END:VEVENT
END:VCALENDAR