BEGIN:VCALENDAR
VERSION:2.0
PRODID:-//MiamiCars.com - ECPv6.0.1.1//NONSGML v1.0//EN
CALSCALE:GREGORIAN
METHOD:PUBLISH
X-WR-CALNAME:MiamiCars.com
X-ORIGINAL-URL:https://www.miamicars.com
X-WR-CALDESC:Events for MiamiCars.com
REFRESH-INTERVAL;VALUE=DURATION:PT1H
X-Robots-Tag:noindex
X-PUBLISHED-TTL:PT1H
BEGIN:VTIMEZONE
TZID:America/New_York
BEGIN:DAYLIGHT
TZOFFSETFROM:-0500
TZOFFSETTO:-0400
TZNAME:EDT
DTSTART:20190310T070000
END:DAYLIGHT
BEGIN:STANDARD
TZOFFSETFROM:-0400
TZOFFSETTO:-0500
TZNAME:EST
DTSTART:20191103T060000
END:STANDARD
BEGIN:DAYLIGHT
TZOFFSETFROM:-0500
TZOFFSETTO:-0400
TZNAME:EDT
DTSTART:20200308T070000
END:DAYLIGHT
BEGIN:STANDARD
TZOFFSETFROM:-0400
TZOFFSETTO:-0500
TZNAME:EST
DTSTART:20201101T060000
END:STANDARD
BEGIN:DAYLIGHT
TZOFFSETFROM:-0500
TZOFFSETTO:-0400
TZNAME:EDT
DTSTART:20210314T070000
END:DAYLIGHT
BEGIN:STANDARD
TZOFFSETFROM:-0400
TZOFFSETTO:-0500
TZNAME:EST
DTSTART:20211107T060000
END:STANDARD
BEGIN:DAYLIGHT
TZOFFSETFROM:-0500
TZOFFSETTO:-0400
TZNAME:EDT
DTSTART:20220313T070000
END:DAYLIGHT
BEGIN:STANDARD
TZOFFSETFROM:-0400
TZOFFSETTO:-0500
TZNAME:EST
DTSTART:20221106T060000
END:STANDARD
BEGIN:DAYLIGHT
TZOFFSETFROM:-0500
TZOFFSETTO:-0400
TZNAME:EDT
DTSTART:20230312T070000
END:DAYLIGHT
BEGIN:STANDARD
TZOFFSETFROM:-0400
TZOFFSETTO:-0500
TZNAME:EST
DTSTART:20231105T060000
END:STANDARD
END:VTIMEZONE
BEGIN:VEVENT
DTSTART;TZID=America/New_York:20190331T103000
DTEND;TZID=America/New_York:20190331T150000
DTSTAMP:20260425T135107
CREATED:20190322T172158Z
LAST-MODIFIED:20190322T172225Z
UID:3602-1554028200-1554044400@www.miamicars.com
SUMMARY:Luxtires 3rd Anniversary Celebration: Car\, Jeep\, Truck & Motorcycle Show
DESCRIPTION:Luxtires celebrates its third anniversary with the Luxtires 3rd Anniversary Celebration: Car\, Jeep\, Truck & Motorcycle Show. No entrance\, spectator\, or pre-registration fees. Let us know you’ll make it by RSVP via the register button and we’ll see you there. \nLive music by DJ Flip and good company with Jeepswarm at Carolina Ale House (8669 Northwest 36th Street\, Doral\, FL 33166). \nAbout Luxtires\nWe are a company specializing in the sale of tires and wheels of the highest quality dedicated to providing the best service to our customers through our personalized attention to their expectations and needs. Our facilities include a showroom and exhibition of our products so that our customers can observe them in an area of high comfort.
URL:https://www.miamicars.com/event/luxtires-3rd-anniversary-celebration-car-jeep-truck-motorcycle-show/
LOCATION:Carolina Ale House\, 8669 Northwest 36th Street\, Doral\, FL\, 33166\, United States
CATEGORIES:Car Show
ATTACH;FMTTYPE=image/jpeg:https://www.miamicars.com/wp-content/uploads/2019/03/luxtires.jpeg
GEO:25.8109243;-80.3361898
X-APPLE-STRUCTURED-LOCATION;VALUE=URI;X-ADDRESS=Carolina Ale House 8669 Northwest 36th Street Doral FL 33166 United States;X-APPLE-RADIUS=500;X-TITLE=8669 Northwest 36th Street:geo:-80.3361898,25.8109243
END:VEVENT
BEGIN:VEVENT
DTSTART;TZID=America/New_York:20210904T120000
DTEND;TZID=America/New_York:20210904T170000
DTSTAMP:20260425T135107
CREATED:20210821T012038Z
LAST-MODIFIED:20210821T014623Z
UID:6012-1630756800-1630774800@www.miamicars.com
SUMMARY:Kustom Wheels Car Show at Carolina Ale House
DESCRIPTION:Every month on the first and third Saturdays.  Open to all years\, makes and models.  DJ music.
URL:https://www.miamicars.com/event/kustom-wheels-car-show-at-carolina-ale-house/
LOCATION:Carolina Ale House\, 8669 Northwest 36th Street\, Doral\, FL\, 33166\, United States
CATEGORIES:Auto Show,Car Show
ATTACH;FMTTYPE=image/jpeg:https://www.miamicars.com/wp-content/uploads/2021/08/Kustom-Sat-1.jpeg
GEO:25.8109243;-80.3361898
X-APPLE-STRUCTURED-LOCATION;VALUE=URI;X-ADDRESS=Carolina Ale House 8669 Northwest 36th Street Doral FL 33166 United States;X-APPLE-RADIUS=500;X-TITLE=8669 Northwest 36th Street:geo:-80.3361898,25.8109243
END:VEVENT
BEGIN:VEVENT
DTSTART;TZID=America/New_York:20211016T120000
DTEND;TZID=America/New_York:20211016T160000
DTSTAMP:20260425T135107
CREATED:20210922T180428Z
LAST-MODIFIED:20210922T180600Z
UID:10617-1634385600-1634400000@www.miamicars.com
SUMMARY:Monthly Car Show at the Carolina Ale House in Doral
DESCRIPTION:Folks are looking for something to do. so lets Show them our pretty chromed out\, polished up\, and shining babies.\nThe Snowbirds are looking for something to do. Show them our pretty chromed out\, polished up\, and shining babies. food is hot and drinks are cold..please do not forget to make sure you tip the waitress and bar keep. \nas always 10.00 to register your ride.\nLook but don’t touch! Make sure you pick up after your fur babies.\nSee you there \n***Disclaimer*** ALL CRUISES ARE WITHIN SOCIAL DISTANCE GUIDELINE’S\, MASK STRONGLY ENCOURAGED**** \n 
URL:https://www.miamicars.com/event/monthly-car-show-at-the-carolina-ale-house-in-doral/2021-10-16/
LOCATION:Carolina Ale House\, 8669 Northwest 36th Street\, Doral\, FL\, 33166\, United States
CATEGORIES:Car Show,Classic Car Show
ATTACH;FMTTYPE=image/jpeg:https://www.miamicars.com/wp-content/uploads/2021/09/Screen-Shot-2021-09-22-at-10.02.57-AM.jpg
GEO:25.8109243;-80.3361898
X-APPLE-STRUCTURED-LOCATION;VALUE=URI;X-ADDRESS=Carolina Ale House 8669 Northwest 36th Street Doral FL 33166 United States;X-APPLE-RADIUS=500;X-TITLE=8669 Northwest 36th Street:geo:-80.3361898,25.8109243
END:VEVENT
BEGIN:VEVENT
DTSTART;TZID=America/New_York:20220205T123000
DTEND;TZID=America/New_York:20220205T170000
DTSTAMP:20260425T135107
CREATED:20220129T003634Z
LAST-MODIFIED:20220204T013623Z
UID:13717-1644064200-1644080400@www.miamicars.com
SUMMARY:Carroll Shelby Celebration at Doral (Carolina Ale House)
DESCRIPTION:Come join us for a Carroll Shelbys 99th birthday celebration. All cars makes models and clubs welcome. The first few rows will be for registered cars competing for trophies. All others will be ask to park past the registered cars. Registration is $20.00 for vehicles that want to be part of the trophy presentation. Free admission for the cars that want to park behind the registered vehicles. (305) 684-4607
URL:https://www.miamicars.com/event/carroll-shelby-celebration-at-doral-ale-house/
LOCATION:Carolina Ale House\, 8669 Northwest 36th Street\, Doral\, FL\, 33166\, United States
CATEGORIES:Car Show
ATTACH;FMTTYPE=image/jpeg:https://www.miamicars.com/wp-content/uploads/2022/01/thumb61ec48cf2f8d0.jpeg
GEO:25.8109243;-80.3361898
X-APPLE-STRUCTURED-LOCATION;VALUE=URI;X-ADDRESS=Carolina Ale House 8669 Northwest 36th Street Doral FL 33166 United States;X-APPLE-RADIUS=500;X-TITLE=8669 Northwest 36th Street:geo:-80.3361898,25.8109243
END:VEVENT
BEGIN:VEVENT
DTSTART;TZID=America/New_York:20220305T123000
DTEND;TZID=America/New_York:20220305T170000
DTSTAMP:20260425T135107
CREATED:20220218T073515Z
LAST-MODIFIED:20220222T185422Z
UID:14156-1646483400-1646499600@www.miamicars.com
SUMMARY:Movie Car Show in Doral
DESCRIPTION:This Saturday\, February 19th from 5:30pm till 10pm we’ll be hosting a car show at the Carolina Ale House in Doral located at 8669 NW 36th Street. This will be a movie car themed car show\, so we may bring in a surprise movie car. Please keep in mind to respect the location. Revving\, donuts\, burn outs\, peeling out\, etc will NOT be tolerated. Thank you all for your continued support. Hope to see you all there.
URL:https://www.miamicars.com/event/movie-car-show-in-doral/
LOCATION:Carolina Ale House\, 8669 Northwest 36th Street\, Doral\, FL\, 33166\, United States
CATEGORIES:Auto Show,Car Show,Classic Car Show
ATTACH;FMTTYPE=image/jpeg:https://www.miamicars.com/wp-content/uploads/2022/02/Screen-Shot-2022-02-22-at-8.51.34-AM.jpg
GEO:25.8109243;-80.3361898
X-APPLE-STRUCTURED-LOCATION;VALUE=URI;X-ADDRESS=Carolina Ale House 8669 Northwest 36th Street Doral FL 33166 United States;X-APPLE-RADIUS=500;X-TITLE=8669 Northwest 36th Street:geo:-80.3361898,25.8109243
END:VEVENT
BEGIN:VEVENT
DTSTART;TZID=America/New_York:20220319T133000
DTEND;TZID=America/New_York:20220319T180000
DTSTAMP:20260425T135107
CREATED:20220114T190808Z
LAST-MODIFIED:20220318T162333Z
UID:13480-1647696600-1647712800@www.miamicars.com
SUMMARY:Doral Car Show at the Carolina Ale House on 36th Street
DESCRIPTION:FREE EVENT:  Come check out the cool cars at the Carolina Ale House in Doral.
URL:https://www.miamicars.com/event/doral-car-show-at-the-carolina-ale-house-on-36th-street/2022-03-19/
LOCATION:Carolina Ale House\, 8669 Northwest 36th Street\, Doral\, FL\, 33166\, United States
CATEGORIES:Car Show
ATTACH;FMTTYPE=image/jpeg:https://www.miamicars.com/wp-content/uploads/2022/01/Carolina-ale-house-car-show.jpg
GEO:25.8109243;-80.3361898
X-APPLE-STRUCTURED-LOCATION;VALUE=URI;X-ADDRESS=Carolina Ale House 8669 Northwest 36th Street Doral FL 33166 United States;X-APPLE-RADIUS=500;X-TITLE=8669 Northwest 36th Street:geo:-80.3361898,25.8109243
END:VEVENT
BEGIN:VEVENT
DTSTART;TZID=America/New_York:20220625T070000
DTEND;TZID=America/New_York:20220625T110000
DTSTAMP:20260425T135107
CREATED:20220618T005820Z
LAST-MODIFIED:20220618T005820Z
UID:17467-1656140400-1656154800@www.miamicars.com
SUMMARY:Car Club Unity Meet
DESCRIPTION:***PARKING MAP*** Parking will be on a first come basis. Clubs are encouraged to meet up with members and come as a group in the event you want to park together. \nWe love our car community…in an effort to maintain our event/meet integrity\, credibility\, and standard in which we operate\, please know that we function on a zero tolerance protocol. What does that mean…zero double parking\, zero burnouts\, zero high/constant revving\, zero shenanigans. You will be asked by one of our board members to leave the event immediately and banned from future meets/events/rallys (we will have Doral Police on standby should need be). As always\, we ask that we be respectful at all times to each other and to the property. \nNow…let’s get this show on the road!!!
URL:https://www.miamicars.com/event/car-club-unity-meet/
LOCATION:Carolina Ale House\, 8669 Northwest 36th Street\, Doral\, FL\, 33166\, United States
CATEGORIES:Car Meet
ATTACH;FMTTYPE=image/jpeg:https://www.miamicars.com/wp-content/uploads/2022/06/cor.jpg
GEO:25.8109243;-80.3361898
X-APPLE-STRUCTURED-LOCATION;VALUE=URI;X-ADDRESS=Carolina Ale House 8669 Northwest 36th Street Doral FL 33166 United States;X-APPLE-RADIUS=500;X-TITLE=8669 Northwest 36th Street:geo:-80.3361898,25.8109243
END:VEVENT
BEGIN:VEVENT
DTSTART;TZID=America/New_York:20220709T133000
DTEND;TZID=America/New_York:20220709T183000
DTSTAMP:20260425T135107
CREATED:20220630T225836Z
LAST-MODIFIED:20220630T225836Z
UID:17769-1657373400-1657391400@www.miamicars.com
SUMMARY:Saturday Night Car Show
DESCRIPTION:
URL:https://www.miamicars.com/event/saturday-night-car-show/
LOCATION:Carolina Ale House\, 8669 Northwest 36th Street\, Doral\, FL\, 33166\, United States
CATEGORIES:Car Meet
ATTACH;FMTTYPE=image/jpeg:https://www.miamicars.com/wp-content/uploads/2022/06/satcar.jpg
GEO:25.8109243;-80.3361898
X-APPLE-STRUCTURED-LOCATION;VALUE=URI;X-ADDRESS=Carolina Ale House 8669 Northwest 36th Street Doral FL 33166 United States;X-APPLE-RADIUS=500;X-TITLE=8669 Northwest 36th Street:geo:-80.3361898,25.8109243
END:VEVENT
BEGIN:VEVENT
DTSTART;TZID=America/New_York:20230513T133000
DTEND;TZID=America/New_York:20230513T183000
DTSTAMP:20260425T135107
CREATED:20230512T194801Z
LAST-MODIFIED:20230512T194801Z
UID:30940-1683984600-1684002600@www.miamicars.com
SUMMARY:COSF Saturday Night Car Show
DESCRIPTION:Every month on the second Saturday.  Hosted by the Corvettes of South Florida.  Open to all Corvettes\, muscle cars\, classics\, and exotics.
URL:https://www.miamicars.com/event/cosf-saturday-night-car-show/2023-05-13/
LOCATION:Carolina Ale House\, 8669 Northwest 36th Street\, Doral\, FL\, 33166\, United States
CATEGORIES:Car Show
ATTACH;FMTTYPE=image/jpeg:https://www.miamicars.com/wp-content/uploads/2023/05/cosf.jpg
GEO:25.8109243;-80.3361898
X-APPLE-STRUCTURED-LOCATION;VALUE=URI;X-ADDRESS=Carolina Ale House 8669 Northwest 36th Street Doral FL 33166 United States;X-APPLE-RADIUS=500;X-TITLE=8669 Northwest 36th Street:geo:-80.3361898,25.8109243
END:VEVENT
END:VCALENDAR