BEGIN:VCALENDAR
VERSION:2.0
PRODID:-//MiamiCars.com - ECPv6.0.1.1//NONSGML v1.0//EN
CALSCALE:GREGORIAN
METHOD:PUBLISH
X-ORIGINAL-URL:https://www.miamicars.com
X-WR-CALDESC:Events for MiamiCars.com
REFRESH-INTERVAL;VALUE=DURATION:PT1H
X-Robots-Tag:noindex
X-PUBLISHED-TTL:PT1H
BEGIN:VTIMEZONE
TZID:America/New_York
BEGIN:DAYLIGHT
TZOFFSETFROM:-0500
TZOFFSETTO:-0400
TZNAME:EDT
DTSTART:20210314T070000
END:DAYLIGHT
BEGIN:STANDARD
TZOFFSETFROM:-0400
TZOFFSETTO:-0500
TZNAME:EST
DTSTART:20211107T060000
END:STANDARD
END:VTIMEZONE
BEGIN:VEVENT
DTSTART;TZID=America/New_York:20210925T060000
DTEND;TZID=America/New_York:20210925T080000
DTSTAMP:20260425T202930
CREATED:20210915T200255Z
LAST-MODIFIED:20210915T200255Z
UID:8320-1632549600-1632556800@www.miamicars.com
SUMMARY:Touch-A-Truck Vehicle Expo
DESCRIPTION:The Touch-A-Truck Vehicle Expo is coming back and will be taking place on September 25\, 2021 from 10 am to noon at the Charles F. Dodge City Center\, located at 601 City Center Way. Children will have the opportunity to get up close and explore\, climb and touch trucks\, emergency response vehicles\, heavy machinery\, construction vehicles and all sorts of other equipment used for transportation. \nGuests of all ages also will be able to meet the personnel who serve and protect the community\, including Fire and Police Officers. Visitors will be able to ask questions and actually experience what the vehicles are truly like. An added bonus as part of this learning experience is having the opportunity for one-on-one interaction with local and national transportation representatives. \nHopping into the driver’s seat and sitting behind the wheel\, honking a horn and exploring a vehicle is a fun and educational experience not to be missed.\nAdmission and parking are free. For more information\, please call 954-392-2116 or visit www.ppines.com/specialevents.
URL:https://www.miamicars.com/event/touch-a-truck-vehicle-expo/
LOCATION:Charles F. Dodge City Center\, 601 SW City Center Way\, Pembroke Pines\, FL\, 33025\, United States
ATTACH;FMTTYPE=image/jpeg:https://www.miamicars.com/wp-content/uploads/2021/09/touch-a-truck.jpg
GEO:26.0027563;-80.286779
X-APPLE-STRUCTURED-LOCATION;VALUE=URI;X-ADDRESS=Charles F. Dodge City Center 601 SW City Center Way Pembroke Pines FL 33025 United States;X-APPLE-RADIUS=500;X-TITLE=601 SW City Center Way:geo:-80.286779,26.0027563
END:VEVENT
END:VCALENDAR