BEGIN:VCALENDAR
VERSION:2.0
PRODID:-//MiamiCars.com - ECPv6.0.1.1//NONSGML v1.0//EN
CALSCALE:GREGORIAN
METHOD:PUBLISH
X-ORIGINAL-URL:https://www.miamicars.com
X-WR-CALDESC:Events for MiamiCars.com
REFRESH-INTERVAL;VALUE=DURATION:PT1H
X-Robots-Tag:noindex
X-PUBLISHED-TTL:PT1H
BEGIN:VTIMEZONE
TZID:America/New_York
BEGIN:DAYLIGHT
TZOFFSETFROM:-0500
TZOFFSETTO:-0400
TZNAME:EDT
DTSTART:20230312T070000
END:DAYLIGHT
BEGIN:STANDARD
TZOFFSETFROM:-0400
TZOFFSETTO:-0500
TZNAME:EST
DTSTART:20231105T060000
END:STANDARD
END:VTIMEZONE
BEGIN:VEVENT
DTSTART;TZID=America/New_York:20231007T130000
DTEND;TZID=America/New_York:20231007T180000
DTSTAMP:20260421T185003
CREATED:20230714T160449Z
LAST-MODIFIED:20231006T182337Z
UID:57781-1696683600-1696701600@www.miamicars.com
SUMMARY:Kustom Wheel Car Show at Cheddar's
DESCRIPTION:This Saturday\, from 5pm to 10pm car show at Cheddars located at 16455 SW 88 Street\, Miami\, Fl 33196. Parking is in the back. All free event. All cars\, makes\, models\, years\, clubs\, etc. are welcome. Please respect our simple rules: no burnouts\, no peeling out\, no loud music\, or open containers. Thank you all for your continued support.
URL:https://www.miamicars.com/event/kustom-wheel-car-show-at-cheddars/
LOCATION:Cheddar’s Scratch Kitchen\, 16455 SW 88\, Miami\, FL\, 33196\, United States
CATEGORIES:Car Show
ATTACH;FMTTYPE=image/jpeg:https://www.miamicars.com/wp-content/uploads/2023/07/thumb651b80f44df82.jpg
GEO:25.6845413;-80.4585091
X-APPLE-STRUCTURED-LOCATION;VALUE=URI;X-ADDRESS=Cheddar’s Scratch Kitchen 16455 SW 88 Miami FL 33196 United States;X-APPLE-RADIUS=500;X-TITLE=16455 SW 88:geo:-80.4585091,25.6845413
END:VEVENT
END:VCALENDAR