BEGIN:VCALENDAR
VERSION:2.0
PRODID:-//MiamiCars.com - ECPv6.0.1.1//NONSGML v1.0//EN
CALSCALE:GREGORIAN
METHOD:PUBLISH
X-ORIGINAL-URL:https://www.miamicars.com
X-WR-CALDESC:Events for MiamiCars.com
REFRESH-INTERVAL;VALUE=DURATION:PT1H
X-Robots-Tag:noindex
X-PUBLISHED-TTL:PT1H
BEGIN:VTIMEZONE
TZID:America/New_York
BEGIN:DAYLIGHT
TZOFFSETFROM:-0500
TZOFFSETTO:-0400
TZNAME:EDT
DTSTART:20230312T070000
END:DAYLIGHT
BEGIN:STANDARD
TZOFFSETFROM:-0400
TZOFFSETTO:-0500
TZNAME:EST
DTSTART:20231105T060000
END:STANDARD
END:VTIMEZONE
BEGIN:VEVENT
DTSTART;TZID=America/New_York:20231112T110000
DTEND;TZID=America/New_York:20231112T160000
DTSTAMP:20260422T062306
CREATED:20231027T170412Z
LAST-MODIFIED:20231027T170412Z
UID:118916-1699786800-1699804800@www.miamicars.com
SUMMARY:6th Annual Exotics at Dania Pointe
DESCRIPTION:The Six Annual Exotics at Dania Pointe features some of the most coveted exotics and supercars from around the world including Bugatti\, Ferrari\, Lamborghini\, McLaren\, Rolls Royce\, Pagani\, Aston-Martin\, Porsche\, and Koenigsegg. Meet the owners of rare and custom cars and interact with the companies and individuals who have created these awe-inspiring automotive works of art.  Registration is open for show cars only and vendors.
URL:https://www.miamicars.com/event/6th-annual-exotics-at-dania-pointe/
LOCATION:Dania Point\, 139 S Compass Way\, Dania Beach\, Miami\, FL\, United States
CATEGORIES:Car Show
ATTACH;FMTTYPE=image/jpeg:https://www.miamicars.com/wp-content/uploads/2023/10/378196283_754688790004715_1909491887711713165_n-1024x1024-1.jpg
GEO:26.0513546;-80.1591669
X-APPLE-STRUCTURED-LOCATION;VALUE=URI;X-ADDRESS=Dania Point 139 S Compass Way Dania Beach Miami FL United States;X-APPLE-RADIUS=500;X-TITLE=139 S Compass Way\, Dania Beach:geo:-80.1591669,26.0513546
END:VEVENT
END:VCALENDAR