BEGIN:VCALENDAR
VERSION:2.0
PRODID:-//MiamiCars.com - ECPv6.0.1.1//NONSGML v1.0//EN
CALSCALE:GREGORIAN
METHOD:PUBLISH
X-WR-CALNAME:MiamiCars.com
X-ORIGINAL-URL:https://www.miamicars.com
X-WR-CALDESC:Events for MiamiCars.com
REFRESH-INTERVAL;VALUE=DURATION:PT1H
X-Robots-Tag:noindex
X-PUBLISHED-TTL:PT1H
BEGIN:VTIMEZONE
TZID:America/New_York
BEGIN:DAYLIGHT
TZOFFSETFROM:-0500
TZOFFSETTO:-0400
TZNAME:EDT
DTSTART:20230312T070000
END:DAYLIGHT
BEGIN:STANDARD
TZOFFSETFROM:-0400
TZOFFSETTO:-0500
TZNAME:EST
DTSTART:20231105T060000
END:STANDARD
END:VTIMEZONE
BEGIN:VEVENT
DTSTART;TZID=America/New_York:20230625T040000
DTEND;TZID=America/New_York:20230625T070000
DTSTAMP:20260420T231516
CREATED:20230624T010153Z
LAST-MODIFIED:20230624T010153Z
UID:46042-1687665600-1687676400@www.miamicars.com
SUMMARY:Rides & Coffee at Detail Garage
DESCRIPTION:Come and be a part of our Rides & Coffee event here at Detail Garage Ft Lauderdale! The spot to be on a Beautiful South Florida Sunday morning. This event takes place THE LAST SUNDAY of every month from 8-11am!! What can you expect? – Coffee – Donuts – Crazy Rides – Awesome People – Davie PD on the property – Respect the Location – No revving or burnouts Event Times: 8am – 11am Events Location: 8622 W State Road 84\, Ft Lauderdale Fl 33324 Enjoy a safe and passionate environment with tons of car\, bike\, truck\, detailing enthusiast all at one location. We will be blasting fun music and having a great time. This awesome event is open to all makes\, models and toys!
URL:https://www.miamicars.com/event/rides-coffee-at-detail-garage/
LOCATION:Detail Garage\, 8622 West State Road 84\, Miami\, FL\, United States
CATEGORIES:Cars and Coffee
ATTACH;FMTTYPE=image/jpeg:https://www.miamicars.com/wp-content/uploads/2023/06/323200526_5786862661405120_8528741660426770232_n-768x768-1.jpg
GEO:25.7616798;-80.1917902
X-APPLE-STRUCTURED-LOCATION;VALUE=URI;X-ADDRESS=Detail Garage 8622 West State Road 84 Miami FL United States;X-APPLE-RADIUS=500;X-TITLE=8622 West State Road 84:geo:-80.1917902,25.7616798
END:VEVENT
BEGIN:VEVENT
DTSTART;TZID=America/New_York:20230924T040000
DTEND;TZID=America/New_York:20230924T070000
DTSTAMP:20260420T231516
CREATED:20230711T171020Z
LAST-MODIFIED:20230711T171020Z
UID:56151-1695528000-1695538800@www.miamicars.com
SUMMARY:Rides & Coffee at Detail Garage Ft Lauderdale
DESCRIPTION:Come and be a part of our Rides & Coffee event here at Detail Garage Ft Lauderdale! The spot to be on a Beautiful South Florida Sunday morning. This event takes place THE LAST SUNDAY of every month from 8-11am!! What can you expect? – Coffee – Donuts – Crazy Rides – Awesome People – Davie PD on the property – Respect the Location – No revving or burnouts Event Times: 8am – 11am Events Location: 8622 W State Road 84\, Ft Lauderdale Fl 33324 Enjoy a safe and passionate environment with tons of car\, bike\, truck\, detailing enthusiast all at one location. We will be blasting fun music and having a great time. This awesome event is open to all makes\, models and toys!
URL:https://www.miamicars.com/event/rides-coffee-at-detail-garage-ft-lauderdale/
LOCATION:Detail Garage\, 8622 West State Road 84\, Miami\, FL\, United States
CATEGORIES:Cars and Coffee
ATTACH;FMTTYPE=image/jpeg:https://www.miamicars.com/wp-content/uploads/2023/07/323200526_5786862661405120_8528741660426770232_n-768x768-1.jpg
GEO:25.7616798;-80.1917902
X-APPLE-STRUCTURED-LOCATION;VALUE=URI;X-ADDRESS=Detail Garage 8622 West State Road 84 Miami FL United States;X-APPLE-RADIUS=500;X-TITLE=8622 West State Road 84:geo:-80.1917902,25.7616798
END:VEVENT
END:VCALENDAR