BEGIN:VCALENDAR
VERSION:2.0
PRODID:-//MiamiCars.com - ECPv6.0.1.1//NONSGML v1.0//EN
CALSCALE:GREGORIAN
METHOD:PUBLISH
X-WR-CALNAME:MiamiCars.com
X-ORIGINAL-URL:https://www.miamicars.com
X-WR-CALDESC:Events for MiamiCars.com
REFRESH-INTERVAL;VALUE=DURATION:PT1H
X-Robots-Tag:noindex
X-PUBLISHED-TTL:PT1H
BEGIN:VTIMEZONE
TZID:America/New_York
BEGIN:DAYLIGHT
TZOFFSETFROM:-0500
TZOFFSETTO:-0400
TZNAME:EDT
DTSTART:20190310T070000
END:DAYLIGHT
BEGIN:STANDARD
TZOFFSETFROM:-0400
TZOFFSETTO:-0500
TZNAME:EST
DTSTART:20191103T060000
END:STANDARD
END:VTIMEZONE
BEGIN:VEVENT
DTSTART;TZID=America/New_York:20190425T133000
DTEND;TZID=America/New_York:20190425T170000
DTSTAMP:20260421T024913
CREATED:20190322T164520Z
LAST-MODIFIED:20190322T164542Z
UID:3583-1556199000-1556211600@www.miamicars.com
SUMMARY:Florida Car Marathon 2019
DESCRIPTION:Join us for the FREE Downtown Doral Block Party! \nThe 9th Annual Florida Car Marathon\, a 500 Mile Five-Day Precision Car Rally which crisscrosses the state of Florida before returning to Miami\, is coming to Downtown Doral\, and we want you to be a part of this historical event! The streets will be closed so that everyone will gather to walk the streets\, take part in the activities\, support the merchants\, and view the Rally\, Classic\, and Exotic cars that will be on display. At the end of the night\, gather to wave the Rally Cars goodbye as each one crosses the Starting Line to signal the start of the 2019 Florida Car Marathon! \nEnjoy the Magician\, Ice Cream for the Kids\, DJ\, VIP appearances and lots more! \nIf you would like to exhibit your classic or exotic car\, or if you have any questions\, please contact Oscar@benefitcarshows.com \nPublic is invited. \nThis is a Free event.
URL:https://www.miamicars.com/event/florida-car-marathon-2019/
LOCATION:Downtown Doral\, 5241 NW 87 Avenue\, Doral\, FL\, 33178\, United States
CATEGORIES:Car Show,Rally
ATTACH;FMTTYPE=image/jpeg:https://www.miamicars.com/wp-content/uploads/2019/03/florida-car-marathon.jpeg
GEO:25.8194093;-80.3371665
X-APPLE-STRUCTURED-LOCATION;VALUE=URI;X-ADDRESS=Downtown Doral 5241 NW 87 Avenue Doral FL 33178 United States;X-APPLE-RADIUS=500;X-TITLE=5241 NW 87 Avenue:geo:-80.3371665,25.8194093
END:VEVENT
END:VCALENDAR