BEGIN:VCALENDAR
VERSION:2.0
PRODID:-//MiamiCars.com - ECPv6.0.1.1//NONSGML v1.0//EN
CALSCALE:GREGORIAN
METHOD:PUBLISH
X-ORIGINAL-URL:https://www.miamicars.com
X-WR-CALDESC:Events for MiamiCars.com
REFRESH-INTERVAL;VALUE=DURATION:PT1H
X-Robots-Tag:noindex
X-PUBLISHED-TTL:PT1H
BEGIN:VTIMEZONE
TZID:America/New_York
BEGIN:DAYLIGHT
TZOFFSETFROM:-0500
TZOFFSETTO:-0400
TZNAME:EDT
DTSTART:20220313T070000
END:DAYLIGHT
BEGIN:STANDARD
TZOFFSETFROM:-0400
TZOFFSETTO:-0500
TZNAME:EST
DTSTART:20221106T060000
END:STANDARD
END:VTIMEZONE
BEGIN:VEVENT
DTSTART;TZID=America/New_York:20220619T070000
DTEND;TZID=America/New_York:20220619T100000
DTSTAMP:20260419T214054
CREATED:20220614T003438Z
LAST-MODIFIED:20220614T003438Z
UID:17346-1655622000-1655632800@www.miamicars.com
SUMMARY:Supercar Week Annual Father’s Day Car Show
DESCRIPTION:
URL:https://www.miamicars.com/event/supercar-week-annual-fathers-day-car-show/
LOCATION:Downtown West Palm Beach\, 10455 NW 41st St\, Doral\, Miami\, FL\, 33178\, United States
CATEGORIES:Car Show
ATTACH;FMTTYPE=image/jpeg:https://www.miamicars.com/wp-content/uploads/2022/06/super-1.jpg
GEO:25.8120355;-80.3670059
X-APPLE-STRUCTURED-LOCATION;VALUE=URI;X-ADDRESS=Downtown West Palm Beach 10455 NW 41st St Doral Miami FL 33178 United States;X-APPLE-RADIUS=500;X-TITLE=10455 NW 41st St\, Doral:geo:-80.3670059,25.8120355
END:VEVENT
END:VCALENDAR