BEGIN:VCALENDAR
VERSION:2.0
PRODID:-//MiamiCars.com - ECPv6.0.1.1//NONSGML v1.0//EN
CALSCALE:GREGORIAN
METHOD:PUBLISH
X-WR-CALNAME:MiamiCars.com
X-ORIGINAL-URL:https://www.miamicars.com
X-WR-CALDESC:Events for MiamiCars.com
REFRESH-INTERVAL;VALUE=DURATION:PT1H
X-Robots-Tag:noindex
X-PUBLISHED-TTL:PT1H
BEGIN:VTIMEZONE
TZID:America/New_York
BEGIN:DAYLIGHT
TZOFFSETFROM:-0500
TZOFFSETTO:-0400
TZNAME:EDT
DTSTART:20230312T070000
END:DAYLIGHT
BEGIN:STANDARD
TZOFFSETFROM:-0400
TZOFFSETTO:-0500
TZNAME:EST
DTSTART:20231105T060000
END:STANDARD
END:VTIMEZONE
BEGIN:VEVENT
DTSTART;TZID=America/New_York:20230618T050000
DTEND;TZID=America/New_York:20230618T080000
DTSTAMP:20260422T045732
CREATED:20230616T213841Z
LAST-MODIFIED:20230616T214012Z
UID:41688-1687064400-1687075200@www.miamicars.com
SUMMARY:Father’s Day Classic Car Show
DESCRIPTION:Cars and trucks 1985 and older welcome. Best in show and people’s choice awards. BBQ\, beer\, and music. Limited to 25 vehicles.
URL:https://www.miamicars.com/event/fathers-day-classic-car-show/
LOCATION:Flager Park\, 201 SW Flager Ave.\, Miami\, FL\, United States
CATEGORIES:Car Show
ATTACH;FMTTYPE=image/jpeg:https://www.miamicars.com/wp-content/uploads/2023/06/acfrogafus9xchl7vhqzyslvqrvkb0nesmfljc8.-001-791x1024-1.jpg
GEO:25.7729538;-80.2180134
X-APPLE-STRUCTURED-LOCATION;VALUE=URI;X-ADDRESS=Flager Park 201 SW Flager Ave. Miami FL United States;X-APPLE-RADIUS=500;X-TITLE=201 SW Flager Ave.:geo:-80.2180134,25.7729538
END:VEVENT
END:VCALENDAR