BEGIN:VCALENDAR
VERSION:2.0
PRODID:-//MiamiCars.com - ECPv6.0.1.1//NONSGML v1.0//EN
CALSCALE:GREGORIAN
METHOD:PUBLISH
X-ORIGINAL-URL:https://www.miamicars.com
X-WR-CALDESC:Events for MiamiCars.com
REFRESH-INTERVAL;VALUE=DURATION:PT1H
X-Robots-Tag:noindex
X-PUBLISHED-TTL:PT1H
BEGIN:VTIMEZONE
TZID:America/New_York
BEGIN:DAYLIGHT
TZOFFSETFROM:-0500
TZOFFSETTO:-0400
TZNAME:EDT
DTSTART:20220313T070000
END:DAYLIGHT
BEGIN:STANDARD
TZOFFSETFROM:-0400
TZOFFSETTO:-0500
TZNAME:EST
DTSTART:20221106T060000
END:STANDARD
END:VTIMEZONE
BEGIN:VEVENT
DTSTART;TZID=America/New_York:20220409T060000
DTEND;TZID=America/New_York:20220409T110000
DTSTAMP:20260422T005349
CREATED:20220305T215552Z
LAST-MODIFIED:20220305T215552Z
UID:14486-1649484000-1649502000@www.miamicars.com
SUMMARY:Maggie's Motor Show
DESCRIPTION:Classic & Exotic car show – fundraiser to help other babies like Miracle Maggie. All proceeds go the the March of Dimes. \nFood Trucks\n50/50 Raffle\nMusic by Rockin’ Rich\nTop 25 Plus People’s Choice Awards\nFree tour of Hagerty Garage\n$30 in Advance – $40 Day of ShowMarch of Dimes leads the fight for all Moms and Babies. \nMaggie was born at 24 weeks\, weighed 11.75 ounces and was 9 inches long on June 28\, 2013. Her mom\, Jillian\, has 3 auto-immune disease that caused her to have an emergency C-section to save Maggie. Like Maggie\, many babies are born too early but thanks to the March of Dimes and their research\, Maggie was part of a study for extra surfactant to help develop her lungs faster. It WORKED!. Maggie has had rickets\, chronic lung disease\, PDA ligation that was almost impossible due to her size and physical condition\, pneumonia\, pseudomonas\, laser eye surgery for retinopathy of prematurity and more – all while in the NICU.ALL PROCEEDS GO TO THE MARCH OF DIMES \nFor more information: MaggiesMotorShow@yahoo.com – 954.937.0473
URL:https://www.miamicars.com/event/maggies-motor-show/
LOCATION:Hagerty Garage\, 777 South Congress Avenue\, Delray Beach\, FL\, United States
CATEGORIES:Auto Show,Car Show
ATTACH;FMTTYPE=image/jpeg:https://www.miamicars.com/wp-content/uploads/2022/03/Untitled-1-2.jpg
GEO:26.4509059;-80.0913795
X-APPLE-STRUCTURED-LOCATION;VALUE=URI;X-ADDRESS=Hagerty Garage 777 South Congress Avenue Delray Beach FL United States;X-APPLE-RADIUS=500;X-TITLE=777 South Congress Avenue:geo:-80.0913795,26.4509059
END:VEVENT
END:VCALENDAR