BEGIN:VCALENDAR
VERSION:2.0
PRODID:-//MiamiCars.com - ECPv6.0.1.1//NONSGML v1.0//EN
CALSCALE:GREGORIAN
METHOD:PUBLISH
X-ORIGINAL-URL:https://www.miamicars.com
X-WR-CALDESC:Events for MiamiCars.com
REFRESH-INTERVAL;VALUE=DURATION:PT1H
X-Robots-Tag:noindex
X-PUBLISHED-TTL:PT1H
BEGIN:VTIMEZONE
TZID:America/New_York
BEGIN:DAYLIGHT
TZOFFSETFROM:-0500
TZOFFSETTO:-0400
TZNAME:EDT
DTSTART:20220313T070000
END:DAYLIGHT
BEGIN:STANDARD
TZOFFSETFROM:-0400
TZOFFSETTO:-0500
TZNAME:EST
DTSTART:20221106T060000
END:STANDARD
END:VTIMEZONE
BEGIN:VEVENT
DTSTART;TZID=America/New_York:20220423T100000
DTEND;TZID=America/New_York:20220423T160000
DTSTAMP:20260421T023650
CREATED:20220421T212617Z
LAST-MODIFIED:20220421T223508Z
UID:15330-1650708000-1650729600@www.miamicars.com
SUMMARY:SE Classics Monthly Car Show
DESCRIPTION:Every month on the fourth Saturday.   Hosted by South East Classics\, a registered not for profit 501(c) 4 corporation. Open to all years\, makes\, and models.   Roll In starts at 2pm.  Spectator and participants swards presented at 5pm.  Great venue for kids\, waterfront tree shaded parking area\, no one gets blocked in\, and terrific restaurants.  Spectators are free.
URL:https://www.miamicars.com/event/se-classics-monthly-car-show/2022-04-23/
LOCATION:Harbourside Place\, 200 N US Highway One\, Jupiter\, Miami\, FL\, 33477\, United States
CATEGORIES:Car Show,Classic Car Show
ATTACH;FMTTYPE=image/jpeg:https://www.miamicars.com/wp-content/uploads/2022/04/HS-Monthly-Mar-202-1.jpg
GEO:26.9356927;-80.0824766
X-APPLE-STRUCTURED-LOCATION;VALUE=URI;X-ADDRESS=Harbourside Place 200 N US Highway One Jupiter Miami FL 33477 United States;X-APPLE-RADIUS=500;X-TITLE=200 N US Highway One\, Jupiter:geo:-80.0824766,26.9356927
END:VEVENT
END:VCALENDAR