BEGIN:VCALENDAR
VERSION:2.0
PRODID:-//MiamiCars.com - ECPv6.0.1.1//NONSGML v1.0//EN
CALSCALE:GREGORIAN
METHOD:PUBLISH
X-ORIGINAL-URL:https://www.miamicars.com
X-WR-CALDESC:Events for MiamiCars.com
REFRESH-INTERVAL;VALUE=DURATION:PT1H
X-Robots-Tag:noindex
X-PUBLISHED-TTL:PT1H
BEGIN:VTIMEZONE
TZID:America/New_York
BEGIN:DAYLIGHT
TZOFFSETFROM:-0500
TZOFFSETTO:-0400
TZNAME:EDT
DTSTART:20190310T070000
END:DAYLIGHT
BEGIN:STANDARD
TZOFFSETFROM:-0400
TZOFFSETTO:-0500
TZNAME:EST
DTSTART:20191103T060000
END:STANDARD
END:VTIMEZONE
BEGIN:VEVENT
DTSTART;TZID=America/New_York:20191005T060000
DTEND;TZID=America/New_York:20191005T110000
DTSTAMP:20260420T070312
CREATED:20190916T190209Z
LAST-MODIFIED:20190916T190209Z
UID:4030-1570255200-1570273200@www.miamicars.com
SUMMARY:Concert & Cars on the Green
DESCRIPTION:Browse the best classic and custom show cars in South Florida while you listen to classic tunes at Heritage Park! \nAdmission is free. Free parking available in the Heritage Park garage and under the William Lehman Causeway. \nWant to enter your car in the show? Call Jumpin’ Jack Productions at 305.214.2277. Fan favorites will split $500 in cash prizes.
URL:https://www.miamicars.com/event/concert-cars-on-the-green/
LOCATION:Heritage Park\, 19200 Collins Avenue\, Sunny Isles Beach\, FL\, 33160\, United States
CATEGORIES:Car Show
ATTACH;FMTTYPE=image/jpeg:https://www.miamicars.com/wp-content/uploads/2019/09/concert-cars.jpeg
GEO:25.9548375;-80.1213762
X-APPLE-STRUCTURED-LOCATION;VALUE=URI;X-ADDRESS=Heritage Park 19200 Collins Avenue Sunny Isles Beach FL 33160 United States;X-APPLE-RADIUS=500;X-TITLE=19200 Collins Avenue:geo:-80.1213762,25.9548375
END:VEVENT
END:VCALENDAR