BEGIN:VCALENDAR
VERSION:2.0
PRODID:-//MiamiCars.com - ECPv6.0.1.1//NONSGML v1.0//EN
CALSCALE:GREGORIAN
METHOD:PUBLISH
X-WR-CALNAME:MiamiCars.com
X-ORIGINAL-URL:https://www.miamicars.com
X-WR-CALDESC:Events for MiamiCars.com
REFRESH-INTERVAL;VALUE=DURATION:PT1H
X-Robots-Tag:noindex
X-PUBLISHED-TTL:PT1H
BEGIN:VTIMEZONE
TZID:America/New_York
BEGIN:DAYLIGHT
TZOFFSETFROM:-0500
TZOFFSETTO:-0400
TZNAME:EDT
DTSTART:20230312T070000
END:DAYLIGHT
BEGIN:STANDARD
TZOFFSETFROM:-0400
TZOFFSETTO:-0500
TZNAME:EST
DTSTART:20231105T060000
END:STANDARD
END:VTIMEZONE
BEGIN:VEVENT
DTSTART;TZID=America/New_York:20230429T070000
DTEND;TZID=America/New_York:20230429T140000
DTSTAMP:20260420T143449
CREATED:20230412T180429Z
LAST-MODIFIED:20230412T180429Z
UID:28272-1682751600-1682776800@www.miamicars.com
SUMMARY:Hialeah High Car and Truck Show
DESCRIPTION:Fundraising for the school’s athletic department!
URL:https://www.miamicars.com/event/hialeah-high-car-and-truck-show/
LOCATION:Hialeah Senior High School\, 251 East 47th Street Hialeah\, Miami\, FL\, 33013\, United States
CATEGORIES:Car Show
ATTACH;FMTTYPE=image/jpeg:https://www.miamicars.com/wp-content/uploads/2023/04/sup-1.jpg
GEO:25.8656626;-80.2756836
X-APPLE-STRUCTURED-LOCATION;VALUE=URI;X-ADDRESS=Hialeah Senior High School 251 East 47th Street Hialeah Miami FL 33013 United States;X-APPLE-RADIUS=500;X-TITLE=251 East 47th Street Hialeah:geo:-80.2756836,25.8656626
END:VEVENT
END:VCALENDAR