BEGIN:VCALENDAR
VERSION:2.0
PRODID:-//MiamiCars.com - ECPv6.0.1.1//NONSGML v1.0//EN
CALSCALE:GREGORIAN
METHOD:PUBLISH
X-ORIGINAL-URL:https://www.miamicars.com
X-WR-CALDESC:Events for MiamiCars.com
REFRESH-INTERVAL;VALUE=DURATION:PT1H
X-Robots-Tag:noindex
X-PUBLISHED-TTL:PT1H
BEGIN:VTIMEZONE
TZID:America/New_York
BEGIN:DAYLIGHT
TZOFFSETFROM:-0500
TZOFFSETTO:-0400
TZNAME:EDT
DTSTART:20220313T070000
END:DAYLIGHT
BEGIN:STANDARD
TZOFFSETFROM:-0400
TZOFFSETTO:-0500
TZNAME:EST
DTSTART:20221106T060000
END:STANDARD
BEGIN:DAYLIGHT
TZOFFSETFROM:-0500
TZOFFSETTO:-0400
TZNAME:EDT
DTSTART:20230312T070000
END:DAYLIGHT
BEGIN:STANDARD
TZOFFSETFROM:-0400
TZOFFSETTO:-0500
TZNAME:EST
DTSTART:20231105T060000
END:STANDARD
END:VTIMEZONE
BEGIN:VEVENT
DTSTART;TZID=America/New_York:20220506T050000
DTEND;TZID=America/New_York:20220507T140000
DTSTAMP:20260425T075237
CREATED:20220305T035011Z
LAST-MODIFIED:20220305T035011Z
UID:14461-1651813200-1651932000@www.miamicars.com
SUMMARY:MayDay Miami Jeep Beach Festival at Virginia Key Beach
DESCRIPTION:MayDay Miami is a Jeep Showcase at the Historic Virginia key Beach Park on May 6th and 7th.  Go topless in Miami and take off your Jeep’s top to soak up the sun in Miami. \nEnjoy Miami’s warm weather\, beautiful\, skylines\, palm trees\, sand\, and surf. \nMayDay Miami Jeep Beach Festival at Virginia Key Beach (Photo credit:  MayDayMiami.com)\nMayDay Miami Jeep Beach Festival at Virginia Key Beach photo credit: MayDayMiami.com
URL:https://www.miamicars.com/event/mayday-miami-jeep-beach-festival-at-virginia-key-beach/
LOCATION:Historic Virginia Key Beach\, 4020 Virginia Beach Drive\, Miami\, FL\, 33149\, United States
CATEGORIES:Jeep / Off Road Event,Rally,Social Event
ATTACH;FMTTYPE=image/jpeg:https://www.miamicars.com/wp-content/uploads/2022/03/Screen-Shot-2022-03-04-at-5.44.21-PM.jpg
GEO:25.7349443;-80.1566608
X-APPLE-STRUCTURED-LOCATION;VALUE=URI;X-ADDRESS=Historic Virginia Key Beach 4020 Virginia Beach Drive Miami FL 33149 United States;X-APPLE-RADIUS=500;X-TITLE=4020 Virginia Beach Drive:geo:-80.1566608,25.7349443
END:VEVENT
BEGIN:VEVENT
DTSTART;TZID=America/New_York:20230527T060000
DTEND;TZID=America/New_York:20230527T160000
DTSTAMP:20260425T075237
CREATED:20230526T213804Z
LAST-MODIFIED:20230526T213804Z
UID:32258-1685167200-1685203200@www.miamicars.com
SUMMARY:2023 Splash Down Old School Car Show
DESCRIPTION:The Splash Down old school car show presented by VIDO NO SHAKE stamped by 99Jamz and hosted by Cool! \nJoin us at Virginia Key Beach WITH MR.EAST COAST RIDER HIMSELF @vidonoshake \n🚨A DON’T WANT TO MISS OUT EVENT🚨 \n10AM – 8PM \n-BIKINI 👙 CONTEST \n-1st AND 2nd PLACE WINNERS FOR THE CAR SHOW \n-SPECIAL PERFORMANCES AND SPECIAL GUESTS \nVENDOR\, ARTIST & CAR SLOTS AVAILABLE. FOR MORE INFORMATION CALL 786-515-3021.
URL:https://www.miamicars.com/event/2023-splash-down-old-school-car-show/
LOCATION:Historic Virginia Key Beach\, 4020 Virginia Beach Drive\, Miami\, FL\, 33149\, United States
CATEGORIES:Auto Show,Car Show
ATTACH;FMTTYPE=image/jpeg:https://www.miamicars.com/wp-content/uploads/2023/05/donks.jpeg
GEO:25.7349443;-80.1566608
X-APPLE-STRUCTURED-LOCATION;VALUE=URI;X-ADDRESS=Historic Virginia Key Beach 4020 Virginia Beach Drive Miami FL 33149 United States;X-APPLE-RADIUS=500;X-TITLE=4020 Virginia Beach Drive:geo:-80.1566608,25.7349443
END:VEVENT
END:VCALENDAR