BEGIN:VCALENDAR
VERSION:2.0
PRODID:-//MiamiCars.com - ECPv6.0.1.1//NONSGML v1.0//EN
CALSCALE:GREGORIAN
METHOD:PUBLISH
X-ORIGINAL-URL:https://www.miamicars.com
X-WR-CALDESC:Events for MiamiCars.com
REFRESH-INTERVAL;VALUE=DURATION:PT1H
X-Robots-Tag:noindex
X-PUBLISHED-TTL:PT1H
BEGIN:VTIMEZONE
TZID:America/New_York
BEGIN:DAYLIGHT
TZOFFSETFROM:-0500
TZOFFSETTO:-0400
TZNAME:EDT
DTSTART:20190310T070000
END:DAYLIGHT
BEGIN:STANDARD
TZOFFSETFROM:-0400
TZOFFSETTO:-0500
TZNAME:EST
DTSTART:20191103T060000
END:STANDARD
BEGIN:DAYLIGHT
TZOFFSETFROM:-0500
TZOFFSETTO:-0400
TZNAME:EDT
DTSTART:20200308T070000
END:DAYLIGHT
BEGIN:STANDARD
TZOFFSETFROM:-0400
TZOFFSETTO:-0500
TZNAME:EST
DTSTART:20201101T060000
END:STANDARD
BEGIN:DAYLIGHT
TZOFFSETFROM:-0500
TZOFFSETTO:-0400
TZNAME:EDT
DTSTART:20210314T070000
END:DAYLIGHT
BEGIN:STANDARD
TZOFFSETFROM:-0400
TZOFFSETTO:-0500
TZNAME:EST
DTSTART:20211107T060000
END:STANDARD
END:VTIMEZONE
BEGIN:VEVENT
DTSTART;TZID=America/New_York:20191019T050000
DTEND;TZID=America/New_York:20191019T110000
DTSTAMP:20260425T172518
CREATED:20190806T230722Z
LAST-MODIFIED:20190806T230745Z
UID:3904-1571461200-1571482800@www.miamicars.com
SUMMARY:2nd Annual Car Show & Food Fest
DESCRIPTION:Come out to SSP Car Clubs 2nd Annual Car\, Truck & Motorcycle Show & Food Festival located at Holy Rosary St Richards Catholic Church. \nThe show is on Saturday October 19th from 9 am to 3 pm. Gates open for show cars at 8 am and awards will be presented at 2 pm. \nAll proceeds will go towards the feeding the needy program at Holy Rosary St Richards Catholic Church. \nCar Registration Fees are $25 per entry and can be made online at http://buytickets.at/speedstyleandperformanceclub/282317 or www.sspmiami.com \nCar Clubs are welcome and we will provide space for you to park as a group and set up pop-up tents and chairs.
URL:https://www.miamicars.com/event/2nd-annual-car-show-food-fest/
LOCATION:Holy Rosary – St. Richard Catholic Church\, 7500 SW 152 STY\, PALMETTO PAY\, FL\, 33157\, United States
CATEGORIES:Car Show
ATTACH;FMTTYPE=image/jpeg:https://www.miamicars.com/wp-content/uploads/2019/08/66855163_2954457974565499_2296571630815543296_o.jpg
GEO:25.6290404;-80.3156962
X-APPLE-STRUCTURED-LOCATION;VALUE=URI;X-ADDRESS=Holy Rosary – St. Richard Catholic Church 7500 SW 152 STY PALMETTO PAY FL 33157 United States;X-APPLE-RADIUS=500;X-TITLE=7500 SW 152 STY:geo:-80.3156962,25.6290404
END:VEVENT
BEGIN:VEVENT
DTSTART;TZID=America/New_York:20211106T040000
DTEND;TZID=America/New_York:20211106T110000
DTSTAMP:20260425T172518
CREATED:20211029T174921Z
LAST-MODIFIED:20211104T193243Z
UID:11963-1636171200-1636196400@www.miamicars.com
SUMMARY:SSPs 4th Annual Car & Truck Show
DESCRIPTION:SSP is proud to announce that our 4th Annual Car & Truck Show at Holy Rosary / St Richard Catholic Church is scheduled for Saturday November 6th. \nRegister your Car\, Truck\, Motorcycle\, or anything in-between now at https://buytickets.at/speedstyleandperformanceclub/540052\nEntry is $25 and all profits will be donated to the Helping Hands Ministry at Holy Rosary St Richard Catholic Church to benefit the needy. \nCustom trophies will be awarded to the top 2 vehicles in each class as well as a Best in Show and a People Choice Award. \nEntry to view the cars is free as is entry to the Food Festival. We will have food from different countries available for purchase\, a beer garden\, and a live band. \nHope to see everyone there!
URL:https://www.miamicars.com/event/ssps-4th-annual-car-truck-show/
LOCATION:Holy Rosary – St. Richard Catholic Church\, 7500 SW 152 STY\, PALMETTO PAY\, FL\, 33157\, United States
CATEGORIES:Auto Show,Car Show
ATTACH;FMTTYPE=image/jpeg:https://www.miamicars.com/wp-content/uploads/2021/10/211368868_4857586577585953_6695833435960782622_n.jpeg
GEO:25.6290404;-80.3156962
X-APPLE-STRUCTURED-LOCATION;VALUE=URI;X-ADDRESS=Holy Rosary – St. Richard Catholic Church 7500 SW 152 STY PALMETTO PAY FL 33157 United States;X-APPLE-RADIUS=500;X-TITLE=7500 SW 152 STY:geo:-80.3156962,25.6290404
END:VEVENT
END:VCALENDAR