BEGIN:VCALENDAR
VERSION:2.0
PRODID:-//MiamiCars.com - ECPv6.0.1.1//NONSGML v1.0//EN
CALSCALE:GREGORIAN
METHOD:PUBLISH
X-ORIGINAL-URL:https://www.miamicars.com
X-WR-CALDESC:Events for MiamiCars.com
REFRESH-INTERVAL;VALUE=DURATION:PT1H
X-Robots-Tag:noindex
X-PUBLISHED-TTL:PT1H
BEGIN:VTIMEZONE
TZID:America/New_York
BEGIN:DAYLIGHT
TZOFFSETFROM:-0500
TZOFFSETTO:-0400
TZNAME:EDT
DTSTART:20220313T070000
END:DAYLIGHT
BEGIN:STANDARD
TZOFFSETFROM:-0400
TZOFFSETTO:-0500
TZNAME:EST
DTSTART:20221106T060000
END:STANDARD
END:VTIMEZONE
BEGIN:VEVENT
DTSTART;TZID=America/New_York:20220403T060000
DTEND;TZID=America/New_York:20220403T130000
DTSTAMP:20260425T135121
CREATED:20220305T213623Z
LAST-MODIFIED:20220305T213623Z
UID:14476-1648965600-1648990800@www.miamicars.com
SUMMARY:Miami Lakes Cars for a Cure
DESCRIPTION:We are excited to announce that Miami Lakes Cars for a Cure is back in 2022 with our Annual Car Show! Please stay tuned for more details but we look forward to seeing everyone on Sunday\, April 3rd\, 2022 to raise funds for the incredible work being done at Sylvester Comprehensive Cancer Center! \nCovid may have stopped the world but it did not stop #Cancer! Lets all join together to continue the fight to find a #cure!
URL:https://www.miamicars.com/event/miami-lakes-cars-for-a-cure/
LOCATION:Main Street\, 6700 Main Street\, Miami Lakes\, FL\, 33014\, United States
CATEGORIES:Car Show,Charity Event,Classic Car Show
ATTACH;FMTTYPE=image/jpeg:https://www.miamicars.com/wp-content/uploads/2022/03/Untitled-1-1.jpg
GEO:25.9130633;-80.309573
X-APPLE-STRUCTURED-LOCATION;VALUE=URI;X-ADDRESS=Main Street 6700 Main Street Miami Lakes FL 33014 United States;X-APPLE-RADIUS=500;X-TITLE=6700 Main Street:geo:-80.309573,25.9130633
END:VEVENT
END:VCALENDAR