BEGIN:VCALENDAR
VERSION:2.0
PRODID:-//MiamiCars.com - ECPv6.0.1.1//NONSGML v1.0//EN
CALSCALE:GREGORIAN
METHOD:PUBLISH
X-ORIGINAL-URL:https://www.miamicars.com
X-WR-CALDESC:Events for MiamiCars.com
REFRESH-INTERVAL;VALUE=DURATION:PT1H
X-Robots-Tag:noindex
X-PUBLISHED-TTL:PT1H
BEGIN:VTIMEZONE
TZID:America/New_York
BEGIN:DAYLIGHT
TZOFFSETFROM:-0500
TZOFFSETTO:-0400
TZNAME:EDT
DTSTART:20200308T070000
END:DAYLIGHT
BEGIN:STANDARD
TZOFFSETFROM:-0400
TZOFFSETTO:-0500
TZNAME:EST
DTSTART:20201101T060000
END:STANDARD
BEGIN:DAYLIGHT
TZOFFSETFROM:-0500
TZOFFSETTO:-0400
TZNAME:EDT
DTSTART:20210314T070000
END:DAYLIGHT
BEGIN:STANDARD
TZOFFSETFROM:-0400
TZOFFSETTO:-0500
TZNAME:EST
DTSTART:20211107T060000
END:STANDARD
BEGIN:DAYLIGHT
TZOFFSETFROM:-0500
TZOFFSETTO:-0400
TZNAME:EDT
DTSTART:20220313T070000
END:DAYLIGHT
BEGIN:STANDARD
TZOFFSETFROM:-0400
TZOFFSETTO:-0500
TZNAME:EST
DTSTART:20221106T060000
END:STANDARD
BEGIN:DAYLIGHT
TZOFFSETFROM:-0500
TZOFFSETTO:-0400
TZNAME:EDT
DTSTART:20230312T070000
END:DAYLIGHT
BEGIN:STANDARD
TZOFFSETFROM:-0400
TZOFFSETTO:-0500
TZNAME:EST
DTSTART:20231105T060000
END:STANDARD
END:VTIMEZONE
BEGIN:VEVENT
DTSTART;TZID=America/New_York:20200119T040000
DTEND;TZID=America/New_York:20200119T130000
DTSTAMP:20260420T012758
CREATED:20191120T182648Z
LAST-MODIFIED:20191120T182648Z
UID:4679-1579406400-1579438800@www.miamicars.com
SUMMARY:Florida Fast Expo
DESCRIPTION:Florida Fast Expo will feature High Performance Street Cars\, Hot Rods\, Customs\, Race Cars\, 4×4 Trucks\, Imports\, and much more. There will be over 150 vendor exhibits to visit from performance to traditional. Live engine building\, industry celebrities\, show vehicles\, NASCAR simulator\, Miami Heat Dancers\, and much more. \nIndoor Car Show\nHigh Performance Street Cars\, Hot Rods\, Customs\, Race Cars\, 4×4 Trucks\, Imports\, and much more! \n\n\n\n\n\n\nOver 150 Vendor Exhibits\n\n\n\n\nThere will be over 150 vendor exhibits to visit from performance to traditional. Live engine building\, industry celebrities\, show vehicles\, NASCAR simulator\, Miami Heat Dancers\, and much more! \n\n\n \n 
URL:https://www.miamicars.com/event/florida-fast-expo/
LOCATION:Miami Airport Convention Center\, 711 NW 72nd Ave\, Miami\, FL\, 33126\, United States
CATEGORIES:Auto Show,Car Show
ATTACH;FMTTYPE=image/jpeg:https://www.miamicars.com/wp-content/uploads/2019/11/florida-fast-expo-ochoa-2019-5644.jpg
GEO:25.7769119;-80.3114627
X-APPLE-STRUCTURED-LOCATION;VALUE=URI;X-ADDRESS=Miami Airport Convention Center 711 NW 72nd Ave Miami FL 33126 United States;X-APPLE-RADIUS=500;X-TITLE=711 NW 72nd Ave:geo:-80.3114627,25.7769119
END:VEVENT
BEGIN:VEVENT
DTSTART;TZID=America/New_York:20220130T050000
DTEND;TZID=America/New_York:20220130T103000
DTSTAMP:20260420T012758
CREATED:20220108T203418Z
LAST-MODIFIED:20220129T005631Z
UID:13370-1643518800-1643538600@www.miamicars.com
SUMMARY:Fast Expo 2022
DESCRIPTION:The Fast Expo at the Miami Airport Convention Center returns Sunday\, January 30th. Register today for the Miami Fast Expo 2022!\n\n\n\n\n\nAbout this event\n\n\nThe Fast Expo at the Miami Airport convention center returns Sunday\, January 30th. \nSee supercharged exotic muscle cars\, Hot Rods\, and tricked out trucks\, plus the latest and aftermarket auto parts and accessories. Talk with other tech gurus\, vendors\, and other car enthusiasts! \nMeet & Greet our special guests: AZN and Farmtruck from Street Outlaws\, NHRA professional drag racer Erica Enders\, and professional drifter Kelsey Rowlings or “Drift Chick.” \nThere will be food\, fun\, music\, and fantastic prizes to win! \nRegister today at https://fastexpo.net/ \nDon’t miss the 2022 Fast Expo at the Miami Airport Convention Center! Get all the details at https://fastexpo.net/
URL:https://www.miamicars.com/event/fast-expo-2022/
LOCATION:Miami Airport Convention Center\, 711 NW 72nd Ave\, Miami\, FL\, 33126\, United States
CATEGORIES:Auto Show,Car Show,Trade Show
ATTACH;FMTTYPE=image/jpeg:https://www.miamicars.com/wp-content/uploads/2022/01/fast-expo.jpeg
GEO:25.7769119;-80.3114627
X-APPLE-STRUCTURED-LOCATION;VALUE=URI;X-ADDRESS=Miami Airport Convention Center 711 NW 72nd Ave Miami FL 33126 United States;X-APPLE-RADIUS=500;X-TITLE=711 NW 72nd Ave:geo:-80.3114627,25.7769119
END:VEVENT
BEGIN:VEVENT
DTSTART;TZID=America/New_York:20230129T050000
DTEND;TZID=America/New_York:20230129T100000
DTSTAMP:20260420T012758
CREATED:20230124T203726Z
LAST-MODIFIED:20230124T203726Z
UID:20636-1674968400-1674986400@www.miamicars.com
SUMMARY:Fast Expo
DESCRIPTION:See supercharged exotic muscle cars\, hot rods\, and tricked-out trucks.  Plus the latest in aftermarket auto parts and accessories.  There will be plenty of fun\, food\, drinks\, and fantastic prizes to win.
URL:https://www.miamicars.com/event/fast-expo/
LOCATION:Miami Airport Convention Center\, 711 NW 72nd Ave\, Miami\, FL\, 33126\, United States
CATEGORIES:Car Show
ATTACH;FMTTYPE=image/jpeg:https://www.miamicars.com/wp-content/uploads/2023/01/Post-Card-Front-742x1024-2.jpg
GEO:25.7769119;-80.3114627
X-APPLE-STRUCTURED-LOCATION;VALUE=URI;X-ADDRESS=Miami Airport Convention Center 711 NW 72nd Ave Miami FL 33126 United States;X-APPLE-RADIUS=500;X-TITLE=711 NW 72nd Ave:geo:-80.3114627,25.7769119
END:VEVENT
BEGIN:VEVENT
DTSTART;TZID=America/New_York:20230617T130000
DTEND;TZID=America/New_York:20230617T130000
DTSTAMP:20260420T012758
CREATED:20230526T234314Z
LAST-MODIFIED:20230526T234314Z
UID:32296-1687006800-1687006800@www.miamicars.com
SUMMARY:Low N Clean | Miami 7 (Car Show)
DESCRIPTION:Low N Clean returns to Miami for our 7th Annual Indoor & Outdoor Car Show!! \nIndoor Limited 100\nOutdoor Show\nVendors\nAwards\nMusic\nGiveaways\n2-Step/Limbo Competitions for Outdoor\nMore to be Announced!! \nREGISTER @ WWW.LOWNCLEAN.COM \nAll Makes and Models Welcome (Cars\, Trucks\, Motorcylces\, Grom/Ruckus etc.) \nPlease Share the Event Page with your Family\, Friends\, Crew. \nIf you have any questions regarding the show or if you’d like to be a part of the show in any way\, please Contact us via e-mail Events@LowNClean.com
URL:https://www.miamicars.com/event/low-n-clean-miami-7-car-show/
LOCATION:Miami Airport Convention Center\, 711 NW 72nd Ave\, Miami\, FL\, 33126\, United States
CATEGORIES:Auto Show,Car Show
ATTACH;FMTTYPE=image/jpeg:https://www.miamicars.com/wp-content/uploads/2023/05/Untitled-2-1.jpg
GEO:25.7769119;-80.3114627
X-APPLE-STRUCTURED-LOCATION;VALUE=URI;X-ADDRESS=Miami Airport Convention Center 711 NW 72nd Ave Miami FL 33126 United States;X-APPLE-RADIUS=500;X-TITLE=711 NW 72nd Ave:geo:-80.3114627,25.7769119
END:VEVENT
END:VCALENDAR