BEGIN:VCALENDAR
VERSION:2.0
PRODID:-//MiamiCars.com - ECPv6.0.1.1//NONSGML v1.0//EN
CALSCALE:GREGORIAN
METHOD:PUBLISH
X-ORIGINAL-URL:https://www.miamicars.com
X-WR-CALDESC:Events for MiamiCars.com
REFRESH-INTERVAL;VALUE=DURATION:PT1H
X-Robots-Tag:noindex
X-PUBLISHED-TTL:PT1H
BEGIN:VTIMEZONE
TZID:America/New_York
BEGIN:DAYLIGHT
TZOFFSETFROM:-0500
TZOFFSETTO:-0400
TZNAME:EDT
DTSTART:20200308T070000
END:DAYLIGHT
BEGIN:STANDARD
TZOFFSETFROM:-0400
TZOFFSETTO:-0500
TZNAME:EST
DTSTART:20201101T060000
END:STANDARD
END:VTIMEZONE
BEGIN:VEVENT
DTSTART;VALUE=DATE:20200213
DTEND;VALUE=DATE:20200217
DTSTAMP:20260422T001934
CREATED:20191120T184145Z
LAST-MODIFIED:20191120T184145Z
UID:4687-1581620400-1581879599@www.miamicars.com
SUMMARY:Miami-Dade Collector Car Auction and Show
DESCRIPTION:With Over 50 years of auction experience\, Dave Rupp continually has great auctions and has grown to the point of a new venue\, we are excited to announce the Ft Lauderdale & Miami-Dade collector car auction and show\, over 500 collector cars will be in the Miami Dade fair and expo center at 10901 SE 24th St Miami Florida 33165. We look forward to great cars\, people and weather this February in Miami/Dade!! \n\nWhen: February 14 to February 16\, 2020 \nLocation: \nThe Miami Dade Fair and Expo Center at 10901 SE 24th St\nMiami\, FL\, 33165\n \nCost: $15 \nTo Register: Click here for more information or call Georgia Wolfe at 561-779-0302 or e-mail us
URL:https://www.miamicars.com/event/miami-dade-collector-car-auction-and-show/
LOCATION:Miami-Dade Fair and Expo Center\, 10901 SE 24th Street\, Miami\, FL\, 33165\, United States
CATEGORIES:Auction
ATTACH;FMTTYPE=image/jpeg:https://www.miamicars.com/wp-content/uploads/2019/11/Welcome2020.jpg
GEO:25.7474021;-80.3726897
X-APPLE-STRUCTURED-LOCATION;VALUE=URI;X-ADDRESS=Miami-Dade Fair and Expo Center 10901 SE 24th Street Miami FL 33165 United States;X-APPLE-RADIUS=500;X-TITLE=10901 SE 24th Street:geo:-80.3726897,25.7474021
END:VEVENT
END:VCALENDAR