BEGIN:VCALENDAR
VERSION:2.0
PRODID:-//MiamiCars.com - ECPv6.0.1.1//NONSGML v1.0//EN
CALSCALE:GREGORIAN
METHOD:PUBLISH
X-WR-CALNAME:MiamiCars.com
X-ORIGINAL-URL:https://www.miamicars.com
X-WR-CALDESC:Events for MiamiCars.com
REFRESH-INTERVAL;VALUE=DURATION:PT1H
X-Robots-Tag:noindex
X-PUBLISHED-TTL:PT1H
BEGIN:VTIMEZONE
TZID:America/New_York
BEGIN:DAYLIGHT
TZOFFSETFROM:-0500
TZOFFSETTO:-0400
TZNAME:EDT
DTSTART:20190310T070000
END:DAYLIGHT
BEGIN:STANDARD
TZOFFSETFROM:-0400
TZOFFSETTO:-0500
TZNAME:EST
DTSTART:20191103T060000
END:STANDARD
END:VTIMEZONE
BEGIN:VEVENT
DTSTART;TZID=America/New_York:20191208T050000
DTEND;TZID=America/New_York:20191208T100000
DTSTAMP:20260425T170231
CREATED:20191120T191932Z
LAST-MODIFIED:20191120T191932Z
UID:4696-1575781200-1575799200@www.miamicars.com
SUMMARY:ART BASEL: FREE CAR SHOW 'PROMENADE AUTO WYNWOOD' 2019
DESCRIPTION:The event is free and open to the public. \n  \nThree blocks in Wynwood will be closed to traffic for South Florida’s Fifth Annual showcase of the region’s finest in “Road Art” collections. More than 66 of today’s automotive gems will be on display from across the state\, ranging from classic and vintage antiques\, to exotic sports and custom-built Supercars. Collectors and car enthusiasts alike will bring their prized possessions to line the streets in the heart of Wynwood’s arts and entertainment district for more than six hours of eye candy for auto enthusiasts of all ages. \n“We’re pleased to announce our Fifth Annual Auto Promenade Wynwood\,” says Elo\, the Executive Producer and founder of Miami Supercar Rooms. \nPrevious years\, we have hosted Automotive legends such as Paolo Pininfarina\, Fabio Lamborghini\, Wayne Carini\, Cleo Shelby. \nThis year we’re expecting more than double the number of vehicles on display from owners and collectors across the region\, as well as over a ten thousand people anticipated to attend with their families for an enjoyable day out. Auto Promenade Wynwood is the city’s first annual Road Art showcase that exhibits America has to offer – allowing owners to display their prized possessions for everyone to see each and every year. \nAn exhibition of Supercars will be on display \nAn exhibition of Classic Cars will be on display \nAn exhibition of Art Cars will be on display \nElo and the management team at Miami Supercar Rooms will issue invitations to its members\, owners and collectors from the automotive community to enjoy a dedicated VIP area within Miami Supercar Rooms\, where the annual Lobster Brunch will be served at 12 Noon. \nAt the end of the day\, trophy presentations will be awarded to each exhibitor for ‘Best Art Car\,’ ‘Best Supercar\,’ ‘Best Classic Car\,’ ‘Overall Auto Promenade Champion\,’ and “Elo’s Choice’ as part of the annual awards ceremony. \nHighlights from last year’s Auto Promenade included a jewel-encrusted Dodge Viper GTS\, a McLaren 650S\, a custom designed 1952 Chevrolet known as “The Frankenstein” and a 1979 Cadillac El Dorado with Texas-style horns built-in to the hood. \nMiami Supercar Rooms houses an indoor Road Art Gallery that contains one of the world’s most prestigious collections\, including a 1929 Rolls Royce Bootch (1 of 1 in the world)\, 1961 196 SP Ferrari vintage racing car (1 of 11 in the world)\, 2007 Shelby Supercar Ultimate Aero TT (1 of 15 in the world — Vin# 001)\, 1958 450 S Maserati vintage racing car (1 of 33 in the world)\, \, and a 1953 Lamborghini Tractor – the only one in America and one of only three remaining in the world. \nMiami Supercar Rooms Auto Promenade Wynwood takes place on Sunday\, December 8th starting at 10:00am until 3:00pm \nThe event is free and open to the public. \nAny interested participants who would like to be considered for their vehicle to be displayed please email carshow@miamisupercarrooms.com along with a description and picture of your car. Accepted participants will receive VIP entry with complimentary bar throughout the day alongside breakfast and the Lobster Brunch.
URL:https://www.miamicars.com/event/art-basel-free-car-show-promenade-auto-wynwood-2019/
LOCATION:MIAMI SUPERCAR ROOMS\, 2022 NW 1st Court\, Miami\, FL\, 33127\, United States
CATEGORIES:Auto Show,Exotic Car Gathering
ATTACH;FMTTYPE=image/jpeg:https://www.miamicars.com/wp-content/uploads/2019/11/https___cdn.evbuc_.com_images_79815801_194058069742_1_original.jpeg
GEO:25.7960715;-80.1979458
X-APPLE-STRUCTURED-LOCATION;VALUE=URI;X-ADDRESS=MIAMI SUPERCAR ROOMS 2022 NW 1st Court Miami FL 33127 United States;X-APPLE-RADIUS=500;X-TITLE=2022 NW 1st Court:geo:-80.1979458,25.7960715
END:VEVENT
END:VCALENDAR