BEGIN:VCALENDAR
VERSION:2.0
PRODID:-//MiamiCars.com - ECPv6.0.1.1//NONSGML v1.0//EN
CALSCALE:GREGORIAN
METHOD:PUBLISH
X-WR-CALNAME:MiamiCars.com
X-ORIGINAL-URL:https://www.miamicars.com
X-WR-CALDESC:Events for MiamiCars.com
REFRESH-INTERVAL;VALUE=DURATION:PT1H
X-Robots-Tag:noindex
X-PUBLISHED-TTL:PT1H
BEGIN:VTIMEZONE
TZID:America/New_York
BEGIN:DAYLIGHT
TZOFFSETFROM:-0500
TZOFFSETTO:-0400
TZNAME:EDT
DTSTART:20190310T070000
END:DAYLIGHT
BEGIN:STANDARD
TZOFFSETFROM:-0400
TZOFFSETTO:-0500
TZNAME:EST
DTSTART:20191103T060000
END:STANDARD
BEGIN:DAYLIGHT
TZOFFSETFROM:-0500
TZOFFSETTO:-0400
TZNAME:EDT
DTSTART:20200308T070000
END:DAYLIGHT
BEGIN:STANDARD
TZOFFSETFROM:-0400
TZOFFSETTO:-0500
TZNAME:EST
DTSTART:20201101T060000
END:STANDARD
BEGIN:DAYLIGHT
TZOFFSETFROM:-0500
TZOFFSETTO:-0400
TZNAME:EDT
DTSTART:20210314T070000
END:DAYLIGHT
BEGIN:STANDARD
TZOFFSETFROM:-0400
TZOFFSETTO:-0500
TZNAME:EST
DTSTART:20211107T060000
END:STANDARD
BEGIN:DAYLIGHT
TZOFFSETFROM:-0500
TZOFFSETTO:-0400
TZNAME:EDT
DTSTART:20220313T070000
END:DAYLIGHT
BEGIN:STANDARD
TZOFFSETFROM:-0400
TZOFFSETTO:-0500
TZNAME:EST
DTSTART:20221106T060000
END:STANDARD
END:VTIMEZONE
BEGIN:VEVENT
DTSTART;TZID=America/New_York:20190811T070000
DTEND;TZID=America/New_York:20190811T120000
DTSTAMP:20260419T213737
CREATED:20190730T182158Z
LAST-MODIFIED:20190730T182158Z
UID:3817-1565506800-1565524800@www.miamicars.com
SUMMARY:MiniMe Kids Drag Race
DESCRIPTION:Kids Drag Race in Wynwood. Bring your battery operated cars and join our kids drag race. Then ride around our track!\n\n\n\n\n\n\nAbout this Event\n\n\nCALLING ALL KID RACERS! FUN FOR THE ENTIRE FAMILY! \nBring your battery operated cars and join MiniMe’s first Drag Race for Kids. \nThere will be 3 races categorized by age: \nRace 1: Ages 1-3 \nRace 2: Ages 4-6 \nRace 3: Ages 7-9 \nWhen: August 11\, 2019 \nTime: 12:00 pm (Entire event is from 11am-4pm) \nWhere: Miami Super Car Rooms \n2022 NW 1st Ct\, Wynwood\, FL 33127 \nIf you are YEARLY MEMBER of MiniMe\, entrance to the race is FREE. All others\, race fee is $20. Your child MUST be registered to participate by August 7th. Late Registrations will not be accepted. \n*Every participant will be given a ribbon! \nKid related vendors\, food and drinks will be available for purchase \nTO REGISTER FOR THE RACE: \n1. Go to the link in our bio to Fill out the form and Click Submit \n2. If you are not a yearly member proceed to the payment section and click ADD TO CART \n3. Rentals will be available -MUST RESERVE-\, $15 rentals will get you 1 drag race and 15 minutes on the track. \nAny questions email us at info@minimecarsandcoffee.com or call us at 561-762-6261 or comment below.
URL:https://www.miamicars.com/event/minime-kids-drag-race/
LOCATION:Miami Supercar Rooms\, 2022 Northwest 1st Court\, Miami\, FL\, 33127\, United States
CATEGORIES:Kids,Racing
ATTACH;FMTTYPE=image/jpeg:https://www.miamicars.com/wp-content/uploads/2019/07/minime.jpeg
GEO:25.7960715;-80.1979458
X-APPLE-STRUCTURED-LOCATION;VALUE=URI;X-ADDRESS=Miami Supercar Rooms 2022 Northwest 1st Court Miami FL 33127 United States;X-APPLE-RADIUS=500;X-TITLE=2022 Northwest 1st Court:geo:-80.1979458,25.7960715
END:VEVENT
BEGIN:VEVENT
DTSTART;TZID=America/New_York:20220503T040000
DTEND;TZID=America/New_York:20220503T130000
DTSTAMP:20260419T213737
CREATED:20220318T161004Z
LAST-MODIFIED:20220318T161004Z
UID:14672-1651550400-1651582800@www.miamicars.com
SUMMARY:Supercar Rooms Miami Presents: Miami GP Week 'Paddock Orientation Dinner'
DESCRIPTION:Formula 1 is coming to Miami in spectacular style and Supercar Rooms Miami presents Miami GP Week. A week of adrenaline\, fuel injected automotive pleasure\, a speed fest of action packed entertainment. A programmed activation each day to celebrate the automotive culture embedded here in South Florida. \nThe week commences with: \nMay 3: ‘Paddock Orientation Dinner’ an introductory dinner hosted by Supercar Rooms Miami where a special menu is created and served while you network and enjoy the night within the car community. Here you will find out more detail about the upcoming events and start collecting your limited edition merchandise to get you through the week. \nSponsorship is available. Please enquire at info@supercarrooms.miami \nEvent is open to over 18’s only. No refunds.The menu is a set menu and we cannot substitute any items. The menu is not suitable for those with food allergies or intolerances. Management reserves the right of admissions. \nPlease contact us for more information info@supercarrooms.miami
URL:https://www.miamicars.com/event/supercar-rooms-miami-presents-miami-gp-week-paddock-orientation-dinner/
LOCATION:Miami Supercar Rooms\, 2022 Northwest 1st Court\, Miami\, FL\, 33127\, United States
CATEGORIES:Dining
ATTACH;FMTTYPE=image/jpeg:https://www.miamicars.com/wp-content/uploads/2022/03/https___cdn.evbuc_.com_images_238981459_194058069742_1_original-1.jpeg
GEO:25.7960715;-80.1979458
X-APPLE-STRUCTURED-LOCATION;VALUE=URI;X-ADDRESS=Miami Supercar Rooms 2022 Northwest 1st Court Miami FL 33127 United States;X-APPLE-RADIUS=500;X-TITLE=2022 Northwest 1st Court:geo:-80.1979458,25.7960715
END:VEVENT
END:VCALENDAR