BEGIN:VCALENDAR
VERSION:2.0
PRODID:-//MiamiCars.com - ECPv6.0.1.1//NONSGML v1.0//EN
CALSCALE:GREGORIAN
METHOD:PUBLISH
X-WR-CALNAME:MiamiCars.com
X-ORIGINAL-URL:https://www.miamicars.com
X-WR-CALDESC:Events for MiamiCars.com
REFRESH-INTERVAL;VALUE=DURATION:PT1H
X-Robots-Tag:noindex
X-PUBLISHED-TTL:PT1H
BEGIN:VTIMEZONE
TZID:America/New_York
BEGIN:DAYLIGHT
TZOFFSETFROM:-0500
TZOFFSETTO:-0400
TZNAME:EDT
DTSTART:20230312T070000
END:DAYLIGHT
BEGIN:STANDARD
TZOFFSETFROM:-0400
TZOFFSETTO:-0500
TZNAME:EST
DTSTART:20231105T060000
END:STANDARD
END:VTIMEZONE
BEGIN:VEVENT
DTSTART;TZID=America/New_York:20230917T020000
DTEND;TZID=America/New_York:20230917T113000
DTSTAMP:20260424T133609
CREATED:20230703T210457Z
LAST-MODIFIED:20230703T210457Z
UID:51128-1694916000-1694950200@www.miamicars.com
SUMMARY:Auto Restorers Car Show & Swap Meet
DESCRIPTION:Auto Restorers 46th Annual CAR SHOW & SWAP MEET\nSunday Sept. 17\, 2023 6:00 AM to 3:30 PM\nNICOLLET COUNTY FAIRGROUNDS in St. Peter\, MN\nRain or Shine\nCar Show is Always 3rd Sunday of September
URL:https://www.miamicars.com/event/auto-restorers-car-show-swap-meet/
LOCATION:Nicollet County Fairgrounds\, St. Peter\, MN\, 400 Union St\, St. Peter\, MN\, 56082\, United States
ATTACH;FMTTYPE=image/jpeg:https://www.miamicars.com/wp-content/uploads/2023/07/Ad-2023.jpg
GEO:44.3315839;-93.9590656
X-APPLE-STRUCTURED-LOCATION;VALUE=URI;X-ADDRESS=Nicollet County Fairgrounds St. Peter MN 400 Union St St. Peter MN 56082 United States;X-APPLE-RADIUS=500;X-TITLE=400 Union St:geo:-93.9590656,44.3315839
END:VEVENT
END:VCALENDAR