BEGIN:VCALENDAR
VERSION:2.0
PRODID:-//MiamiCars.com - ECPv6.0.1.1//NONSGML v1.0//EN
CALSCALE:GREGORIAN
METHOD:PUBLISH
X-WR-CALNAME:MiamiCars.com
X-ORIGINAL-URL:https://www.miamicars.com
X-WR-CALDESC:Events for MiamiCars.com
REFRESH-INTERVAL;VALUE=DURATION:PT1H
X-Robots-Tag:noindex
X-PUBLISHED-TTL:PT1H
BEGIN:VTIMEZONE
TZID:America/New_York
BEGIN:DAYLIGHT
TZOFFSETFROM:-0500
TZOFFSETTO:-0400
TZNAME:EDT
DTSTART:20230312T070000
END:DAYLIGHT
BEGIN:STANDARD
TZOFFSETFROM:-0400
TZOFFSETTO:-0500
TZNAME:EST
DTSTART:20231105T060000
END:STANDARD
END:VTIMEZONE
BEGIN:VEVENT
DTSTART;TZID=America/New_York:20230104T040000
DTEND;TZID=America/New_York:20230115T160000
DTSTAMP:20260419T213127
CREATED:20221216T002540Z
LAST-MODIFIED:20221216T002540Z
UID:20352-1672804800-1673798400@www.miamicars.com
SUMMARY:Mecum Kissimmee 2023
DESCRIPTION:With a projected 4\,000 vehicle consignments to be offered at the annual live auction event at Osceola Heritage Park in Florida\, Mecum Kissimmee 2023 will once again raise the standard for the world’s largest collector car auction with a broad selection of American muscle cars\, classics\, Corvettes\, exotics\, trucks\, Hot Rods\, customs and more to cross the auction block Jan. 4-15 with live coverage on MotorTrendTV and MotorTrend+.  Consignment positions for Mecum Kissimmee 2023 are now available\, and those who wish to participate are encouraged to submit a Request for Position form now to take full advantage of pre-auction advertising and promotion.
URL:https://www.miamicars.com/event/mecum-kissimmee-2023/
LOCATION:Osceola Heritage Park\, 1875 Silver Spur Lane\, Kissimmee\, FL\, 34744\, United States
CATEGORIES:Car Meet,Car Show
ATTACH;FMTTYPE=image/jpeg:https://www.miamicars.com/wp-content/uploads/2022/12/FL22_Mecum-Kissimmee-2022_Hirohata-Mercury-on-Auction-Block-1024x683-1.jpg
GEO:28.2989103;-81.3691571
X-APPLE-STRUCTURED-LOCATION;VALUE=URI;X-ADDRESS=Osceola Heritage Park 1875 Silver Spur Lane Kissimmee FL 34744 United States;X-APPLE-RADIUS=500;X-TITLE=1875 Silver Spur Lane:geo:-81.3691571,28.2989103
END:VEVENT
END:VCALENDAR