BEGIN:VCALENDAR
VERSION:2.0
PRODID:-//MiamiCars.com - ECPv6.0.1.1//NONSGML v1.0//EN
CALSCALE:GREGORIAN
METHOD:PUBLISH
X-WR-CALNAME:MiamiCars.com
X-ORIGINAL-URL:https://www.miamicars.com
X-WR-CALDESC:Events for MiamiCars.com
REFRESH-INTERVAL;VALUE=DURATION:PT1H
X-Robots-Tag:noindex
X-PUBLISHED-TTL:PT1H
BEGIN:VTIMEZONE
TZID:America/New_York
BEGIN:DAYLIGHT
TZOFFSETFROM:-0500
TZOFFSETTO:-0400
TZNAME:EDT
DTSTART:20230312T070000
END:DAYLIGHT
BEGIN:STANDARD
TZOFFSETFROM:-0400
TZOFFSETTO:-0500
TZNAME:EST
DTSTART:20231105T060000
END:STANDARD
END:VTIMEZONE
BEGIN:VEVENT
DTSTART;TZID=America/New_York:20230513T090000
DTEND;TZID=America/New_York:20230513T120000
DTSTAMP:20260421T011441
CREATED:20230512T194318Z
LAST-MODIFIED:20230811T215713Z
UID:30931-1683968400-1683979200@www.miamicars.com
SUMMARY:Supercar Saturdays
DESCRIPTION:Every month on the second Saturday. Open to all makes\, models and years of vehicles. However\, the majority of vehicles will be “luxury\, sports\, custom cars\, hypercars\, classic & exotic” cars.  Free to the public.
URL:https://www.miamicars.com/event/supercar-saturdays/2023-05-13/
LOCATION:Seminole Hard Rock Casino\, : 1 Seminole Way\, Hollywood\, FL\, United States
CATEGORIES:Car Show
ATTACH;FMTTYPE=image/jpeg:https://www.miamicars.com/wp-content/uploads/2023/07/IMG_3278.jpg
GEO:26.0508161;-80.2115482
X-APPLE-STRUCTURED-LOCATION;VALUE=URI;X-ADDRESS=Seminole Hard Rock Casino : 1 Seminole Way Hollywood FL United States;X-APPLE-RADIUS=500;X-TITLE=: 1 Seminole Way:geo:-80.2115482,26.0508161
END:VEVENT
BEGIN:VEVENT
DTSTART;TZID=America/New_York:20230610T050000
DTEND;TZID=America/New_York:20230610T080000
DTSTAMP:20260421T011441
CREATED:20230530T192347Z
LAST-MODIFIED:20230530T192347Z
UID:32626-1686373200-1686384000@www.miamicars.com
SUMMARY:Supercar Saturdays Florida
DESCRIPTION:June 10th 9am-12pm. \nTo register your vehicle go to: https://supercarssaturdaysfl.com/event-registration/ \n 
URL:https://www.miamicars.com/event/supercar-saturdays-florida/
LOCATION:Seminole Hard Rock Casino\, : 1 Seminole Way\, Hollywood\, FL\, United States
CATEGORIES:Car Show
ATTACH;FMTTYPE=image/jpeg:https://www.miamicars.com/wp-content/uploads/2023/05/349463442_717823580121159_3553489852040954508_n.jpg
GEO:26.0508161;-80.2115482
X-APPLE-STRUCTURED-LOCATION;VALUE=URI;X-ADDRESS=Seminole Hard Rock Casino : 1 Seminole Way Hollywood FL United States;X-APPLE-RADIUS=500;X-TITLE=: 1 Seminole Way:geo:-80.2115482,26.0508161
END:VEVENT
BEGIN:VEVENT
DTSTART;TZID=America/New_York:20230909T080000
DTEND;TZID=America/New_York:20230909T110000
DTSTAMP:20260421T011441
CREATED:20230901T143634Z
LAST-MODIFIED:20230901T143706Z
UID:85942-1694246400-1694257200@www.miamicars.com
SUMMARY:Corvette 70th Year Anniversary
DESCRIPTION:Saturday at Hard Rock Hotel
URL:https://www.miamicars.com/event/corvette-70th-year-anniversary/
LOCATION:Seminole Hard Rock Casino\, : 1 Seminole Way\, Hollywood\, FL\, United States
CATEGORIES:Car Meet
ATTACH;FMTTYPE=image/jpeg:https://www.miamicars.com/wp-content/uploads/2023/09/374536667_756695313132819_1768105477193930545_n.jpg
GEO:26.0508161;-80.2115482
X-APPLE-STRUCTURED-LOCATION;VALUE=URI;X-ADDRESS=Seminole Hard Rock Casino : 1 Seminole Way Hollywood FL United States;X-APPLE-RADIUS=500;X-TITLE=: 1 Seminole Way:geo:-80.2115482,26.0508161
END:VEVENT
BEGIN:VEVENT
DTSTART;TZID=America/New_York:20231014T090000
DTEND;TZID=America/New_York:20231014T120000
DTSTAMP:20260421T011441
CREATED:20231013T124939Z
LAST-MODIFIED:20231013T124939Z
UID:110545-1697274000-1697284800@www.miamicars.com
SUMMARY:PINKTOBER Supercar Saturdays
DESCRIPTION:Donate to the American Cancer Society
URL:https://www.miamicars.com/event/pinktober-supercar-saturdays/
LOCATION:Seminole Hard Rock Casino\, : 1 Seminole Way\, Hollywood\, FL\, United States
CATEGORIES:Charity Event
ATTACH;FMTTYPE=image/jpeg:https://www.miamicars.com/wp-content/uploads/2023/10/370122390_18317111731101783_3867202175974681315_n.jpg
GEO:26.0508161;-80.2115482
X-APPLE-STRUCTURED-LOCATION;VALUE=URI;X-ADDRESS=Seminole Hard Rock Casino : 1 Seminole Way Hollywood FL United States;X-APPLE-RADIUS=500;X-TITLE=: 1 Seminole Way:geo:-80.2115482,26.0508161
END:VEVENT
END:VCALENDAR