BEGIN:VCALENDAR
VERSION:2.0
PRODID:-//MiamiCars.com - ECPv6.0.1.1//NONSGML v1.0//EN
CALSCALE:GREGORIAN
METHOD:PUBLISH
X-ORIGINAL-URL:https://www.miamicars.com
X-WR-CALDESC:Events for MiamiCars.com
REFRESH-INTERVAL;VALUE=DURATION:PT1H
X-Robots-Tag:noindex
X-PUBLISHED-TTL:PT1H
BEGIN:VTIMEZONE
TZID:America/New_York
BEGIN:DAYLIGHT
TZOFFSETFROM:-0500
TZOFFSETTO:-0400
TZNAME:EDT
DTSTART:20190310T070000
END:DAYLIGHT
BEGIN:STANDARD
TZOFFSETFROM:-0400
TZOFFSETTO:-0500
TZNAME:EST
DTSTART:20191103T060000
END:STANDARD
BEGIN:DAYLIGHT
TZOFFSETFROM:-0500
TZOFFSETTO:-0400
TZNAME:EDT
DTSTART:20200308T070000
END:DAYLIGHT
BEGIN:STANDARD
TZOFFSETFROM:-0400
TZOFFSETTO:-0500
TZNAME:EST
DTSTART:20201101T060000
END:STANDARD
BEGIN:DAYLIGHT
TZOFFSETFROM:-0500
TZOFFSETTO:-0400
TZNAME:EDT
DTSTART:20210314T070000
END:DAYLIGHT
BEGIN:STANDARD
TZOFFSETFROM:-0400
TZOFFSETTO:-0500
TZNAME:EST
DTSTART:20211107T060000
END:STANDARD
BEGIN:DAYLIGHT
TZOFFSETFROM:-0500
TZOFFSETTO:-0400
TZNAME:EDT
DTSTART:20220313T070000
END:DAYLIGHT
BEGIN:STANDARD
TZOFFSETFROM:-0400
TZOFFSETTO:-0500
TZNAME:EST
DTSTART:20221106T060000
END:STANDARD
BEGIN:DAYLIGHT
TZOFFSETFROM:-0500
TZOFFSETTO:-0400
TZNAME:EDT
DTSTART:20230312T070000
END:DAYLIGHT
BEGIN:STANDARD
TZOFFSETFROM:-0400
TZOFFSETTO:-0500
TZNAME:EST
DTSTART:20231105T060000
END:STANDARD
END:VTIMEZONE
BEGIN:VEVENT
DTSTART;TZID=America/New_York:20190914T040000
DTEND;TZID=America/New_York:20190915T110000
DTSTAMP:20260422T064033
CREATED:20190730T184703Z
LAST-MODIFIED:20190730T184703Z
UID:3826-1568433600-1568545200@www.miamicars.com
SUMMARY:Palm Beach Car Swap and Car Show Meets
DESCRIPTION:Automotive/Antique Car Swap Meet – Car Corral – Car Show \nWest Palm Beach\, Florida… The 2019 Palm Beach Car Swap Meets & Classic Car Show draws spectators from all across Florida to shop over 1000’s of hard to find car parts and accessories. Don’t miss an opportunity to come to our classic car event. Mark your calendar now! Come to buy\, come to sell or come to look. Bring the whole family for a great day! \nIn the Automotive Swap Meet area you’ll find everything under the automotive sun from gauges to tires & wheels\, vehicle frames to fenders\, shop signs to vintage automotive toys and so much more! \nIn the Car Corral you can sell or buy cars and trucks of all styles and years that are ready to cruise and ready to restore. Sell or Buy Your Classic Car… \nCar Show is FREE with Paid Admission. Prizes and Trophies will be given out. See past winners at our website www.SouthFLCarSwapMeets.com.. \nSpeaking on the location\, event promoter Larry Burdgick said\, “The South Florida Fairgrounds is the perfect venue since its right in the heart of the Palm Beach County\, the largest county east of the Mississippi and they offer the space we need.” \nFind vendors selling car\, truck & motorcycle parts\, leather goods\, sunglasses\, t-shirts\, shop rags\, tires & wheels\, titles and much more. This is a family friendly event. Plenty of FREE parking. Show hours Saturday and Sunday 8am-3pm. \nVisit the South Florida Car Swap Meets website for more information\, special hotel rates and specific driving directions: http://www.SouthFLCarSwapMeets.com. For vendor information\, visit the website or contact Under the Sun Promotions at 954-205-7813 or e-mail: info@SouthFLCarSwapMeets.com
URL:https://www.miamicars.com/event/palm-beach-car-swap-and-car-show-meets/
LOCATION:South Florida Fairgrounds\, 9067 Southern Blvd\, West Palm Beach\, FL\, 33411\, United States
CATEGORIES:Car Show
ATTACH;FMTTYPE=image/jpeg:https://www.miamicars.com/wp-content/uploads/2019/07/swap-car.jpeg
GEO:26.6841617;-80.1889232
X-APPLE-STRUCTURED-LOCATION;VALUE=URI;X-ADDRESS=South Florida Fairgrounds 9067 Southern Blvd West Palm Beach FL 33411 United States;X-APPLE-RADIUS=500;X-TITLE=9067 Southern Blvd:geo:-80.1889232,26.6841617
END:VEVENT
BEGIN:VEVENT
DTSTART;VALUE=DATE:20220406
DTEND;VALUE=DATE:20220410
DTSTAMP:20260422T064033
CREATED:20210927T165509Z
LAST-MODIFIED:20210927T165509Z
UID:10743-1649275200-1649534399@www.miamicars.com
SUMMARY:The World's Greatest Collector Car Auctions - Barret-Jackson Palm Beach
DESCRIPTION:The World’s Greatest Collector Car Auctions® returns to the South Florida Fairgrounds April 7-9\, 2021\, as Barrett-Jackson presents its 2022 Palm Beach Auction. The auction has evolved over the years into a world-class automotive lifestyle event where hundreds of the world’s most sought-after\, unique and valuable automobiles cross the block in front of a global audience — in person and on live national and international television on FYI and HISTORY\, as well as on the enhanced live stream on Barrett-Jackson.com. \nWitness collector car passion at its best\, capture the car of your dreams on the auction block\, mingle with celebrities\, experience adrenaline-pumping thrill rides in the latest vehicles from America’s top automakers\, or shop in the vast Exhibitor Marketplace. For tickets and more information\, visit Barrett-Jackson.com. \nBarrett-Jackson Palm Beach
URL:https://www.miamicars.com/event/the-worlds-greatest-collector-car-auctions-barret-jackson-palm-beach/
LOCATION:South Florida Fairgrounds\, 9067 Southern Blvd\, West Palm Beach\, FL\, 33411\, United States
CATEGORIES:Auction
ATTACH;FMTTYPE=image/jpeg:https://www.miamicars.com/wp-content/uploads/2021/09/barret-jackson.jpeg
GEO:26.6841617;-80.1889232
X-APPLE-STRUCTURED-LOCATION;VALUE=URI;X-ADDRESS=South Florida Fairgrounds 9067 Southern Blvd West Palm Beach FL 33411 United States;X-APPLE-RADIUS=500;X-TITLE=9067 Southern Blvd:geo:-80.1889232,26.6841617
END:VEVENT
BEGIN:VEVENT
DTSTART;TZID=America/New_York:20220604T040000
DTEND;TZID=America/New_York:20220604T133000
DTSTAMP:20260422T064033
CREATED:20220527T215240Z
LAST-MODIFIED:20220527T215423Z
UID:16852-1654315200-1654349400@www.miamicars.com
SUMMARY:Blood Drag Car Show
DESCRIPTION:Inside the expo center is going to be all the VIP rides\, our main stage and our wonderful vendors. The Yesteryear village section will be the home to all things pre-1998 for that old school feeling. We’ll have a special section called “The Lifted Corral” for all the awesome lifted trucks\, swamp buggies and air boats.  There will be many activities throughout the day such as raffles\, giveaways\, live music\, food trucks\, a car smash and a burnout box.  Online registration HERE.  $15 spectator.
URL:https://www.miamicars.com/event/blood-drag-car-show/
LOCATION:South Florida Fairgrounds\, 9067 Southern Blvd\, West Palm Beach\, FL\, 33411\, United States
CATEGORIES:Car Show
ATTACH;FMTTYPE=image/jpeg:https://www.miamicars.com/wp-content/uploads/2022/05/Blood-drag-design-4x6-FRONT-1035x1536-1.jpg
GEO:26.6841617;-80.1889232
X-APPLE-STRUCTURED-LOCATION;VALUE=URI;X-ADDRESS=South Florida Fairgrounds 9067 Southern Blvd West Palm Beach FL 33411 United States;X-APPLE-RADIUS=500;X-TITLE=9067 Southern Blvd:geo:-80.1889232,26.6841617
END:VEVENT
BEGIN:VEVENT
DTSTART;TZID=America/New_York:20230211T040000
DTEND;TZID=America/New_York:20230212T120000
DTSTAMP:20260422T064033
CREATED:20230123T194432Z
LAST-MODIFIED:20230123T194522Z
UID:20594-1676088000-1676203200@www.miamicars.com
SUMMARY:Palm Beach Car Swap Meets & Classic Car Show
DESCRIPTION:In the swap meet you’ll find everything under automotive sun from gauges to tires and wheels\, vehicle frames to fenders\, shop sign to vintage automotive toys and so much more!. \nSuppose you’re looking to buy or sell any hard-to-find classic automotive parts\, memorabilia or even a vehicle. In that case\, the Swap Meet & Cars 4 Sale Corral is the selling or shopping experience for you. \nAnd in the Car Corral you’ll find cars and trucks of all styles and years that are ready to cruise and ready to restore. \nVisit the website for more information\, special hotel rates\, and specific driving directions.
URL:https://www.miamicars.com/event/palm-beach-car-swap-meets-classic-car-show/
LOCATION:South Florida Fairgrounds\, 9067 Southern Blvd\, West Palm Beach\, FL\, 33411\, United States
CATEGORIES:Car Meet,Car Show
ATTACH;FMTTYPE=image/jpeg:https://www.miamicars.com/wp-content/uploads/2023/01/optimized-car-2-min-3-scaled-1.jpg
GEO:26.6841617;-80.1889232
X-APPLE-STRUCTURED-LOCATION;VALUE=URI;X-ADDRESS=South Florida Fairgrounds 9067 Southern Blvd West Palm Beach FL 33411 United States;X-APPLE-RADIUS=500;X-TITLE=9067 Southern Blvd:geo:-80.1889232,26.6841617
END:VEVENT
BEGIN:VEVENT
DTSTART;TZID=America/New_York:20230902T100000
DTEND;TZID=America/New_York:20230902T180000
DTSTAMP:20260422T064033
CREATED:20230804T113119Z
LAST-MODIFIED:20230804T113119Z
UID:68816-1693648800-1693677600@www.miamicars.com
SUMMARY:5th Annual Palm Beach Car Swap Meets & Car Show
DESCRIPTION:In the swap meet you’ll find everything under automotive sun from gauges to tires and wheels\, vehicle frames to fenders\, shop sign to vintage automotive toys and so much more!. \nSuppose you’re looking to buy or sell any hard-to-find classic automotive parts\, memorabilia or even a vehicle. In that case\, the Swap Meet & Cars 4 Sale Corral is the selling or shopping experience for you. \nAnd in the Car Corral you’ll find cars and trucks of all styles and years that are ready to cruise and ready to restore. \nVisit the website for more information\, special hotel rates\, and specific driving directions.  $10 for show car registration. Spectators are $10.
URL:https://www.miamicars.com/event/5th-annual-palm-beach-car-swap-meets-car-show/
LOCATION:South Florida Fairgrounds\, 9067 Southern Blvd\, West Palm Beach\, FL\, 33411\, United States
CATEGORIES:Car Meet
ATTACH;FMTTYPE=image/jpeg:https://www.miamicars.com/wp-content/uploads/2023/08/West-Palm-Car-Swap-Meet-Sept-735x1024-1.jpeg
GEO:26.6841617;-80.1889232
X-APPLE-STRUCTURED-LOCATION;VALUE=URI;X-ADDRESS=South Florida Fairgrounds 9067 Southern Blvd West Palm Beach FL 33411 United States;X-APPLE-RADIUS=500;X-TITLE=9067 Southern Blvd:geo:-80.1889232,26.6841617
END:VEVENT
END:VCALENDAR