BEGIN:VCALENDAR
VERSION:2.0
PRODID:-//MiamiCars.com - ECPv6.0.1.1//NONSGML v1.0//EN
CALSCALE:GREGORIAN
METHOD:PUBLISH
X-WR-CALNAME:MiamiCars.com
X-ORIGINAL-URL:https://www.miamicars.com
X-WR-CALDESC:Events for MiamiCars.com
REFRESH-INTERVAL;VALUE=DURATION:PT1H
X-Robots-Tag:noindex
X-PUBLISHED-TTL:PT1H
BEGIN:VTIMEZONE
TZID:America/New_York
BEGIN:DAYLIGHT
TZOFFSETFROM:-0500
TZOFFSETTO:-0400
TZNAME:EDT
DTSTART:20230312T070000
END:DAYLIGHT
BEGIN:STANDARD
TZOFFSETFROM:-0400
TZOFFSETTO:-0500
TZNAME:EST
DTSTART:20231105T060000
END:STANDARD
END:VTIMEZONE
BEGIN:VEVENT
DTSTART;TZID=America/New_York:20230624T040000
DTEND;TZID=America/New_York:20230624T130000
DTSTAMP:20260422T042737
CREATED:20230624T010005Z
LAST-MODIFIED:20230624T010035Z
UID:46037-1687579200-1687611600@www.miamicars.com
SUMMARY:Blazing Car Expo
DESCRIPTION:Join us for an array of exotic cars & gas ranging from delta 8\, HHC\, delta 9\, delta 10\, etc. smokable and edible products. \nGet advice from a canna connoisseur knowledgeable on the effects of THC to enhance your shopping experience. \nMenu: \nWant more information on our products? Check out our online menu of best sellers by clicking here. \nAdvisory: Must be 21+. Do not operate machinery. Products are compliant with the 2018 Hemp Farm bill. \nFor more info click here: Greened\, co.
URL:https://www.miamicars.com/event/blazing-car-expo/
LOCATION:Strawberries\, Strawberries 3600 Northwest 191st\, Miami\, FL\, 33056\, United States
CATEGORIES:Conference
ATTACH;FMTTYPE=image/jpeg:https://www.miamicars.com/wp-content/uploads/2023/06/LSS.jpg
GEO:25.9474022;-80.2608481
X-APPLE-STRUCTURED-LOCATION;VALUE=URI;X-ADDRESS=Strawberries Strawberries 3600 Northwest 191st Miami FL 33056 United States;X-APPLE-RADIUS=500;X-TITLE=Strawberries 3600 Northwest 191st:geo:-80.2608481,25.9474022
END:VEVENT
END:VCALENDAR