BEGIN:VCALENDAR
VERSION:2.0
PRODID:-//MiamiCars.com - ECPv6.0.1.1//NONSGML v1.0//EN
CALSCALE:GREGORIAN
METHOD:PUBLISH
X-ORIGINAL-URL:https://www.miamicars.com
X-WR-CALDESC:Events for MiamiCars.com
REFRESH-INTERVAL;VALUE=DURATION:PT1H
X-Robots-Tag:noindex
X-PUBLISHED-TTL:PT1H
BEGIN:VTIMEZONE
TZID:America/New_York
BEGIN:DAYLIGHT
TZOFFSETFROM:-0500
TZOFFSETTO:-0400
TZNAME:EDT
DTSTART:20220313T070000
END:DAYLIGHT
BEGIN:STANDARD
TZOFFSETFROM:-0400
TZOFFSETTO:-0500
TZNAME:EST
DTSTART:20221106T060000
END:STANDARD
BEGIN:DAYLIGHT
TZOFFSETFROM:-0500
TZOFFSETTO:-0400
TZNAME:EDT
DTSTART:20230312T070000
END:DAYLIGHT
BEGIN:STANDARD
TZOFFSETFROM:-0400
TZOFFSETTO:-0500
TZNAME:EST
DTSTART:20231105T060000
END:STANDARD
BEGIN:DAYLIGHT
TZOFFSETFROM:-0500
TZOFFSETTO:-0400
TZNAME:EDT
DTSTART:20240310T070000
END:DAYLIGHT
BEGIN:STANDARD
TZOFFSETFROM:-0400
TZOFFSETTO:-0500
TZNAME:EST
DTSTART:20241103T060000
END:STANDARD
END:VTIMEZONE
BEGIN:VEVENT
DTSTART;TZID=America/New_York:20220722T040000
DTEND;TZID=America/New_York:20220722T130000
DTSTAMP:20260420T122402
CREATED:20220722T214738Z
LAST-MODIFIED:20220722T214738Z
UID:18217-1658462400-1658494800@www.miamicars.com
SUMMARY:Miata Cruise In
DESCRIPTION:
URL:https://www.miamicars.com/event/miata-cruise-in/
LOCATION:Summer Crush Winery\, 4200 Johnston Road\, Fort Pierce\, Miami\, FL\, United States
CATEGORIES:Car Meet
ATTACH;FMTTYPE=image/jpeg:https://www.miamicars.com/wp-content/uploads/2022/07/Miata.jpg
GEO:27.5120103;-80.4255455
X-APPLE-STRUCTURED-LOCATION;VALUE=URI;X-ADDRESS=Summer Crush Winery 4200 Johnston Road Fort Pierce Miami FL United States;X-APPLE-RADIUS=500;X-TITLE=4200 Johnston Road\, Fort Pierce:geo:-80.4255455,27.5120103
END:VEVENT
BEGIN:VEVENT
DTSTART;TZID=America/New_York:20221016T063000
DTEND;TZID=America/New_York:20221016T120000
DTSTAMP:20260420T122402
CREATED:20221006T225450Z
LAST-MODIFIED:20221006T225450Z
UID:19675-1665901800-1665921600@www.miamicars.com
SUMMARY:Cruzin to Fall Car Show
DESCRIPTION:The No Name Car Club is the host. All makes\, models\, and years are welcome. Best of show plus ten awards for popular vote. Awards at 3 p.m.; registration from 10:30 to noon. Excellent meal\, live entertainment\, and chilled wine and beer. Driver and passenger entrance was included in registration. Fees for spectators to enter vary. Prices can be found HERE.
URL:https://www.miamicars.com/event/cruzin-to-fall-car-show/
LOCATION:Summer Crush Winery\, 4200 Johnston Road\, Fort Pierce\, Miami\, FL\, United States
CATEGORIES:Car Show
ATTACH;FMTTYPE=image/jpeg:https://www.miamicars.com/wp-content/uploads/2022/10/101622nncc-1179x1536-1.jpg
GEO:27.5120103;-80.4255455
X-APPLE-STRUCTURED-LOCATION;VALUE=URI;X-ADDRESS=Summer Crush Winery 4200 Johnston Road Fort Pierce Miami FL United States;X-APPLE-RADIUS=500;X-TITLE=4200 Johnston Road\, Fort Pierce:geo:-80.4255455,27.5120103
END:VEVENT
BEGIN:VEVENT
DTSTART;TZID=America/New_York:20230115T053000
DTEND;TZID=America/New_York:20230115T110000
DTSTAMP:20260420T122402
CREATED:20221216T011756Z
LAST-MODIFIED:20221216T011756Z
UID:20365-1673760600-1673780400@www.miamicars.com
SUMMARY:Vettes in the Vineyard Car Show
DESCRIPTION:Hosted by the No Name Car Club.  Best in show plus 10 people’s choice awards. Registration 10:30-noon\, awards at 3pm.  Great live entertainment\, food\, and cold beer & wine.  Registration included admission for driver and passenger.  Spectator admission fee varies.  Please check HERE for prices.
URL:https://www.miamicars.com/event/vettes-in-the-vineyard-car-show/
LOCATION:Summer Crush Winery\, 4200 Johnston Road\, Fort Pierce\, Miami\, FL\, United States
CATEGORIES:Car Meet,Car Show
ATTACH;FMTTYPE=image/jpeg:https://www.miamicars.com/wp-content/uploads/2022/12/011523nncc-1179x1536-1.jpg
GEO:27.5120103;-80.4255455
X-APPLE-STRUCTURED-LOCATION;VALUE=URI;X-ADDRESS=Summer Crush Winery 4200 Johnston Road Fort Pierce Miami FL United States;X-APPLE-RADIUS=500;X-TITLE=4200 Johnston Road\, Fort Pierce:geo:-80.4255455,27.5120103
END:VEVENT
BEGIN:VEVENT
DTSTART;TZID=America/New_York:20230218T053000
DTEND;TZID=America/New_York:20230218T110000
DTSTAMP:20260420T122402
CREATED:20230123T201051Z
LAST-MODIFIED:20230123T201444Z
UID:20616-1676698200-1676718000@www.miamicars.com
SUMMARY:Winter Mopar Show plus British Invasion Cruise In
DESCRIPTION:Hosted by the No Name Car Club.   Best in show plus 10 people’s choice awards. Registration 10:30-noon\, awards at 3pm.    Great live entertainment\, food\, and cold beer & wine.  Registration included admission for driver and passenger.  Spectator admission fee varies.  Please check HERE for prices.
URL:https://www.miamicars.com/event/winter-mopar-show-plus-british-invasion-cruise-in/
LOCATION:Summer Crush Winery\, 4200 Johnston Road\, Fort Pierce\, Miami\, FL\, United States
CATEGORIES:Car Meet,Cruise-In
ATTACH;FMTTYPE=image/jpeg:https://www.miamicars.com/wp-content/uploads/2023/01/summer-crush-2-18-23-786x1024-1.jpg
GEO:27.5120103;-80.4255455
X-APPLE-STRUCTURED-LOCATION;VALUE=URI;X-ADDRESS=Summer Crush Winery 4200 Johnston Road Fort Pierce Miami FL United States;X-APPLE-RADIUS=500;X-TITLE=4200 Johnston Road\, Fort Pierce:geo:-80.4255455,27.5120103
END:VEVENT
BEGIN:VEVENT
DTSTART;TZID=America/New_York:20230226T053000
DTEND;TZID=America/New_York:20230226T110000
DTSTAMP:20260420T122402
CREATED:20230214T215455Z
LAST-MODIFIED:20230214T215455Z
UID:21528-1677389400-1677409200@www.miamicars.com
SUMMARY:All GM Car & Truck Show
DESCRIPTION:Hosted by the No Name Car Club.   Best in show plus 10 people’s choice awards. Registration 10:30-noon\, awards at 3pm.    Great live entertainment\, food\, and cold beer & wine.  Registration included admission for driver and passenger.  Spectator admission fee varies.  Please check HERE for prices.
URL:https://www.miamicars.com/event/all-gm-car-truck-show/
LOCATION:Summer Crush Winery\, 4200 Johnston Road\, Fort Pierce\, Miami\, FL\, United States
CATEGORIES:Car Show
ATTACH;FMTTYPE=image/jpeg:https://www.miamicars.com/wp-content/uploads/2023/02/SUMMER-CRUSH-FEB-26-2023all-sho-786x1024-1.jpg
GEO:27.5120103;-80.4255455
X-APPLE-STRUCTURED-LOCATION;VALUE=URI;X-ADDRESS=Summer Crush Winery 4200 Johnston Road Fort Pierce Miami FL United States;X-APPLE-RADIUS=500;X-TITLE=4200 Johnston Road\, Fort Pierce:geo:-80.4255455,27.5120103
END:VEVENT
BEGIN:VEVENT
DTSTART;TZID=America/New_York:20230423T063000
DTEND;TZID=America/New_York:20230423T120000
DTSTAMP:20260420T122402
CREATED:20230317T222837Z
LAST-MODIFIED:20230317T222837Z
UID:22737-1682231400-1682251200@www.miamicars.com
SUMMARY:Mustang Roundup & All Ford Show
DESCRIPTION:Hosted by the No Name Car Club.  Best in show Mustang and a Ford  car or truck plus 10 people’s choice awards. Registration 10:30-noon\, awards at 3pm.  Great live entertainment\, food\, and cold beer & wine.  Registration included admission for driver and passenger.  Spectator admission fee varies.  Please check HERE for prices.
URL:https://www.miamicars.com/event/mustang-roundup-all-ford-show/
LOCATION:Summer Crush Winery\, 4200 Johnston Road\, Fort Pierce\, Miami\, FL\, United States
CATEGORIES:Car Meet,Car Show
ATTACH;FMTTYPE=image/jpeg:https://www.miamicars.com/wp-content/uploads/2023/03/Summer-crush-Mustang-Ford-Show2-786x1024-1.jpg
GEO:27.5120103;-80.4255455
X-APPLE-STRUCTURED-LOCATION;VALUE=URI;X-ADDRESS=Summer Crush Winery 4200 Johnston Road Fort Pierce Miami FL United States;X-APPLE-RADIUS=500;X-TITLE=4200 Johnston Road\, Fort Pierce:geo:-80.4255455,27.5120103
END:VEVENT
BEGIN:VEVENT
DTSTART;TZID=America/New_York:20230528T063000
DTEND;TZID=America/New_York:20230528T120000
DTSTAMP:20260420T122402
CREATED:20230412T175400Z
LAST-MODIFIED:20230412T175400Z
UID:28266-1685255400-1685275200@www.miamicars.com
SUMMARY:Hot Roddin for Heroes Memorial Weekend Show
DESCRIPTION:Hosted by the No Name Car Club.   Best in show plus 10 people’s choice awards. Registration 10:30-noon\, awards at 3pm.    Great live entertainment\, food\, and cold beer & wine.  Registration included admission for driver and passenger.  Spectator admission fee varies.  Please check HERE for prices.
URL:https://www.miamicars.com/event/hot-roddin-for-heroes-memorial-weekend-show/
LOCATION:Summer Crush Winery\, 4200 Johnston Road\, Fort Pierce\, Miami\, FL\, United States
CATEGORIES:Car Show
ATTACH;FMTTYPE=image/jpeg:https://www.miamicars.com/wp-content/uploads/2023/04/052823nncc-786x1024-1.jpg
GEO:27.5120103;-80.4255455
X-APPLE-STRUCTURED-LOCATION;VALUE=URI;X-ADDRESS=Summer Crush Winery 4200 Johnston Road Fort Pierce Miami FL United States;X-APPLE-RADIUS=500;X-TITLE=4200 Johnston Road\, Fort Pierce:geo:-80.4255455,27.5120103
END:VEVENT
BEGIN:VEVENT
DTSTART;TZID=America/New_York:20231015T103000
DTEND;TZID=America/New_York:20231015T160000
DTSTAMP:20260420T122402
CREATED:20231006T143055Z
LAST-MODIFIED:20231006T143055Z
UID:106488-1697365800-1697385600@www.miamicars.com
SUMMARY:Cruzin To Fall Car & Truck Show
DESCRIPTION:Hosted by the No Name Car Club.   Best in show plus 10 people’s choice awards. Registration 10:30-noon\, awards at 3pm.    Great live entertainment\, food\, and cold beer & wine.  Registration included admission for driver and passenger.  Spectator admission fee varies.  Please check HERE for prices.
URL:https://www.miamicars.com/event/cruzin-to-fall-car-truck-show/
LOCATION:Summer Crush Winery\, 4200 Johnston Road\, Fort Pierce\, Miami\, FL\, United States
CATEGORIES:Car Show
ATTACH;FMTTYPE=image/jpeg:https://www.miamicars.com/wp-content/uploads/2023/10/Summer-crush10-15-23-786x1024-1.jpg
GEO:27.5120103;-80.4255455
X-APPLE-STRUCTURED-LOCATION;VALUE=URI;X-ADDRESS=Summer Crush Winery 4200 Johnston Road Fort Pierce Miami FL United States;X-APPLE-RADIUS=500;X-TITLE=4200 Johnston Road\, Fort Pierce:geo:-80.4255455,27.5120103
END:VEVENT
BEGIN:VEVENT
DTSTART;TZID=America/New_York:20231104T070000
DTEND;TZID=America/New_York:20231104T120000
DTSTAMP:20260420T122402
CREATED:20220928T011027Z
LAST-MODIFIED:20231027T171114Z
UID:19268-1699081200-1699099200@www.miamicars.com
SUMMARY:Miata Cruise In
DESCRIPTION:The No Name Car Club is the host. Dyer Mazda of Vero Beach is the sponsor. A trophy for best in show is given to the best Miata from each generation. Excellent meal\, live entertainment\, and chilled wine and beer. Driver and passenger entrance was included in registration. Fees for spectators to enter vary. Prices can be found HERE.
URL:https://www.miamicars.com/event/miata-cruise-in-2/
LOCATION:Summer Crush Winery\, 4200 Johnston Road\, Fort Pierce\, Miami\, FL\, United States
CATEGORIES:Car Meet
ATTACH;FMTTYPE=image/jpeg:https://www.miamicars.com/wp-content/uploads/2022/09/thumbnail.jpg
GEO:27.5120103;-80.4255455
X-APPLE-STRUCTURED-LOCATION;VALUE=URI;X-ADDRESS=Summer Crush Winery 4200 Johnston Road Fort Pierce Miami FL United States;X-APPLE-RADIUS=500;X-TITLE=4200 Johnston Road\, Fort Pierce:geo:-80.4255455,27.5120103
END:VEVENT
BEGIN:VEVENT
DTSTART;TZID=America/New_York:20231111T103000
DTEND;TZID=America/New_York:20231111T160000
DTSTAMP:20260420T122402
CREATED:20231027T170013Z
LAST-MODIFIED:20231027T170013Z
UID:118910-1699698600-1699718400@www.miamicars.com
SUMMARY:Hot Rod’n For Heroes Car Show
DESCRIPTION:
URL:https://www.miamicars.com/event/hot-rodn-for-heroes-car-show/
LOCATION:Summer Crush Winery\, 4200 Johnston Road\, Fort Pierce\, Miami\, FL\, United States
CATEGORIES:Car Show
ATTACH;FMTTYPE=image/jpeg:https://www.miamicars.com/wp-content/uploads/2023/10/Summer-crush-fix1-786x1024-1.jpg
GEO:27.5120103;-80.4255455
X-APPLE-STRUCTURED-LOCATION;VALUE=URI;X-ADDRESS=Summer Crush Winery 4200 Johnston Road Fort Pierce Miami FL United States;X-APPLE-RADIUS=500;X-TITLE=4200 Johnston Road\, Fort Pierce:geo:-80.4255455,27.5120103
END:VEVENT
BEGIN:VEVENT
DTSTART;TZID=America/New_York:20240120T120000
DTEND;TZID=America/New_York:20240120T160000
DTSTAMP:20260420T122402
CREATED:20240105T162121Z
LAST-MODIFIED:20240105T162121Z
UID:160434-1705752000-1705766400@www.miamicars.com
SUMMARY:Vettes in the Vineyard
DESCRIPTION:Hosted by the No Name Car Club.  Corvette show only.   Best in show plus 10 people’s choice awards. Registration 10:30-noon\, awards at 3pm.    Great live entertainment\, food\, and cold beer & wine.  Registration included admission for driver and passenger.  Spectator admission fee varies.  Please check HERE for prices.
URL:https://www.miamicars.com/event/vettes-in-the-vineyard/
LOCATION:Summer Crush Winery\, 4200 Johnston Road\, Fort Pierce\, Miami\, FL\, United States
CATEGORIES:Car Show
ATTACH;FMTTYPE=image/jpeg:https://www.miamicars.com/wp-content/uploads/2024/01/Summer-1-20-24-786x1024-1.jpg
GEO:27.5120103;-80.4255455
X-APPLE-STRUCTURED-LOCATION;VALUE=URI;X-ADDRESS=Summer Crush Winery 4200 Johnston Road Fort Pierce Miami FL United States;X-APPLE-RADIUS=500;X-TITLE=4200 Johnston Road\, Fort Pierce:geo:-80.4255455,27.5120103
END:VEVENT
BEGIN:VEVENT
DTSTART;TZID=America/New_York:20240324T103000
DTEND;TZID=America/New_York:20240324T153000
DTSTAMP:20260420T122402
CREATED:20240308T172958Z
LAST-MODIFIED:20240308T172958Z
UID:197510-1711276200-1711294200@www.miamicars.com
SUMMARY:Treasure Coast Mopar Nationals & Spring Cruzin Open Show
DESCRIPTION:Best in show plus 10 people’s choice awards. Registration 10:30-noon\, awards at 3pm.    Great live entertainment\, food\, and cold beer & wine.  Registration included admission for driver and passenger.  Spectator admission fee varies.  Please check HERE for prices.
URL:https://www.miamicars.com/event/treasure-coast-mopar-nationals-spring-cruzin-open-show/
LOCATION:Summer Crush Winery\, 4200 Johnston Road\, Fort Pierce\, Miami\, FL\, United States
CATEGORIES:Car Show
ATTACH;FMTTYPE=image/jpeg:https://www.miamicars.com/wp-content/uploads/2024/03/SUMMER-crush-3-24-24-786x1024-1.jpg
GEO:27.5120103;-80.4255455
X-APPLE-STRUCTURED-LOCATION;VALUE=URI;X-ADDRESS=Summer Crush Winery 4200 Johnston Road Fort Pierce Miami FL United States;X-APPLE-RADIUS=500;X-TITLE=4200 Johnston Road\, Fort Pierce:geo:-80.4255455,27.5120103
END:VEVENT
END:VCALENDAR