BEGIN:VCALENDAR
VERSION:2.0
PRODID:-//MiamiCars.com - ECPv6.0.1.1//NONSGML v1.0//EN
CALSCALE:GREGORIAN
METHOD:PUBLISH
X-ORIGINAL-URL:https://www.miamicars.com
X-WR-CALDESC:Events for MiamiCars.com
REFRESH-INTERVAL;VALUE=DURATION:PT1H
X-Robots-Tag:noindex
X-PUBLISHED-TTL:PT1H
BEGIN:VTIMEZONE
TZID:America/New_York
BEGIN:DAYLIGHT
TZOFFSETFROM:-0500
TZOFFSETTO:-0400
TZNAME:EDT
DTSTART:20220313T070000
END:DAYLIGHT
BEGIN:STANDARD
TZOFFSETFROM:-0400
TZOFFSETTO:-0500
TZNAME:EST
DTSTART:20221106T060000
END:STANDARD
END:VTIMEZONE
BEGIN:VEVENT
DTSTART;TZID=America/New_York:20221029T090000
DTEND;TZID=America/New_York:20221029T120000
DTSTAMP:20260425T091956
CREATED:20220830T002543Z
LAST-MODIFIED:20220830T002543Z
UID:18789-1667034000-1667044800@www.miamicars.com
SUMMARY:Tavolino Delle Notte Car Cruise
DESCRIPTION:Brought to you by Tara Burner Promotions.  All years and models are welcome.  Enjoy the buffet of delectable eats plus part of the proceeds will be donated to St Jude’s Children’s Hospital.    Beer\, prizes\, and music by DJ Eugene.
URL:https://www.miamicars.com/event/tavolino-delle-notte-car-cruise/
LOCATION:Tavolino Delle Notte\, 10181 W Sample Rd\, Coral Springs\, Miami\, FL\, 33065\, United States
CATEGORIES:Car Meet
ATTACH;FMTTYPE=image/jpeg:https://www.miamicars.com/wp-content/uploads/2022/08/fcc.jpg
GEO:26.2729189;-80.2619698
X-APPLE-STRUCTURED-LOCATION;VALUE=URI;X-ADDRESS=Tavolino Delle Notte 10181 W Sample Rd Coral Springs Miami FL 33065 United States;X-APPLE-RADIUS=500;X-TITLE=10181 W Sample Rd\, Coral Springs:geo:-80.2619698,26.2729189
END:VEVENT
END:VCALENDAR