BEGIN:VCALENDAR
VERSION:2.0
PRODID:-//MiamiCars.com - ECPv6.0.1.1//NONSGML v1.0//EN
CALSCALE:GREGORIAN
METHOD:PUBLISH
X-WR-CALNAME:MiamiCars.com
X-ORIGINAL-URL:https://www.miamicars.com
X-WR-CALDESC:Events for MiamiCars.com
REFRESH-INTERVAL;VALUE=DURATION:PT1H
X-Robots-Tag:noindex
X-PUBLISHED-TTL:PT1H
BEGIN:VTIMEZONE
TZID:America/New_York
BEGIN:DAYLIGHT
TZOFFSETFROM:-0500
TZOFFSETTO:-0400
TZNAME:EDT
DTSTART:20220313T070000
END:DAYLIGHT
BEGIN:STANDARD
TZOFFSETFROM:-0400
TZOFFSETTO:-0500
TZNAME:EST
DTSTART:20221106T060000
END:STANDARD
BEGIN:DAYLIGHT
TZOFFSETFROM:-0500
TZOFFSETTO:-0400
TZNAME:EDT
DTSTART:20230312T070000
END:DAYLIGHT
BEGIN:STANDARD
TZOFFSETFROM:-0400
TZOFFSETTO:-0500
TZNAME:EST
DTSTART:20231105T060000
END:STANDARD
END:VTIMEZONE
BEGIN:VEVENT
DTSTART;TZID=America/New_York:20221030T080000
DTEND;TZID=America/New_York:20221030T110000
DTSTAMP:20260421T024820
CREATED:20221006T230840Z
LAST-MODIFIED:20221006T230840Z
UID:19684-1667116800-1667127600@www.miamicars.com
SUMMARY:Trunk or Treat Creepy Car Show
DESCRIPTION:Open to all years\, makes\, and models.  Costume contest will be awarded gift certificates for 1st place $60\, 2nd place $30\, 3rd place $15.  Car show awards will be 1st place $50\, 2nd & 3rd place $25 plus an additional 4 gift certificates at $25 a piece for specialty awards like best in show\, most haunted\, etc.  Please bring candy for the kids.  For all Foxbody Mustangs will be given a 10 percent discount applied to the whole checks (food & beverage including alcohol).
URL:https://www.miamicars.com/event/trunk-or-treat-creepy-car-show/
LOCATION:The Cage Bar & Grill\, 6870 Stirling Road\, Hollywood\, Florida\, Miami\, FL\, 33024\, United States
CATEGORIES:Car Meet,Car Show
ATTACH;FMTTYPE=image/jpeg:https://www.miamicars.com/wp-content/uploads/2022/10/103022tot.jpg
GEO:26.0453427;-80.2265763
X-APPLE-STRUCTURED-LOCATION;VALUE=URI;X-ADDRESS=The Cage Bar & Grill 6870 Stirling Road Hollywood Florida Miami FL 33024 United States;X-APPLE-RADIUS=500;X-TITLE=6870 Stirling Road\, Hollywood\, Florida:geo:-80.2265763,26.0453427
END:VEVENT
BEGIN:VEVENT
DTSTART;TZID=America/New_York:20230712T140000
DTEND;TZID=America/New_York:20230712T170000
DTSTAMP:20260421T024820
CREATED:20220630T230240Z
LAST-MODIFIED:20230711T163519Z
UID:17772-1689170400-1689181200@www.miamicars.com
SUMMARY:Road Kings of Hollywood Cruise In at The Cage
DESCRIPTION:We’d Love to see you and your amazing ride at our monthly Cruise-in at The Cage Bar and Grill located at 6870 Stirling Road\, Davie Fl 33024. This event is held the second Wednesday of every month. A family friendly atmosphere. The Cage serves excellent food and the drinks are always cold. So come on out and show off  your pride and joy. There are no registration fees for this event. For details contact TJ at 954 240 3592 or roadkingsofhollywood@gmail.com
URL:https://www.miamicars.com/event/road-kings-of-hollywood-cruise-in/2023-07-12/
LOCATION:The Cage Bar & Grill\, 6870 Stirling Road\, Hollywood\, Florida\, Miami\, FL\, 33024\, United States
CATEGORIES:Car Meet
ATTACH;FMTTYPE=image/jpeg:https://www.miamicars.com/wp-content/uploads/2022/06/The-Cage-Cruise-in-768x975-1.jpg
GEO:26.0453427;-80.2265763
X-APPLE-STRUCTURED-LOCATION;VALUE=URI;X-ADDRESS=The Cage Bar & Grill 6870 Stirling Road Hollywood Florida Miami FL 33024 United States;X-APPLE-RADIUS=500;X-TITLE=6870 Stirling Road\, Hollywood\, Florida:geo:-80.2265763,26.0453427
END:VEVENT
END:VCALENDAR