BEGIN:VCALENDAR
VERSION:2.0
PRODID:-//MiamiCars.com - ECPv6.0.1.1//NONSGML v1.0//EN
CALSCALE:GREGORIAN
METHOD:PUBLISH
X-WR-CALNAME:MiamiCars.com
X-ORIGINAL-URL:https://www.miamicars.com
X-WR-CALDESC:Events for MiamiCars.com
REFRESH-INTERVAL;VALUE=DURATION:PT1H
X-Robots-Tag:noindex
X-PUBLISHED-TTL:PT1H
BEGIN:VTIMEZONE
TZID:America/New_York
BEGIN:DAYLIGHT
TZOFFSETFROM:-0500
TZOFFSETTO:-0400
TZNAME:EDT
DTSTART:20220313T070000
END:DAYLIGHT
BEGIN:STANDARD
TZOFFSETFROM:-0400
TZOFFSETTO:-0500
TZNAME:EST
DTSTART:20221106T060000
END:STANDARD
BEGIN:DAYLIGHT
TZOFFSETFROM:-0500
TZOFFSETTO:-0400
TZNAME:EDT
DTSTART:20230312T070000
END:DAYLIGHT
BEGIN:STANDARD
TZOFFSETFROM:-0400
TZOFFSETTO:-0500
TZNAME:EST
DTSTART:20231105T060000
END:STANDARD
END:VTIMEZONE
BEGIN:VEVENT
DTSTART;TZID=America/New_York:20220617T060000
DTEND;TZID=America/New_York:20220617T090000
DTSTAMP:20260421T135447
CREATED:20220614T002510Z
LAST-MODIFIED:20220614T002510Z
UID:17338-1655445600-1655456400@www.miamicars.com
SUMMARY:The Palms Car Show
DESCRIPTION:
URL:https://www.miamicars.com/event/the-palms-car-show/
LOCATION:The Palms\, 501 NW Cashmere Blvd\, Port St Lucie\, Miami\, FL\, 34986\, United States
CATEGORIES:Car Show
ATTACH;FMTTYPE=image/jpeg:https://www.miamicars.com/wp-content/uploads/2022/06/061722nncc-1179x1536-1.jpg
GEO:27.3235994;-80.3772608
X-APPLE-STRUCTURED-LOCATION;VALUE=URI;X-ADDRESS=The Palms 501 NW Cashmere Blvd Port St Lucie Miami FL 34986 United States;X-APPLE-RADIUS=500;X-TITLE=501 NW Cashmere Blvd\, Port St Lucie:geo:-80.3772608,27.3235994
END:VEVENT
BEGIN:VEVENT
DTSTART;TZID=America/New_York:20230617T060000
DTEND;TZID=America/New_York:20230617T090000
DTSTAMP:20260421T135447
CREATED:20230616T213550Z
LAST-MODIFIED:20230616T213550Z
UID:41684-1686981600-1686992400@www.miamicars.com
SUMMARY:The Palms Car Show
DESCRIPTION:Hosted by the No Name Car Club.  Open to all years\, makes\, and models. Best in show award presented at 12;45pm.  Complimentary lunch to all cruisers.  50/50\, prizes\, trivia\, and music by Carlos & Friends.
URL:https://www.miamicars.com/event/the-palms-car-show-2/
LOCATION:The Palms\, 501 NW Cashmere Blvd\, Port St Lucie\, Miami\, FL\, 34986\, United States
CATEGORIES:Car Show
ATTACH;FMTTYPE=image/jpeg:https://www.miamicars.com/wp-content/uploads/2023/06/061723nncc-786x1024-1-1.jpg
GEO:27.3235994;-80.3772608
X-APPLE-STRUCTURED-LOCATION;VALUE=URI;X-ADDRESS=The Palms 501 NW Cashmere Blvd Port St Lucie Miami FL 34986 United States;X-APPLE-RADIUS=500;X-TITLE=501 NW Cashmere Blvd\, Port St Lucie:geo:-80.3772608,27.3235994
END:VEVENT
END:VCALENDAR