BEGIN:VCALENDAR
VERSION:2.0
PRODID:-//MiamiCars.com - ECPv6.0.1.1//NONSGML v1.0//EN
CALSCALE:GREGORIAN
METHOD:PUBLISH
X-WR-CALNAME:MiamiCars.com
X-ORIGINAL-URL:https://www.miamicars.com
X-WR-CALDESC:Events for MiamiCars.com
REFRESH-INTERVAL;VALUE=DURATION:PT1H
X-Robots-Tag:noindex
X-PUBLISHED-TTL:PT1H
BEGIN:VTIMEZONE
TZID:America/New_York
BEGIN:DAYLIGHT
TZOFFSETFROM:-0500
TZOFFSETTO:-0400
TZNAME:EDT
DTSTART:20230312T070000
END:DAYLIGHT
BEGIN:STANDARD
TZOFFSETFROM:-0400
TZOFFSETTO:-0500
TZNAME:EST
DTSTART:20231105T060000
END:STANDARD
BEGIN:DAYLIGHT
TZOFFSETFROM:-0500
TZOFFSETTO:-0400
TZNAME:EDT
DTSTART:20240310T070000
END:DAYLIGHT
BEGIN:STANDARD
TZOFFSETFROM:-0400
TZOFFSETTO:-0500
TZNAME:EST
DTSTART:20241103T060000
END:STANDARD
END:VTIMEZONE
BEGIN:VEVENT
DTSTART;TZID=America/New_York:20230114T050000
DTEND;TZID=America/New_York:20230114T100000
DTSTAMP:20260421T203459
CREATED:20221216T010346Z
LAST-MODIFIED:20221216T023711Z
UID:20360-1673672400-1673690400@www.miamicars.com
SUMMARY:16th Annual 100 Years of Cars
DESCRIPTION:Hosted by The Pine School.  All proceeds from the Car Show help children of active or veteran US military personnel attend The Pine School through the Patriot Scholarship.  Our nationally recognized car show will feature over 200 rare collector cars on display and include the following categories:  \n\n1.  Brass\, Antique and Classic Era through 1948 \n2.  European Production 1949-1995 \n3.  American Classics including Jeeps and Trucks 1949-1995 \n4.  Hot Rods and Muscle Cars \n5.  Modern Exotics (all makes) 1996 to Present \n6.  Porsche Vintage and Contemporary
URL:https://www.miamicars.com/event/16th-annual-100-years-of-cars/
LOCATION:The Pine School\, 12350 SE Federal Highway\, Hobe Sound\, FL\, 33455\, United States
CATEGORIES:Car Show
ATTACH;FMTTYPE=image/jpeg:https://www.miamicars.com/wp-content/uploads/2022/12/100.jpg
GEO:27.0537775;-80.1332896
X-APPLE-STRUCTURED-LOCATION;VALUE=URI;X-ADDRESS=The Pine School 12350 SE Federal Highway Hobe Sound FL 33455 United States;X-APPLE-RADIUS=500;X-TITLE=12350 SE Federal Highway:geo:-80.1332896,27.0537775
END:VEVENT
BEGIN:VEVENT
DTSTART;TZID=America/New_York:20240113T100000
DTEND;TZID=America/New_York:20240113T150000
DTSTAMP:20260421T203459
CREATED:20240105T135536Z
LAST-MODIFIED:20240105T135536Z
UID:160337-1705140000-1705158000@www.miamicars.com
SUMMARY:100 Years of Cars
DESCRIPTION:  \nHosted by The Pine School.  All proceeds will benefit The Pine School Patriot Scholarship\, a partial-tuition\, renewable scholarship awarded to a qualified PINE upper school student who is directly related to an active or veteran member of the United States Armed Forces. \nOver 200 cars in the following categories will be on display: \n\nBrass\, Antique\, and Classic Era (through 1948)\nEuropean Production (1949-1995)\nAmerican Classics (including Jeeps and Trucks) (1949-1995)\nHot Rods and Muscle Cars\nModern Exotics (all makes) (1996 to Present)\nPorsche Vintage and Contemporary\n\nAlong with the cars\, there will be food trucks and activities for children at this family friendly event.  Spectators tickets are $10 each.  Children 10 and under and active or veteran US military are free. \nhttps://www.thepineschool.org/support/signature-events/100-years-of-cars
URL:https://www.miamicars.com/event/100-years-of-cars/
LOCATION:The Pine School\, 12350 SE Federal Highway\, Hobe Sound\, FL\, 33455\, United States
CATEGORIES:Car Show
ATTACH;FMTTYPE=image/jpeg:https://www.miamicars.com/wp-content/uploads/2024/01/Car-Show-DIGITAL-POSTCARD_2024.jpg
GEO:27.0537775;-80.1332896
X-APPLE-STRUCTURED-LOCATION;VALUE=URI;X-ADDRESS=The Pine School 12350 SE Federal Highway Hobe Sound FL 33455 United States;X-APPLE-RADIUS=500;X-TITLE=12350 SE Federal Highway:geo:-80.1332896,27.0537775
END:VEVENT
END:VCALENDAR