BEGIN:VCALENDAR
VERSION:2.0
PRODID:-//MiamiCars.com - ECPv6.0.1.1//NONSGML v1.0//EN
CALSCALE:GREGORIAN
METHOD:PUBLISH
X-WR-CALNAME:MiamiCars.com
X-ORIGINAL-URL:https://www.miamicars.com
X-WR-CALDESC:Events for MiamiCars.com
REFRESH-INTERVAL;VALUE=DURATION:PT1H
X-Robots-Tag:noindex
X-PUBLISHED-TTL:PT1H
BEGIN:VTIMEZONE
TZID:America/New_York
BEGIN:DAYLIGHT
TZOFFSETFROM:-0500
TZOFFSETTO:-0400
TZNAME:EDT
DTSTART:20190310T070000
END:DAYLIGHT
BEGIN:STANDARD
TZOFFSETFROM:-0400
TZOFFSETTO:-0500
TZNAME:EST
DTSTART:20191103T060000
END:STANDARD
END:VTIMEZONE
BEGIN:VEVENT
DTSTART;TZID=America/New_York:20190213T150000
DTEND;TZID=America/New_York:20190214T183000
DTSTAMP:20260420T231721
CREATED:20190109T211012Z
LAST-MODIFIED:20190109T211052Z
UID:3266-1550070000-1550169000@www.miamicars.com
SUMMARY:VICE CITY LOVE 2019
DESCRIPTION:Vice City Love is an event where you can vibe to live music\, check out artwork\, hang with cars and grab a drink. This two-day festival is taking place February 13th & 14th @8pm-12am \nEnjoy a night out with your friends or your boo with music\, art\, cars and drink specials. Grab tickets while they are still hot!
URL:https://www.miamicars.com/event/vice-city-love-2019/
LOCATION:The Spot Wynwood\, 3201 Northwest 7th Avenue\, Miami\, FL\, 33127\, United States
CATEGORIES:Car Show
ATTACH;FMTTYPE=image/jpeg:https://www.miamicars.com/wp-content/uploads/2019/01/vice-city-love.jpeg
GEO:25.8065414;-80.2069892
X-APPLE-STRUCTURED-LOCATION;VALUE=URI;X-ADDRESS=The Spot Wynwood 3201 Northwest 7th Avenue Miami FL 33127 United States;X-APPLE-RADIUS=500;X-TITLE=3201 Northwest 7th Avenue:geo:-80.2069892,25.8065414
END:VEVENT
END:VCALENDAR