BEGIN:VCALENDAR
VERSION:2.0
PRODID:-//MiamiCars.com - ECPv6.0.1.1//NONSGML v1.0//EN
CALSCALE:GREGORIAN
METHOD:PUBLISH
X-ORIGINAL-URL:https://www.miamicars.com
X-WR-CALDESC:Events for MiamiCars.com
REFRESH-INTERVAL;VALUE=DURATION:PT1H
X-Robots-Tag:noindex
X-PUBLISHED-TTL:PT1H
BEGIN:VTIMEZONE
TZID:America/New_York
BEGIN:DAYLIGHT
TZOFFSETFROM:-0500
TZOFFSETTO:-0400
TZNAME:EDT
DTSTART:20230312T070000
END:DAYLIGHT
BEGIN:STANDARD
TZOFFSETFROM:-0400
TZOFFSETTO:-0500
TZNAME:EST
DTSTART:20231105T060000
END:STANDARD
END:VTIMEZONE
BEGIN:VEVENT
DTSTART;TZID=America/New_York:20230506T090000
DTEND;TZID=America/New_York:20230506T103000
DTSTAMP:20260422T161130
CREATED:20230428T003744Z
LAST-MODIFIED:20230428T003744Z
UID:29545-1683363600-1683369000@www.miamicars.com
SUMMARY:Racing Fan Fest
DESCRIPTION:ESPN is turning up the music by taking over the Racing Fan Fest Live stage in Miami for the first Formula 1 (F1) Grand Prix race in the United States this year with new creative\, live music performances\, curated playlists\, and more. \nOn Saturday\, May 6\, Gryffin will perform ‘Oceans’ in front of an expected 20\,000-plus fans during an exclusive early-access set at Wynwood Marketplace on 2250 NW Second Avenue. The song will be performed for the first time following its May 3 release. The set will be available live on ESPN and Gryffin’s YouTube channels so those who cannot attend can still soak in the music. To commemorate the moment\, fans will have the opportunity to receive F1 Rockstars of Racing t-shirts on-site. \nIn addition to the race telecast\, ESPN platforms also will air all three practice sessions from Miami as well as F1 qualifying. Racing Fan Fest\, produced by SWARM\, is the largest off-track fan festival and experiential special event experience. \nFor more information visit www.racingfanfest.com and follow us at @racingfanfest.com \n  \n\n\n\n\n\n\n\n\n\n\n\n\n\n\n\n\n\n\n\n\n\n\n\n\n\n\n\n\n\n\n\n\n\nRSVP + FREE DRINK
URL:https://www.miamicars.com/event/racing-fan-fest/
LOCATION:The Wynwood Marketplace\, 2250 NW 2nd Ave\, Miami\, FL\, 33127\, United States
CATEGORIES:Miami Grand Prix
ATTACH;FMTTYPE=image/jpeg:https://www.miamicars.com/wp-content/uploads/2023/04/https___cdn.evbuc_.com_images_500541899_184586633563_1_original.jpg
GEO:25.7986531;-80.1999289
X-APPLE-STRUCTURED-LOCATION;VALUE=URI;X-ADDRESS=The Wynwood Marketplace 2250 NW 2nd Ave Miami FL 33127 United States;X-APPLE-RADIUS=500;X-TITLE=2250 NW 2nd Ave:geo:-80.1999289,25.7986531
END:VEVENT
END:VCALENDAR