BEGIN:VCALENDAR
VERSION:2.0
PRODID:-//MiamiCars.com - ECPv6.0.1.1//NONSGML v1.0//EN
CALSCALE:GREGORIAN
METHOD:PUBLISH
X-ORIGINAL-URL:https://www.miamicars.com
X-WR-CALDESC:Events for MiamiCars.com
REFRESH-INTERVAL;VALUE=DURATION:PT1H
X-Robots-Tag:noindex
X-PUBLISHED-TTL:PT1H
BEGIN:VTIMEZONE
TZID:America/New_York
BEGIN:DAYLIGHT
TZOFFSETFROM:-0500
TZOFFSETTO:-0400
TZNAME:EDT
DTSTART:20190310T070000
END:DAYLIGHT
BEGIN:STANDARD
TZOFFSETFROM:-0400
TZOFFSETTO:-0500
TZNAME:EST
DTSTART:20191103T060000
END:STANDARD
END:VTIMEZONE
BEGIN:VEVENT
DTSTART;TZID=America/New_York:20190127T050000
DTEND;TZID=America/New_York:20190127T100000
DTSTAMP:20260421T024954
CREATED:20190116T231349Z
LAST-MODIFIED:20190116T231359Z
UID:3298-1548565200-1548583200@www.miamicars.com
SUMMARY:Open Car Show Tropical Park
DESCRIPTION:The Classic Thunderbird Club of South Florida proudly invites you to the 19th anniversary of the Open Car Show on Sunday\, January 27th at Tropical Park.
URL:https://www.miamicars.com/event/open-car-show-tropical-park/
LOCATION:Tropical Park\, 7900 SW 40th Street\, Miami\, FL\, 33155\, United States
CATEGORIES:Car Show
ATTACH;FMTTYPE=image/jpeg:https://www.miamicars.com/wp-content/uploads/2019/01/tbird-fl.jpg
GEO:25.7300061;-80.3237043
X-APPLE-STRUCTURED-LOCATION;VALUE=URI;X-ADDRESS=Tropical Park 7900 SW 40th Street Miami FL 33155 United States;X-APPLE-RADIUS=500;X-TITLE=7900 SW 40th Street:geo:-80.3237043,25.7300061
END:VEVENT
END:VCALENDAR