BEGIN:VCALENDAR
VERSION:2.0
PRODID:-//MiamiCars.com - ECPv6.0.1.1//NONSGML v1.0//EN
CALSCALE:GREGORIAN
METHOD:PUBLISH
X-ORIGINAL-URL:https://www.miamicars.com
X-WR-CALDESC:Events for MiamiCars.com
REFRESH-INTERVAL;VALUE=DURATION:PT1H
X-Robots-Tag:noindex
X-PUBLISHED-TTL:PT1H
BEGIN:VTIMEZONE
TZID:America/New_York
BEGIN:DAYLIGHT
TZOFFSETFROM:-0500
TZOFFSETTO:-0400
TZNAME:EDT
DTSTART:20230312T070000
END:DAYLIGHT
BEGIN:STANDARD
TZOFFSETFROM:-0400
TZOFFSETTO:-0500
TZNAME:EST
DTSTART:20231105T060000
END:STANDARD
BEGIN:DAYLIGHT
TZOFFSETFROM:-0500
TZOFFSETTO:-0400
TZNAME:EDT
DTSTART:20240310T070000
END:DAYLIGHT
BEGIN:STANDARD
TZOFFSETFROM:-0400
TZOFFSETTO:-0500
TZNAME:EST
DTSTART:20241103T060000
END:STANDARD
END:VTIMEZONE
BEGIN:VEVENT
DTSTART;TZID=America/New_York:20230311T040000
DTEND;TZID=America/New_York:20230311T080000
DTSTAMP:20260423T013449
CREATED:20230228T022705Z
LAST-MODIFIED:20230228T022705Z
UID:21972-1678507200-1678521600@www.miamicars.com
SUMMARY:5th Annual City of Sunrise Classic Car Show
DESCRIPTION:Hosted by Russ G Events.   All years\, makes\, and models welcome.  Registration opens at 8am\, judging begins at 10:30am\, award presentation at 12:30pm.  Dash plaques to the first 100 registered.  Top 40 awards\, plus club participation award\, people’s choice awards\, City of Sunrise top choice award\, and best of show award.  Food trucks\, vendors\, giveaways\, and DJ Lance providing the feel good tunes. Spectators are free.  Rain or shine.
URL:https://www.miamicars.com/event/5th-annual-city-of-sunrise-classic-car-show/
LOCATION:Welleby Park\, 11100 NW 44th. Street\, Sunrise\, Miami\, FL\, 33351\, United States
CATEGORIES:Car Show
ATTACH;FMTTYPE=image/jpeg:https://www.miamicars.com/wp-content/uploads/2023/02/65ED5257-B51F-434F-8C0E-3C96973CEF51-795x1024-1.jpeg
GEO:26.1783822;-80.2955201
X-APPLE-STRUCTURED-LOCATION;VALUE=URI;X-ADDRESS=Welleby Park 11100 NW 44th. Street Sunrise Miami FL 33351 United States;X-APPLE-RADIUS=500;X-TITLE=11100 NW 44th. Street\, Sunrise:geo:-80.2955201,26.1783822
END:VEVENT
BEGIN:VEVENT
DTSTART;TZID=America/New_York:20240309T100000
DTEND;TZID=America/New_York:20240309T130000
DTSTAMP:20260423T013449
CREATED:20240308T165456Z
LAST-MODIFIED:20240308T165456Z
UID:197484-1709978400-1709989200@www.miamicars.com
SUMMARY:6th Annual City of Sunrise Classic Car Show
DESCRIPTION:Presented by Russ G Events. All makes\, models\, and years welcome.  Dash plaques to the first 100 registered.  Awards for the top 25\, club participation\, peoples choice\, City of Sunrise top pick and best of show.  Food trucks\, vendors\, giveaways\, and DJ Lance providing the feel good tunes.  Registration opens at 8:30am\, judging begins at 10:30am\, trophy & awards presentation at 12:30pm.  Free admission & parking for spectators.  Rain or shine. Automotive vendors 10×10 spaces available for $35.
URL:https://www.miamicars.com/event/6th-annual-city-of-sunrise-classic-car-show/
LOCATION:Welleby Park\, 11100 NW 44th. Street\, Sunrise\, Miami\, FL\, 33351\, United States
CATEGORIES:Car Show,Classic Car Show
ATTACH;FMTTYPE=image/jpeg:https://www.miamicars.com/wp-content/uploads/2024/03/IMG_1593-750x1024.jpeg.jpg
GEO:26.1783822;-80.2955201
X-APPLE-STRUCTURED-LOCATION;VALUE=URI;X-ADDRESS=Welleby Park 11100 NW 44th. Street Sunrise Miami FL 33351 United States;X-APPLE-RADIUS=500;X-TITLE=11100 NW 44th. Street\, Sunrise:geo:-80.2955201,26.1783822
END:VEVENT
END:VCALENDAR