BEGIN:VCALENDAR
VERSION:2.0
PRODID:-//MiamiCars.com - ECPv6.0.1.1//NONSGML v1.0//EN
CALSCALE:GREGORIAN
METHOD:PUBLISH
X-ORIGINAL-URL:https://www.miamicars.com
X-WR-CALDESC:Events for MiamiCars.com
REFRESH-INTERVAL;VALUE=DURATION:PT1H
X-Robots-Tag:noindex
X-PUBLISHED-TTL:PT1H
BEGIN:VTIMEZONE
TZID:America/New_York
BEGIN:DAYLIGHT
TZOFFSETFROM:-0500
TZOFFSETTO:-0400
TZNAME:EDT
DTSTART:20220313T070000
END:DAYLIGHT
BEGIN:STANDARD
TZOFFSETFROM:-0400
TZOFFSETTO:-0500
TZNAME:EST
DTSTART:20221106T060000
END:STANDARD
END:VTIMEZONE
BEGIN:VEVENT
DTSTART;TZID=America/New_York:20220605T053000
DTEND;TZID=America/New_York:20220605T093000
DTSTAMP:20260425T070933
CREATED:20220421T232818Z
LAST-MODIFIED:20220527T215358Z
UID:15379-1654407000-1654421400@www.miamicars.com
SUMMARY:First Sunday Morning at the Park
DESCRIPTION:
URL:https://www.miamicars.com/event/first-sunday-morning-at-the-park/
LOCATION:Wellington Village Park\, 11700 Pierson Road\, Wellington\, Miami\, FL\, 33414\, United States
CATEGORIES:Car Show,Classic Car Show
ATTACH;FMTTYPE=image/jpeg:https://www.miamicars.com/wp-content/uploads/2022/04/AutoFest-ads-2022-04-14-trophy-note-conv-1-1187x1536-1.jpeg
GEO:26.6349129;-80.2309556
X-APPLE-STRUCTURED-LOCATION;VALUE=URI;X-ADDRESS=Wellington Village Park 11700 Pierson Road Wellington Miami FL 33414 United States;X-APPLE-RADIUS=500;X-TITLE=11700 Pierson Road\, Wellington:geo:-80.2309556,26.6349129
END:VEVENT
END:VCALENDAR